BEGIN:VCALENDAR
VERSION:2.0
PRODID:-//miserend.hu//1030//HU
CALSCALE:GREGORIAN
METHOD:PUBLISH
X-WR-CALNAME:Alexandriai Szent Katalin templom (Szőregi templom) - Szeged
X-WR-CALDESC:Frissített miserend automatikusan
X-WR-TIMEZONE:Europe/Budapest
BEGIN:VTIMEZONE
TZID:Europe/Budapest
X-LIC-LOCATION:Europe/Budapest
BEGIN:DAYLIGHT
TZOFFSETFROM:+0100
TZOFFSETTO:+0200
TZNAME:CEST
DTSTART:19700329T020000
RRULE:FREQ=YEARLY;BYMONTH=3;BYDAY=-1SU
END:DAYLIGHT
BEGIN:STANDARD
TZOFFSETFROM:+0200
TZOFFSETTO:+0100
TZNAME:CET
DTSTART:19701025T030000
RRULE:FREQ=YEARLY;BYMONTH=10;BYDAY=-1SU
END:STANDARD
END:VTIMEZONE
BEGIN:VEVENT
UID:101243-1094@miserend.hu
DTSTAMP:20260421T171800Z
DTSTART;TZID=Europe/Budapest:20260103T170000
DTEND;TZID=Europe/Budapest:20260103T180000
SUMMARY:Szentmise
COLOR:#6EC6FF
RRULE:FREQ=WEEKLY;UNTIL=20260329T215959;BYDAY=TU,WE,SA,TH
EXDATE;TZID=Europe/Budapest:20260119T230000,20260120T230000,20260213T230000,20260218T230000,20260224T230000,20260302T230000,20260303T230000,20260304T230000,20260310T230000,20260317T230000,20260320T230000,20260325T230000,20260328T230000
END:VEVENT
BEGIN:VEVENT
UID:101243-1133@miserend.hu
DTSTAMP:20260421T171800Z
DTSTART;TZID=Europe/Budapest:20261027T170000
DTEND;TZID=Europe/Budapest:20261027T180000
SUMMARY:Szentmise
COLOR:#6EC6FF
RRULE:FREQ=WEEKLY;UNTIL=20261231T225959;BYDAY=TU,WE,SA,TH
EXDATE;TZID=Europe/Budapest:20260119T230000,20260120T230000,20260213T230000,20260218T230000,20260224T230000,20260302T230000,20260303T230000,20260304T230000,20260310T230000,20260317T230000,20260320T230000,20260325T230000
END:VEVENT
BEGIN:VEVENT
UID:101244-1094@miserend.hu
DTSTAMP:20260421T171800Z
DTSTART;TZID=Europe/Budapest:20260104T090000
DTEND;TZID=Europe/Budapest:20260104T100000
SUMMARY:Szentmise
COLOR:#6EC6FF
RRULE:FREQ=WEEKLY;UNTIL=20260329T215959;BYDAY=SU
EXDATE;TZID=Europe/Budapest:20260328T230000
END:VEVENT
BEGIN:VEVENT
UID:101244-1133@miserend.hu
DTSTAMP:20260421T171800Z
DTSTART;TZID=Europe/Budapest:20261025T090000
DTEND;TZID=Europe/Budapest:20261025T100000
SUMMARY:Szentmise
COLOR:#6EC6FF
RRULE:FREQ=WEEKLY;UNTIL=20261231T225959;BYDAY=SU
END:VEVENT
BEGIN:VEVENT
UID:121503-1134@miserend.hu
DTSTAMP:20260421T171800Z
DTSTART;TZID=Europe/Budapest:20260407T170000
DTEND;TZID=Europe/Budapest:20260407T180000
SUMMARY:Szentmise
COLOR:#FFD480
RRULE:FREQ=WEEKLY;UNTIL=20261025T225959;BYDAY=TU,WE,TH
EXDATE;TZID=Europe/Budapest:20260330T220000,20260331T220000,20260401T220000,20260407T220000,20260408T220000,20260413T220000,20260414T220000,20260415T220000
END:VEVENT
BEGIN:VEVENT
UID:121504-1134@miserend.hu
DTSTAMP:20260421T171800Z
DTSTART;TZID=Europe/Budapest:20260411T180000
DTEND;TZID=Europe/Budapest:20260411T190000
SUMMARY:Szentmise
COLOR:#FFD480
RRULE:FREQ=WEEKLY;UNTIL=20261025T225959;BYDAY=SA
EXDATE;TZID=Europe/Budapest:20260403T220000
END:VEVENT
BEGIN:VEVENT
UID:121505-1134@miserend.hu
DTSTAMP:20260421T171800Z
DTSTART;TZID=Europe/Budapest:20260329T090000
DTEND;TZID=Europe/Budapest:20260329T100000
SUMMARY:Szentmise
COLOR:#FFD480
RRULE:FREQ=WEEKLY;UNTIL=20261025T225959;BYDAY=SU
END:VEVENT
BEGIN:VEVENT
UID:133574-133574-20260214180000@miserend.hu
DTSTAMP:20260421T171800Z
DTSTART;TZID=Europe/Budapest:20260214T180000
DTEND;TZID=Europe/Budapest:20260214T190000
SUMMARY:Szentmise
RRULE:FREQ=DAILY;COUNT=1;UNTIL=20260214T225959
END:VEVENT
BEGIN:VEVENT
UID:133677-133677-20260313161500@miserend.hu
DTSTAMP:20260421T171800Z
DTSTART;TZID=Europe/Budapest:20260313T161500
DTEND;TZID=Europe/Budapest:20260313T170000
SUMMARY:Szentmise
RRULE:FREQ=DAILY;COUNT=1;UNTIL=20260313T225959
END:VEVENT
BEGIN:VEVENT
UID:133678-133678-20260313170000@miserend.hu
DTSTAMP:20260421T171800Z
DTSTART;TZID=Europe/Budapest:20260313T170000
DTEND;TZID=Europe/Budapest:20260314T170000
SUMMARY:Szentségimádás
RRULE:FREQ=DAILY;COUNT=1;UNTIL=20260313T225959
END:VEVENT
BEGIN:VEVENT
UID:133679-133679-20260225170000@miserend.hu
DTSTAMP:20260421T171800Z
DTSTART;TZID=Europe/Budapest:20260225T170000
DTEND;TZID=Europe/Budapest:20260225T180000
SUMMARY:Szentmise
DESCRIPTION:Keresztút a szentmise után
RRULE:FREQ=DAILY;COUNT=1;UNTIL=20260225T225959
END:VEVENT
BEGIN:VEVENT
UID:133720-133720-20260306180000@miserend.hu
DTSTAMP:20260421T171800Z
DTSTART;TZID=Europe/Budapest:20260306T180000
DTEND;TZID=Europe/Budapest:20260306T190000
SUMMARY:Szentmise
DESCRIPTION:Elsőpéntek: 17:00-tól Gyóntatás
RRULE:FREQ=DAILY;COUNT=1;UNTIL=20260306T225959
END:VEVENT
BEGIN:VEVENT
UID:133721-133721-20260304170000@miserend.hu
DTSTAMP:20260421T171800Z
DTSTART;TZID=Europe/Budapest:20260304T170000
DTEND;TZID=Europe/Budapest:20260304T180000
SUMMARY:Szentmise
DESCRIPTION:Keresztút a szentmise után
RRULE:FREQ=DAILY;COUNT=1;UNTIL=20260304T225959
END:VEVENT
BEGIN:VEVENT
UID:133750-133750-20260311170000@miserend.hu
DTSTAMP:20260421T171800Z
DTSTART;TZID=Europe/Budapest:20260311T170000
DTEND;TZID=Europe/Budapest:20260311T180000
SUMMARY:Szentmise
DESCRIPTION:Keresztút a szentmise után
RRULE:FREQ=DAILY;COUNT=1;UNTIL=20260311T225959
END:VEVENT
BEGIN:VEVENT
UID:133776-133776-20260321180000@miserend.hu
DTSTAMP:20260421T171800Z
DTSTART;TZID=Europe/Budapest:20260321T180000
DTEND;TZID=Europe/Budapest:20260321T190000
SUMMARY:Szentmise
RRULE:FREQ=DAILY;COUNT=1;UNTIL=20260321T225959
END:VEVENT
BEGIN:VEVENT
UID:133777-133777-20260318170000@miserend.hu
DTSTAMP:20260421T171800Z
DTSTART;TZID=Europe/Budapest:20260318T170000
DTEND;TZID=Europe/Budapest:20260318T180000
SUMMARY:Szentmise
DESCRIPTION:Keresztút a szentmise után
RRULE:FREQ=DAILY;COUNT=1;UNTIL=20260318T225959
END:VEVENT
BEGIN:VEVENT
UID:134056-134056-20260402180000@miserend.hu
DTSTAMP:20260421T171800Z
DTSTART;TZID=Europe/Budapest:20260402T180000
DTEND;TZID=Europe/Budapest:20260402T190000
SUMMARY:Az utolsó vacsora emlékmiséje
RRULE:FREQ=DAILY;COUNT=1;UNTIL=20260402T215959
END:VEVENT
BEGIN:VEVENT
UID:134057-134057-20260403180000@miserend.hu
DTSTAMP:20260421T171800Z
DTSTART;TZID=Europe/Budapest:20260403T180000
DTEND;TZID=Europe/Budapest:20260403T190000
SUMMARY:Nagypénteki szertartás
RRULE:FREQ=DAILY;COUNT=1;UNTIL=20260403T215959
END:VEVENT
BEGIN:VEVENT
UID:134058-134058-20260404193000@miserend.hu
DTSTAMP:20260421T171800Z
DTSTART;TZID=Europe/Budapest:20260404T193000
DTEND;TZID=Europe/Budapest:20260404T203000
SUMMARY:Húsvét vigíliája
RRULE:FREQ=DAILY;COUNT=1;UNTIL=20260404T215959
END:VEVENT
BEGIN:VEVENT
UID:134059-134059-20260331170000@miserend.hu
DTSTAMP:20260421T171800Z
DTSTART;TZID=Europe/Budapest:20260331T170000
DTEND;TZID=Europe/Budapest:20260331T180000
SUMMARY:Szentmise
DESCRIPTION:Nagykedd
RRULE:FREQ=DAILY;COUNT=1;UNTIL=20260331T215959
END:VEVENT
BEGIN:VEVENT
UID:134060-134060-20260401170000@miserend.hu
DTSTAMP:20260421T171800Z
DTSTART;TZID=Europe/Budapest:20260401T170000
DTEND;TZID=Europe/Budapest:20260401T180000
SUMMARY:Szentmise
DESCRIPTION:Nagyszerda
RRULE:FREQ=DAILY;COUNT=1;UNTIL=20260401T215959
END:VEVENT
BEGIN:VEVENT
UID:134192-134192-20260406090000@miserend.hu
DTSTAMP:20260421T171800Z
DTSTART;TZID=Europe/Budapest:20260406T090000
DTEND;TZID=Europe/Budapest:20260406T100000
SUMMARY:Szentmise
RRULE:FREQ=DAILY;COUNT=1;UNTIL=20260406T215959
END:VEVENT
BEGIN:VEVENT
UID:134193-134193-20260408180000@miserend.hu
DTSTAMP:20260421T171800Z
DTSTART;TZID=Europe/Budapest:20260408T180000
DTEND;TZID=Europe/Budapest:20260408T190000
SUMMARY:Szentmise
RRULE:FREQ=DAILY;COUNT=1;UNTIL=20260408T215959
END:VEVENT
BEGIN:VEVENT
UID:134194-134194-20260409180000@miserend.hu
DTSTAMP:20260421T171800Z
DTSTART;TZID=Europe/Budapest:20260409T180000
DTEND;TZID=Europe/Budapest:20260409T190000
SUMMARY:Szentmise
RRULE:FREQ=DAILY;COUNT=1;UNTIL=20260409T215959
END:VEVENT
BEGIN:VEVENT
UID:134195-134195-20260410180000@miserend.hu
DTSTAMP:20260421T171800Z
DTSTART;TZID=Europe/Budapest:20260410T180000
DTEND;TZID=Europe/Budapest:20260410T190000
SUMMARY:Szentmise
RRULE:FREQ=DAILY;COUNT=1;UNTIL=20260410T215959
END:VEVENT
BEGIN:VEVENT
UID:134196-134196-20260410190000@miserend.hu
DTSTAMP:20260421T171800Z
DTSTART;TZID=Europe/Budapest:20260410T190000
DTEND;TZID=Europe/Budapest:20260411T190000
SUMMARY:Szentségimádás
RRULE:FREQ=DAILY;COUNT=1;UNTIL=20260410T215959
END:VEVENT
BEGIN:VEVENT
UID:134272-134272-20260414180000@miserend.hu
DTSTAMP:20260421T171800Z
DTSTART;TZID=Europe/Budapest:20260414T180000
DTEND;TZID=Europe/Budapest:20260414T190000
SUMMARY:Szentmise
RRULE:FREQ=DAILY;COUNT=1;UNTIL=20260414T215959
END:VEVENT
BEGIN:VEVENT
UID:134273-134273-20260415180000@miserend.hu
DTSTAMP:20260421T171800Z
DTSTART;TZID=Europe/Budapest:20260415T180000
DTEND;TZID=Europe/Budapest:20260415T190000
SUMMARY:Szentmise
RRULE:FREQ=DAILY;COUNT=1;UNTIL=20260415T215959
END:VEVENT
BEGIN:VEVENT
UID:134274-134274-20260416180000@miserend.hu
DTSTAMP:20260421T171800Z
DTSTART;TZID=Europe/Budapest:20260416T180000
DTEND;TZID=Europe/Budapest:20260416T190000
SUMMARY:Szentmise
RRULE:FREQ=DAILY;COUNT=1;UNTIL=20260416T215959
END:VEVENT
BEGIN:VEVENT
UID:101243-1133@miserend.hu
DTSTAMP:20260421T171800Z
DTSTART;TZID=Europe/Budapest:20270102T170000
DTEND;TZID=Europe/Budapest:20270102T180000
SUMMARY:Szentmise
COLOR:#6EC6FF
RRULE:FREQ=WEEKLY;UNTIL=20270328T215959;BYDAY=TU,WE,SA,TH
EXDATE;TZID=Europe/Budapest:20260119T230000,20260120T230000,20260213T230000,20260218T230000,20260224T230000,20260302T230000,20260303T230000,20260304T230000,20260310T230000,20260317T230000,20260320T230000,20260325T230000,20270327T230000
END:VEVENT
BEGIN:VEVENT
UID:101244-1133@miserend.hu
DTSTAMP:20260421T171800Z
DTSTART;TZID=Europe/Budapest:20270103T090000
DTEND;TZID=Europe/Budapest:20270103T100000
SUMMARY:Szentmise
COLOR:#6EC6FF
RRULE:FREQ=WEEKLY;UNTIL=20270328T215959;BYDAY=SU
EXDATE;TZID=Europe/Budapest:20270327T230000
END:VEVENT
BEGIN:VEVENT
UID:121503-1172@miserend.hu
DTSTAMP:20260421T171800Z
DTSTART;TZID=Europe/Budapest:20270330T170000
DTEND;TZID=Europe/Budapest:20270330T180000
SUMMARY:Szentmise
COLOR:#FFD480
RRULE:FREQ=WEEKLY;UNTIL=20271031T225959;BYDAY=TU,WE,TH
EXDATE;TZID=Europe/Budapest:20260330T220000,20260331T220000,20260401T220000,20260407T220000,20260408T220000,20260413T220000,20260414T220000,20260415T220000
END:VEVENT
BEGIN:VEVENT
UID:121504-1172@miserend.hu
DTSTAMP:20260421T171800Z
DTSTART;TZID=Europe/Budapest:20270403T180000
DTEND;TZID=Europe/Budapest:20270403T190000
SUMMARY:Szentmise
COLOR:#FFD480
RRULE:FREQ=WEEKLY;UNTIL=20271031T225959;BYDAY=SA
EXDATE;TZID=Europe/Budapest:20260403T220000
END:VEVENT
BEGIN:VEVENT
UID:121505-1172@miserend.hu
DTSTAMP:20260421T171800Z
DTSTART;TZID=Europe/Budapest:20270328T090000
DTEND;TZID=Europe/Budapest:20270328T100000
SUMMARY:Szentmise
COLOR:#FFD480
RRULE:FREQ=WEEKLY;UNTIL=20271031T225959;BYDAY=SU
END:VEVENT
END:VCALENDAR