BEGIN:VCALENDAR
VERSION:2.0
PRODID:-//miserend.hu//1060//HU
CALSCALE:GREGORIAN
METHOD:PUBLISH
X-WR-CALNAME:Kisboldogasszony-templom - Akasztó
X-WR-CALDESC:Frissített miserend automatikusan
X-WR-TIMEZONE:Europe/Budapest
BEGIN:VTIMEZONE
TZID:Europe/Budapest
X-LIC-LOCATION:Europe/Budapest
BEGIN:DAYLIGHT
TZOFFSETFROM:+0100
TZOFFSETTO:+0200
TZNAME:CEST
DTSTART:19700329T020000
RRULE:FREQ=YEARLY;BYMONTH=3;BYDAY=-1SU
END:DAYLIGHT
BEGIN:STANDARD
TZOFFSETFROM:+0200
TZOFFSETTO:+0100
TZNAME:CET
DTSTART:19701025T030000
RRULE:FREQ=YEARLY;BYMONTH=10;BYDAY=-1SU
END:STANDARD
END:VTIMEZONE
BEGIN:VEVENT
UID:101302-1134@miserend.hu
DTSTAMP:20260421T172431Z
DTSTART;TZID=Europe/Budapest:20260401T180000
DTEND;TZID=Europe/Budapest:20260401T190000
SUMMARY:Szentmise
COLOR:#FFD480
RRULE:FREQ=WEEKLY;UNTIL=20261025T225959;BYDAY=MO,WE,FR,SA
EXDATE;TZID=Europe/Budapest:20260328T230000,20260329T220000,20260330T220000,20260930T220000,20261001T220000,20261002T220000,20261003T220000,20261004T220000,20261005T220000,20261006T220000,20261007T220000,20261008T220000,20261009T220000,20261010T220000,20261011T220000,20261012T220000,20261013T220000,20261014T220000,20261015T220000,20261016T220000,20261017T220000,20261018T220000,20261019T220000,20261020T220000,20261021T220000,20261022T220000,20261023T220000,20261024T220000
END:VEVENT
BEGIN:VEVENT
UID:101303-1134@miserend.hu
DTSTAMP:20260421T172431Z
DTSTART;TZID=Europe/Budapest:20260405T100000
DTEND;TZID=Europe/Budapest:20260405T110000
SUMMARY:Szentmise
CATEGORIES:STUDENT
COLOR:#FFD480
RRULE:FREQ=WEEKLY;UNTIL=20261025T225959;BYDAY=SU
EXDATE;TZID=Europe/Budapest:20260328T230000,20260329T220000,20260330T220000,20260930T220000,20261001T220000,20261002T220000,20261003T220000,20261004T220000,20261005T220000,20261006T220000,20261007T220000,20261008T220000,20261009T220000,20261010T220000,20261011T220000,20261012T220000,20261013T220000,20261014T220000,20261015T220000,20261016T220000,20261017T220000,20261018T220000,20261019T220000,20261020T220000,20261021T220000,20261022T220000,20261023T220000,20261024T220000
END:VEVENT
BEGIN:VEVENT
UID:101304-1108@miserend.hu
DTSTAMP:20260421T172431Z
DTSTART;TZID=Europe/Budapest:20261002T170000
DTEND;TZID=Europe/Budapest:20261002T180000
SUMMARY:Szentmise
COLOR:#FF944D
RRULE:FREQ=WEEKLY;UNTIL=20261101T225959;BYDAY=MO,WE,FR,SA
END:VEVENT
BEGIN:VEVENT
UID:101305-1108@miserend.hu
DTSTAMP:20260421T172431Z
DTSTART;TZID=Europe/Budapest:20261004T100000
DTEND;TZID=Europe/Budapest:20261004T110000
SUMMARY:Szentmise
CATEGORIES:STUDENT
COLOR:#FF944D
RRULE:FREQ=WEEKLY;UNTIL=20261101T225959;BYDAY=SU
END:VEVENT
BEGIN:VEVENT
UID:101306-1117@miserend.hu
DTSTAMP:20260421T172431Z
DTSTART;TZID=Europe/Budapest:20260302T170000
DTEND;TZID=Europe/Budapest:20260302T180000
SUMMARY:Szentmise
COLOR:#98E89F
RRULE:FREQ=WEEKLY;UNTIL=20260401T215959;BYDAY=MO,WE,FR,SA
END:VEVENT
BEGIN:VEVENT
UID:101307-1117@miserend.hu
DTSTAMP:20260421T172431Z
DTSTART;TZID=Europe/Budapest:20260301T100000
DTEND;TZID=Europe/Budapest:20260301T110000
SUMMARY:Szentmise
CATEGORIES:STUDENT
COLOR:#98E89F
RRULE:FREQ=WEEKLY;UNTIL=20260401T215959;BYDAY=SU
END:VEVENT
BEGIN:VEVENT
UID:101308-1094@miserend.hu
DTSTAMP:20260421T172431Z
DTSTART;TZID=Europe/Budapest:20260102T160000
DTEND;TZID=Europe/Budapest:20260102T170000
SUMMARY:Szentmise
COLOR:#6EC6FF
RRULE:FREQ=WEEKLY;UNTIL=20260329T215959;BYDAY=MO,WE,FR,SA
EXDATE;TZID=Europe/Budapest:20260228T230000,20260301T230000,20260302T230000,20260303T230000,20260304T230000,20260305T230000,20260306T230000,20260307T230000,20260308T230000,20260309T230000,20260310T230000,20260311T230000,20260312T230000,20260313T230000,20260314T230000,20260315T230000,20260316T230000,20260317T230000,20260318T230000,20260319T230000,20260320T230000,20260321T230000,20260322T230000,20260323T230000,20260324T230000,20260325T230000,20260326T230000,20260327T230000,20260328T230000
END:VEVENT
BEGIN:VEVENT
UID:101308-1133@miserend.hu
DTSTAMP:20260421T172431Z
DTSTART;TZID=Europe/Budapest:20261102T160000
DTEND;TZID=Europe/Budapest:20261102T170000
SUMMARY:Szentmise
COLOR:#6EC6FF
RRULE:FREQ=WEEKLY;UNTIL=20261231T225959;BYDAY=MO,WE,FR,SA
EXDATE;TZID=Europe/Budapest:20261024T220000,20261025T230000,20261026T230000,20261027T230000,20261028T230000,20261029T230000,20261030T230000
END:VEVENT
BEGIN:VEVENT
UID:101309-1094@miserend.hu
DTSTAMP:20260421T172431Z
DTSTART;TZID=Europe/Budapest:20260104T100000
DTEND;TZID=Europe/Budapest:20260104T110000
SUMMARY:Szentmise
CATEGORIES:STUDENT
COLOR:#6EC6FF
RRULE:FREQ=WEEKLY;UNTIL=20260329T215959;BYDAY=SU
EXDATE;TZID=Europe/Budapest:20260228T230000,20260301T230000,20260302T230000,20260303T230000,20260304T230000,20260305T230000,20260306T230000,20260307T230000,20260308T230000,20260309T230000,20260310T230000,20260311T230000,20260312T230000,20260313T230000,20260314T230000,20260315T230000,20260316T230000,20260317T230000,20260318T230000,20260319T230000,20260320T230000,20260321T230000,20260322T230000,20260323T230000,20260324T230000,20260325T230000,20260326T230000,20260327T230000,20260328T230000
END:VEVENT
BEGIN:VEVENT
UID:101309-1133@miserend.hu
DTSTAMP:20260421T172431Z
DTSTART;TZID=Europe/Budapest:20261101T100000
DTEND;TZID=Europe/Budapest:20261101T110000
SUMMARY:Szentmise
CATEGORIES:STUDENT
COLOR:#6EC6FF
RRULE:FREQ=WEEKLY;UNTIL=20261231T225959;BYDAY=SU
EXDATE;TZID=Europe/Budapest:20261024T220000,20261025T230000,20261026T230000,20261027T230000,20261028T230000,20261029T230000,20261030T230000
END:VEVENT
BEGIN:VEVENT
UID:101302-1172@miserend.hu
DTSTAMP:20260421T172431Z
DTSTART;TZID=Europe/Budapest:20270402T180000
DTEND;TZID=Europe/Budapest:20270402T190000
SUMMARY:Szentmise
COLOR:#FFD480
RRULE:FREQ=WEEKLY;UNTIL=20271031T225959;BYDAY=MO,WE,FR,SA
EXDATE;TZID=Europe/Budapest:20270327T230000,20270328T220000,20270329T220000,20270330T220000,20270930T220000,20271001T220000,20271002T220000,20271003T220000,20271004T220000,20271005T220000,20271006T220000,20271007T220000,20271008T220000,20271009T220000,20271010T220000,20271011T220000,20271012T220000,20271013T220000,20271014T220000,20271015T220000,20271016T220000,20271017T220000,20271018T220000,20271019T220000,20271020T220000,20271021T220000,20271022T220000,20271023T220000,20271024T220000,20271025T220000,20271026T220000,20271027T220000,20271028T220000,20271029T220000,20271030T220000
END:VEVENT
BEGIN:VEVENT
UID:101303-1172@miserend.hu
DTSTAMP:20260421T172431Z
DTSTART;TZID=Europe/Budapest:20270404T100000
DTEND;TZID=Europe/Budapest:20270404T110000
SUMMARY:Szentmise
CATEGORIES:STUDENT
COLOR:#FFD480
RRULE:FREQ=WEEKLY;UNTIL=20271031T225959;BYDAY=SU
EXDATE;TZID=Europe/Budapest:20270327T230000,20270328T220000,20270329T220000,20270330T220000,20270930T220000,20271001T220000,20271002T220000,20271003T220000,20271004T220000,20271005T220000,20271006T220000,20271007T220000,20271008T220000,20271009T220000,20271010T220000,20271011T220000,20271012T220000,20271013T220000,20271014T220000,20271015T220000,20271016T220000,20271017T220000,20271018T220000,20271019T220000,20271020T220000,20271021T220000,20271022T220000,20271023T220000,20271024T220000,20271025T220000,20271026T220000,20271027T220000,20271028T220000,20271029T220000,20271030T220000
END:VEVENT
BEGIN:VEVENT
UID:101304-1147@miserend.hu
DTSTAMP:20260421T172431Z
DTSTART;TZID=Europe/Budapest:20271001T170000
DTEND;TZID=Europe/Budapest:20271001T180000
SUMMARY:Szentmise
COLOR:#FF944D
RRULE:FREQ=WEEKLY;UNTIL=20271101T225959;BYDAY=MO,WE,FR,SA
END:VEVENT
BEGIN:VEVENT
UID:101305-1147@miserend.hu
DTSTAMP:20260421T172431Z
DTSTART;TZID=Europe/Budapest:20271003T100000
DTEND;TZID=Europe/Budapest:20271003T110000
SUMMARY:Szentmise
CATEGORIES:STUDENT
COLOR:#FF944D
RRULE:FREQ=WEEKLY;UNTIL=20271101T225959;BYDAY=SU
END:VEVENT
BEGIN:VEVENT
UID:101306-1156@miserend.hu
DTSTAMP:20260421T172431Z
DTSTART;TZID=Europe/Budapest:20270301T170000
DTEND;TZID=Europe/Budapest:20270301T180000
SUMMARY:Szentmise
COLOR:#98E89F
RRULE:FREQ=WEEKLY;UNTIL=20270401T215959;BYDAY=MO,WE,FR,SA
END:VEVENT
BEGIN:VEVENT
UID:101307-1156@miserend.hu
DTSTAMP:20260421T172431Z
DTSTART;TZID=Europe/Budapest:20270307T100000
DTEND;TZID=Europe/Budapest:20270307T110000
SUMMARY:Szentmise
CATEGORIES:STUDENT
COLOR:#98E89F
RRULE:FREQ=WEEKLY;UNTIL=20270401T215959;BYDAY=SU
END:VEVENT
BEGIN:VEVENT
UID:101308-1133@miserend.hu
DTSTAMP:20260421T172431Z
DTSTART;TZID=Europe/Budapest:20270101T160000
DTEND;TZID=Europe/Budapest:20270101T170000
SUMMARY:Szentmise
COLOR:#6EC6FF
RRULE:FREQ=WEEKLY;UNTIL=20270328T215959;BYDAY=MO,WE,FR,SA
EXDATE;TZID=Europe/Budapest:20270228T230000,20270301T230000,20270302T230000,20270303T230000,20270304T230000,20270305T230000,20270306T230000,20270307T230000,20270308T230000,20270309T230000,20270310T230000,20270311T230000,20270312T230000,20270313T230000,20270314T230000,20270315T230000,20270316T230000,20270317T230000,20270318T230000,20270319T230000,20270320T230000,20270321T230000,20270322T230000,20270323T230000,20270324T230000,20270325T230000,20270326T230000,20270327T230000
END:VEVENT
BEGIN:VEVENT
UID:101309-1133@miserend.hu
DTSTAMP:20260421T172431Z
DTSTART;TZID=Europe/Budapest:20270103T100000
DTEND;TZID=Europe/Budapest:20270103T110000
SUMMARY:Szentmise
CATEGORIES:STUDENT
COLOR:#6EC6FF
RRULE:FREQ=WEEKLY;UNTIL=20270328T215959;BYDAY=SU
EXDATE;TZID=Europe/Budapest:20270228T230000,20270301T230000,20270302T230000,20270303T230000,20270304T230000,20270305T230000,20270306T230000,20270307T230000,20270308T230000,20270309T230000,20270310T230000,20270311T230000,20270312T230000,20270313T230000,20270314T230000,20270315T230000,20270316T230000,20270317T230000,20270318T230000,20270319T230000,20270320T230000,20270321T230000,20270322T230000,20270323T230000,20270324T230000,20270325T230000,20270326T230000,20270327T230000
END:VEVENT
END:VCALENDAR