BEGIN:VCALENDAR
VERSION:2.0
PRODID:-//miserend.hu//1160//HU
CALSCALE:GREGORIAN
METHOD:PUBLISH
X-WR-CALNAME:Szent Imre-templom - Zagyvarékas
X-WR-CALDESC:Frissített miserend automatikusan
X-WR-TIMEZONE:Europe/Budapest
BEGIN:VTIMEZONE
TZID:Europe/Budapest
X-LIC-LOCATION:Europe/Budapest
BEGIN:DAYLIGHT
TZOFFSETFROM:+0100
TZOFFSETTO:+0200
TZNAME:CEST
DTSTART:19700329T020000
RRULE:FREQ=YEARLY;BYMONTH=3;BYDAY=-1SU
END:DAYLIGHT
BEGIN:STANDARD
TZOFFSETFROM:+0200
TZOFFSETTO:+0100
TZNAME:CET
DTSTART:19701025T030000
RRULE:FREQ=YEARLY;BYMONTH=10;BYDAY=-1SU
END:STANDARD
END:VTIMEZONE
BEGIN:VEVENT
UID:132504-1134@miserend.hu
DTSTAMP:20260420T190159Z
DTSTART;TZID=Europe/Budapest:20260330T170000
DTEND;TZID=Europe/Budapest:20260330T180000
SUMMARY:Szentmise
COLOR:#FFD480
RRULE:FREQ=WEEKLY;UNTIL=20261025T225959;BYDAY=MO,SA
END:VEVENT
BEGIN:VEVENT
UID:132505-1134@miserend.hu
DTSTAMP:20260420T190159Z
DTSTART;TZID=Europe/Budapest:20260329T103000
DTEND;TZID=Europe/Budapest:20260329T113000
SUMMARY:Szentmise
COLOR:#FFD480
RRULE:FREQ=WEEKLY;UNTIL=20261025T225959;BYDAY=SU
END:VEVENT
BEGIN:VEVENT
UID:132506-1094@miserend.hu
DTSTAMP:20260420T190159Z
DTSTART;TZID=Europe/Budapest:20260102T160000
DTEND;TZID=Europe/Budapest:20260102T170000
SUMMARY:Szentmise
COLOR:#6EC6FF
RRULE:FREQ=WEEKLY;UNTIL=20260329T215959;BYDAY=MO,FR
EXDATE;TZID=Europe/Budapest:20260328T230000
END:VEVENT
BEGIN:VEVENT
UID:132506-1133@miserend.hu
DTSTAMP:20260420T190159Z
DTSTART;TZID=Europe/Budapest:20261026T160000
DTEND;TZID=Europe/Budapest:20261026T170000
SUMMARY:Szentmise
COLOR:#6EC6FF
RRULE:FREQ=WEEKLY;UNTIL=20261231T225959;BYDAY=MO,FR
END:VEVENT
BEGIN:VEVENT
UID:132507-1094@miserend.hu
DTSTAMP:20260420T190159Z
DTSTART;TZID=Europe/Budapest:20260104T103000
DTEND;TZID=Europe/Budapest:20260104T113000
SUMMARY:Szentmise
COLOR:#6EC6FF
RRULE:FREQ=WEEKLY;UNTIL=20260329T215959;BYDAY=SU
EXDATE;TZID=Europe/Budapest:20260328T230000
END:VEVENT
BEGIN:VEVENT
UID:132507-1133@miserend.hu
DTSTAMP:20260420T190159Z
DTSTART;TZID=Europe/Budapest:20261025T103000
DTEND;TZID=Europe/Budapest:20261025T113000
SUMMARY:Szentmise
COLOR:#6EC6FF
RRULE:FREQ=WEEKLY;UNTIL=20261231T225959;BYDAY=SU
END:VEVENT
BEGIN:VEVENT
UID:132504-1172@miserend.hu
DTSTAMP:20260420T190159Z
DTSTART;TZID=Europe/Budapest:20270329T170000
DTEND;TZID=Europe/Budapest:20270329T180000
SUMMARY:Szentmise
COLOR:#FFD480
RRULE:FREQ=WEEKLY;UNTIL=20271031T225959;BYDAY=MO,SA
END:VEVENT
BEGIN:VEVENT
UID:132505-1172@miserend.hu
DTSTAMP:20260420T190159Z
DTSTART;TZID=Europe/Budapest:20270328T103000
DTEND;TZID=Europe/Budapest:20270328T113000
SUMMARY:Szentmise
COLOR:#FFD480
RRULE:FREQ=WEEKLY;UNTIL=20271031T225959;BYDAY=SU
END:VEVENT
BEGIN:VEVENT
UID:132506-1133@miserend.hu
DTSTAMP:20260420T190159Z
DTSTART;TZID=Europe/Budapest:20270101T160000
DTEND;TZID=Europe/Budapest:20270101T170000
SUMMARY:Szentmise
COLOR:#6EC6FF
RRULE:FREQ=WEEKLY;UNTIL=20270328T215959;BYDAY=MO,FR
EXDATE;TZID=Europe/Budapest:20270327T230000
END:VEVENT
BEGIN:VEVENT
UID:132507-1133@miserend.hu
DTSTAMP:20260420T190159Z
DTSTART;TZID=Europe/Budapest:20270103T103000
DTEND;TZID=Europe/Budapest:20270103T113000
SUMMARY:Szentmise
COLOR:#6EC6FF
RRULE:FREQ=WEEKLY;UNTIL=20270328T215959;BYDAY=SU
EXDATE;TZID=Europe/Budapest:20270327T230000
END:VEVENT
END:VCALENDAR