BEGIN:VCALENDAR
VERSION:2.0
PRODID:-//miserend.hu//1213//HU
CALSCALE:GREGORIAN
METHOD:PUBLISH
X-WR-CALNAME:Szent Imre-templom - Úri
X-WR-CALDESC:Frissített miserend automatikusan
X-WR-TIMEZONE:Europe/Budapest
BEGIN:VTIMEZONE
TZID:Europe/Budapest
X-LIC-LOCATION:Europe/Budapest
BEGIN:DAYLIGHT
TZOFFSETFROM:+0100
TZOFFSETTO:+0200
TZNAME:CEST
DTSTART:19700329T020000
RRULE:FREQ=YEARLY;BYMONTH=3;BYDAY=-1SU
END:DAYLIGHT
BEGIN:STANDARD
TZOFFSETFROM:+0200
TZOFFSETTO:+0100
TZNAME:CET
DTSTART:19701025T030000
RRULE:FREQ=YEARLY;BYMONTH=10;BYDAY=-1SU
END:STANDARD
END:VTIMEZONE
BEGIN:VEVENT
UID:132518-1137@miserend.hu
DTSTAMP:20260422T184214Z
DTSTART;TZID=Europe/Budapest:20261130T060000
DTEND;TZID=Europe/Budapest:20261130T070000
SUMMARY:Szentmise
COLOR:#6A0DAD
RRULE:FREQ=WEEKLY;UNTIL=20261224T225959;BYDAY=MO,WE,TH,TU
END:VEVENT
BEGIN:VEVENT
UID:132519-1137@miserend.hu
DTSTAMP:20260422T184214Z
DTSTART;TZID=Europe/Budapest:20261205T180000
DTEND;TZID=Europe/Budapest:20261205T190000
SUMMARY:Szentmise
COLOR:#6A0DAD
RRULE:FREQ=WEEKLY;UNTIL=20261224T225959;BYDAY=SA
END:VEVENT
BEGIN:VEVENT
UID:132520-1137@miserend.hu
DTSTAMP:20260422T184214Z
DTSTART;TZID=Europe/Budapest:20261129T093000
DTEND;TZID=Europe/Budapest:20261129T103000
SUMMARY:Szentmise
COLOR:#6A0DAD
RRULE:FREQ=WEEKLY;UNTIL=20261224T225959;BYDAY=SU
END:VEVENT
BEGIN:VEVENT
UID:132521-1136@miserend.hu
DTSTAMP:20260422T184214Z
DTSTART;TZID=Europe/Budapest:20260619T190000
DTEND;TZID=Europe/Budapest:20260619T200000
SUMMARY:Szentmise
COLOR:#FFCC66
RRULE:FREQ=WEEKLY;UNTIL=20260831T215959;BYDAY=MO,WE,FR,SA
END:VEVENT
BEGIN:VEVENT
UID:132522-1136@miserend.hu
DTSTAMP:20260422T184214Z
DTSTART;TZID=Europe/Budapest:20260621T093000
DTEND;TZID=Europe/Budapest:20260621T103000
SUMMARY:Szentmise
COLOR:#FFCC66
RRULE:FREQ=WEEKLY;UNTIL=20260831T215959;BYDAY=SU
END:VEVENT
BEGIN:VEVENT
UID:132523-1103@miserend.hu
DTSTAMP:20260422T184214Z
DTSTART;TZID=Europe/Budapest:20260102T180000
DTEND;TZID=Europe/Budapest:20260102T190000
SUMMARY:Szentmise
COLOR:#6699FF
RRULE:FREQ=WEEKLY;UNTIL=20260619T215959;BYDAY=MO,WE,FR,SA
EXDATE;TZID=Europe/Budapest:20260618T220000
END:VEVENT
BEGIN:VEVENT
UID:132523-1142@miserend.hu
DTSTAMP:20260422T184214Z
DTSTART;TZID=Europe/Budapest:20260831T180000
DTEND;TZID=Europe/Budapest:20260831T190000
SUMMARY:Szentmise
COLOR:#6699FF
RRULE:FREQ=WEEKLY;UNTIL=20261231T225959;BYDAY=MO,WE,FR,SA
EXDATE;TZID=Europe/Budapest:20261128T230000,20261129T230000,20261130T230000,20261201T230000,20261202T230000,20261203T230000,20261204T230000,20261205T230000,20261206T230000,20261207T230000,20261208T230000,20261209T230000,20261210T230000,20261211T230000,20261212T230000,20261213T230000,20261214T230000,20261215T230000,20261216T230000,20261217T230000,20261218T230000,20261219T230000,20261220T230000,20261221T230000,20261222T230000
END:VEVENT
BEGIN:VEVENT
UID:132524-1103@miserend.hu
DTSTAMP:20260422T184214Z
DTSTART;TZID=Europe/Budapest:20260104T093000
DTEND;TZID=Europe/Budapest:20260104T103000
SUMMARY:Szentmise
COLOR:#6699FF
RRULE:FREQ=WEEKLY;UNTIL=20260619T215959;BYDAY=SU
EXDATE;TZID=Europe/Budapest:20260618T220000
END:VEVENT
BEGIN:VEVENT
UID:132524-1142@miserend.hu
DTSTAMP:20260422T184214Z
DTSTART;TZID=Europe/Budapest:20260906T093000
DTEND;TZID=Europe/Budapest:20260906T103000
SUMMARY:Szentmise
COLOR:#6699FF
RRULE:FREQ=WEEKLY;UNTIL=20261231T225959;BYDAY=SU
EXDATE;TZID=Europe/Budapest:20261128T230000,20261129T230000,20261130T230000,20261201T230000,20261202T230000,20261203T230000,20261204T230000,20261205T230000,20261206T230000,20261207T230000,20261208T230000,20261209T230000,20261210T230000,20261211T230000,20261212T230000,20261213T230000,20261214T230000,20261215T230000,20261216T230000,20261217T230000,20261218T230000,20261219T230000,20261220T230000,20261221T230000,20261222T230000
END:VEVENT
BEGIN:VEVENT
UID:132518-1175@miserend.hu
DTSTAMP:20260422T184214Z
DTSTART;TZID=Europe/Budapest:20271129T060000
DTEND;TZID=Europe/Budapest:20271129T070000
SUMMARY:Szentmise
COLOR:#6A0DAD
RRULE:FREQ=WEEKLY;UNTIL=20271224T225959;BYDAY=MO,WE,TH,TU
END:VEVENT
BEGIN:VEVENT
UID:132519-1175@miserend.hu
DTSTAMP:20260422T184214Z
DTSTART;TZID=Europe/Budapest:20271204T180000
DTEND;TZID=Europe/Budapest:20271204T190000
SUMMARY:Szentmise
COLOR:#6A0DAD
RRULE:FREQ=WEEKLY;UNTIL=20271224T225959;BYDAY=SA
END:VEVENT
BEGIN:VEVENT
UID:132520-1175@miserend.hu
DTSTAMP:20260422T184214Z
DTSTART;TZID=Europe/Budapest:20271128T093000
DTEND;TZID=Europe/Budapest:20271128T103000
SUMMARY:Szentmise
COLOR:#6A0DAD
RRULE:FREQ=WEEKLY;UNTIL=20271224T225959;BYDAY=SU
END:VEVENT
BEGIN:VEVENT
UID:132521-1174@miserend.hu
DTSTAMP:20260422T184214Z
DTSTART;TZID=Europe/Budapest:20270630T190000
DTEND;TZID=Europe/Budapest:20270630T200000
SUMMARY:Szentmise
COLOR:#FFCC66
RRULE:FREQ=WEEKLY;UNTIL=20270901T215959;BYDAY=MO,WE,FR,SA
END:VEVENT
BEGIN:VEVENT
UID:132522-1174@miserend.hu
DTSTAMP:20260422T184214Z
DTSTART;TZID=Europe/Budapest:20270704T093000
DTEND;TZID=Europe/Budapest:20270704T103000
SUMMARY:Szentmise
COLOR:#FFCC66
RRULE:FREQ=WEEKLY;UNTIL=20270901T215959;BYDAY=SU
END:VEVENT
BEGIN:VEVENT
UID:132523-1142@miserend.hu
DTSTAMP:20260422T184214Z
DTSTART;TZID=Europe/Budapest:20270101T180000
DTEND;TZID=Europe/Budapest:20270101T190000
SUMMARY:Szentmise
COLOR:#6699FF
RRULE:FREQ=WEEKLY;UNTIL=20270630T215959;BYDAY=MO,WE,FR,SA
EXDATE;TZID=Europe/Budapest:20270629T220000
END:VEVENT
BEGIN:VEVENT
UID:132524-1142@miserend.hu
DTSTAMP:20260422T184214Z
DTSTART;TZID=Europe/Budapest:20270103T093000
DTEND;TZID=Europe/Budapest:20270103T103000
SUMMARY:Szentmise
COLOR:#6699FF
RRULE:FREQ=WEEKLY;UNTIL=20270630T215959;BYDAY=SU
EXDATE;TZID=Europe/Budapest:20270629T220000
END:VEVENT
END:VCALENDAR