BEGIN:VCALENDAR
VERSION:2.0
PRODID:-//miserend.hu//1666//HU
CALSCALE:GREGORIAN
METHOD:PUBLISH
X-WR-CALNAME:Szeplőtelen Fogantatás-templom - Markaz
X-WR-CALDESC:Frissített miserend automatikusan
X-WR-TIMEZONE:Europe/Budapest
BEGIN:VTIMEZONE
TZID:Europe/Budapest
X-LIC-LOCATION:Europe/Budapest
BEGIN:DAYLIGHT
TZOFFSETFROM:+0100
TZOFFSETTO:+0200
TZNAME:CEST
DTSTART:19700329T020000
RRULE:FREQ=YEARLY;BYMONTH=3;BYDAY=-1SU
END:DAYLIGHT
BEGIN:STANDARD
TZOFFSETFROM:+0200
TZOFFSETTO:+0100
TZNAME:CET
DTSTART:19701025T030000
RRULE:FREQ=YEARLY;BYMONTH=10;BYDAY=-1SU
END:STANDARD
END:VTIMEZONE
BEGIN:VEVENT
UID:130845-1135@miserend.hu
DTSTAMP:20260419T143412Z
DTSTART;TZID=Europe/Budapest:20260105T073000
DTEND;TZID=Europe/Budapest:20260105T083000
SUMMARY:Szentmise
COLOR:#CCCCCC
RRULE:UNTIL=20261231T225959;FREQ=WEEKLY;BYDAY=MO
EXDATE;TZID=Europe/Budapest:20260412T220000
END:VEVENT
BEGIN:VEVENT
UID:130846-1135@miserend.hu
DTSTAMP:20260419T143412Z
DTSTART;TZID=Europe/Budapest:20260101T073000
DTEND;TZID=Europe/Budapest:20260101T083000
SUMMARY:Szentmise
COLOR:#CCCCCC
RRULE:FREQ=DAILY;COUNT=1;UNTIL=20261231T225959
END:VEVENT
BEGIN:VEVENT
UID:130847-1135@miserend.hu
DTSTAMP:20260419T143412Z
DTSTART;TZID=Europe/Budapest:20260107T173000
DTEND;TZID=Europe/Budapest:20260107T183000
SUMMARY:Szentségimádás
DESCRIPTION:rózsafüzér ájtatosság
COLOR:#CCCCCC
RRULE:FREQ=WEEKLY;UNTIL=20261231T225959;BYDAY=WE
EXDATE;TZID=Europe/Budapest:20260414T220000
END:VEVENT
BEGIN:VEVENT
UID:130848-1135@miserend.hu
DTSTAMP:20260419T143412Z
DTSTART;TZID=Europe/Budapest:20260101T080000
DTEND;TZID=Europe/Budapest:20260101T090000
SUMMARY:Szentségimádás
DESCRIPTION:08:00 szentségkivétel-egésznapos szentségimádás\, 18:00 szentmise
CATEGORIES:ORGAN
COLOR:#CCCCCC
RRULE:FREQ=DAILY;COUNT=1;UNTIL=20261231T225959
END:VEVENT
BEGIN:VEVENT
UID:130849-1135@miserend.hu
DTSTAMP:20260419T143412Z
DTSTART;TZID=Europe/Budapest:20260104T083000
DTEND;TZID=Europe/Budapest:20260104T100000
SUMMARY:Szentmise
CATEGORIES:ORGAN
COLOR:#CCCCCC
RRULE:UNTIL=20261231T225959;FREQ=WEEKLY;BYDAY=SU
END:VEVENT
BEGIN:VEVENT
UID:134263-134263-20260414070000@miserend.hu
DTSTAMP:20260419T143412Z
DTSTART;TZID=Europe/Budapest:20260414T070000
DTEND;TZID=Europe/Budapest:20260414T080000
SUMMARY:Szentmise
CATEGORIES:ORGAN
RRULE:FREQ=DAILY;COUNT=1;UNTIL=20260414T215959
END:VEVENT
BEGIN:VEVENT
UID:134264-134264-20260415173000@miserend.hu
DTSTAMP:20260419T143412Z
DTSTART;TZID=Europe/Budapest:20260415T173000
DTEND;TZID=Europe/Budapest:20260415T183000
SUMMARY:Szentmise
DESCRIPTION:rózsafüzér ájtatosság\, szentségimádási óra
CATEGORIES:ORGAN
RRULE:FREQ=DAILY;COUNT=1;UNTIL=20260415T215959
END:VEVENT
BEGIN:VEVENT
UID:134265-134265-20260413073000@miserend.hu
DTSTAMP:20260419T143412Z
DTSTART;TZID=Europe/Budapest:20260413T073000
DTEND;TZID=Europe/Budapest:20260413T083000
SUMMARY:Szentmise
CATEGORIES:ORGAN
RRULE:FREQ=DAILY;COUNT=1;UNTIL=20260413T215959
END:VEVENT
BEGIN:VEVENT
UID:134266-134266-20260416073000@miserend.hu
DTSTAMP:20260419T143412Z
DTSTART;TZID=Europe/Budapest:20260416T073000
DTEND;TZID=Europe/Budapest:20260416T083000
SUMMARY:Szentmise
CATEGORIES:ORGAN
RRULE:FREQ=DAILY;COUNT=1;UNTIL=20260416T215959
END:VEVENT
BEGIN:VEVENT
UID:134267-134267-20260417080000@miserend.hu
DTSTAMP:20260419T143412Z
DTSTART;TZID=Europe/Budapest:20260417T080000
DTEND;TZID=Europe/Budapest:20260417T090000
SUMMARY:Szentségimádás
DESCRIPTION:08:00 szentség kivétel- egésznapos szentségimádás\,  18:00 szentmise 
CATEGORIES:ORGAN
RRULE:FREQ=DAILY;COUNT=1;UNTIL=20260417T215959
END:VEVENT
BEGIN:VEVENT
UID:134268-134268-20260418073000@miserend.hu
DTSTAMP:20260419T143412Z
DTSTART;TZID=Europe/Budapest:20260418T073000
DTEND;TZID=Europe/Budapest:20260418T083000
SUMMARY:Szentmise
CATEGORIES:ORGAN
RRULE:FREQ=DAILY;COUNT=1;UNTIL=20260418T215959
END:VEVENT
BEGIN:VEVENT
UID:130845-1173@miserend.hu
DTSTAMP:20260419T143412Z
DTSTART;TZID=Europe/Budapest:20270104T073000
DTEND;TZID=Europe/Budapest:20270104T083000
SUMMARY:Szentmise
COLOR:#CCCCCC
RRULE:UNTIL=20271231T225959;FREQ=WEEKLY;BYDAY=MO
EXDATE;TZID=Europe/Budapest:20260412T220000
END:VEVENT
BEGIN:VEVENT
UID:130846-1173@miserend.hu
DTSTAMP:20260419T143412Z
DTSTART;TZID=Europe/Budapest:20270101T073000
DTEND;TZID=Europe/Budapest:20270101T083000
SUMMARY:Szentmise
COLOR:#CCCCCC
RRULE:FREQ=DAILY;COUNT=1;UNTIL=20271231T225959
END:VEVENT
BEGIN:VEVENT
UID:130847-1173@miserend.hu
DTSTAMP:20260419T143412Z
DTSTART;TZID=Europe/Budapest:20270106T173000
DTEND;TZID=Europe/Budapest:20270106T183000
SUMMARY:Szentségimádás
DESCRIPTION:rózsafüzér ájtatosság
COLOR:#CCCCCC
RRULE:FREQ=WEEKLY;UNTIL=20271231T225959;BYDAY=WE
EXDATE;TZID=Europe/Budapest:20260414T220000
END:VEVENT
BEGIN:VEVENT
UID:130848-1173@miserend.hu
DTSTAMP:20260419T143412Z
DTSTART;TZID=Europe/Budapest:20270101T080000
DTEND;TZID=Europe/Budapest:20270101T090000
SUMMARY:Szentségimádás
DESCRIPTION:08:00 szentségkivétel-egésznapos szentségimádás\, 18:00 szentmise
CATEGORIES:ORGAN
COLOR:#CCCCCC
RRULE:FREQ=DAILY;COUNT=1;UNTIL=20271231T225959
END:VEVENT
BEGIN:VEVENT
UID:130849-1173@miserend.hu
DTSTAMP:20260419T143412Z
DTSTART;TZID=Europe/Budapest:20270103T083000
DTEND;TZID=Europe/Budapest:20270103T100000
SUMMARY:Szentmise
CATEGORIES:ORGAN
COLOR:#CCCCCC
RRULE:UNTIL=20271231T225959;FREQ=WEEKLY;BYDAY=SU
END:VEVENT
END:VCALENDAR