BEGIN:VCALENDAR
VERSION:2.0
PRODID:-//miserend.hu//1740//HU
CALSCALE:GREGORIAN
METHOD:PUBLISH
X-WR-CALNAME:Szentháromság-templom - Jászalsószentgyörgy
X-WR-CALDESC:Frissített miserend automatikusan
X-WR-TIMEZONE:Europe/Budapest
BEGIN:VTIMEZONE
TZID:Europe/Budapest
X-LIC-LOCATION:Europe/Budapest
BEGIN:DAYLIGHT
TZOFFSETFROM:+0100
TZOFFSETTO:+0200
TZNAME:CEST
DTSTART:19700329T020000
RRULE:FREQ=YEARLY;BYMONTH=3;BYDAY=-1SU
END:DAYLIGHT
BEGIN:STANDARD
TZOFFSETFROM:+0200
TZOFFSETTO:+0100
TZNAME:CET
DTSTART:19701025T030000
RRULE:FREQ=YEARLY;BYMONTH=10;BYDAY=-1SU
END:STANDARD
END:VTIMEZONE
BEGIN:VEVENT
UID:120330-1135@miserend.hu
DTSTAMP:20260420T204037Z
DTSTART;TZID=Europe/Budapest:20260102T180000
DTEND;TZID=Europe/Budapest:20260102T190000
SUMMARY:Szentmise
COLOR:#CCCCCC
RRULE:FREQ=WEEKLY;UNTIL=20261231T225959;BYDAY=FR,WE
END:VEVENT
BEGIN:VEVENT
UID:120331-1135@miserend.hu
DTSTAMP:20260420T204037Z
DTSTART;TZID=Europe/Budapest:20260104T110000
DTEND;TZID=Europe/Budapest:20260104T120000
SUMMARY:Szentmise
COLOR:#CCCCCC
RRULE:FREQ=MONTHLY;UNTIL=20261231T225959;BYSETPOS=1;BYDAY=SU
END:VEVENT
BEGIN:VEVENT
UID:120332-1135@miserend.hu
DTSTAMP:20260420T204037Z
DTSTART;TZID=Europe/Budapest:20260125T110000
DTEND;TZID=Europe/Budapest:20260125T120000
SUMMARY:Szentmise
CATEGORIES:STUDENT
COLOR:#CCCCCC
RRULE:FREQ=MONTHLY;UNTIL=20261231T225959;BYSETPOS=-1;BYDAY=SU
END:VEVENT
BEGIN:VEVENT
UID:120333-1135@miserend.hu
DTSTAMP:20260420T204037Z
DTSTART;TZID=Europe/Budapest:20260125T110000
DTEND;TZID=Europe/Budapest:20260125T120000
SUMMARY:Szentmise
COLOR:#CCCCCC
RRULE:FREQ=MONTHLY;UNTIL=20261231T225959;BYSETPOS=4;BYDAY=SU
END:VEVENT
BEGIN:VEVENT
UID:120334-1135@miserend.hu
DTSTAMP:20260420T204037Z
DTSTART;TZID=Europe/Budapest:20260118T110000
DTEND;TZID=Europe/Budapest:20260118T120000
SUMMARY:Szentmise
COLOR:#CCCCCC
RRULE:FREQ=MONTHLY;UNTIL=20261231T225959;BYSETPOS=3;BYDAY=SU
END:VEVENT
BEGIN:VEVENT
UID:120335-1135@miserend.hu
DTSTAMP:20260420T204037Z
DTSTART;TZID=Europe/Budapest:20260111T110000
DTEND;TZID=Europe/Budapest:20260111T120000
SUMMARY:Szentmise
COLOR:#CCCCCC
RRULE:FREQ=MONTHLY;UNTIL=20261231T225959;BYSETPOS=2;BYDAY=SU
END:VEVENT
BEGIN:VEVENT
UID:120330-1173@miserend.hu
DTSTAMP:20260420T204037Z
DTSTART;TZID=Europe/Budapest:20270101T180000
DTEND;TZID=Europe/Budapest:20270101T190000
SUMMARY:Szentmise
COLOR:#CCCCCC
RRULE:FREQ=WEEKLY;UNTIL=20271231T225959;BYDAY=FR,WE
END:VEVENT
BEGIN:VEVENT
UID:120331-1173@miserend.hu
DTSTAMP:20260420T204037Z
DTSTART;TZID=Europe/Budapest:20270103T110000
DTEND;TZID=Europe/Budapest:20270103T120000
SUMMARY:Szentmise
COLOR:#CCCCCC
RRULE:FREQ=MONTHLY;UNTIL=20271231T225959;BYSETPOS=1;BYDAY=SU
END:VEVENT
BEGIN:VEVENT
UID:120332-1173@miserend.hu
DTSTAMP:20260420T204037Z
DTSTART;TZID=Europe/Budapest:20270131T110000
DTEND;TZID=Europe/Budapest:20270131T120000
SUMMARY:Szentmise
CATEGORIES:STUDENT
COLOR:#CCCCCC
RRULE:FREQ=MONTHLY;UNTIL=20271231T225959;BYSETPOS=-1;BYDAY=SU
END:VEVENT
BEGIN:VEVENT
UID:120333-1173@miserend.hu
DTSTAMP:20260420T204037Z
DTSTART;TZID=Europe/Budapest:20270124T110000
DTEND;TZID=Europe/Budapest:20270124T120000
SUMMARY:Szentmise
COLOR:#CCCCCC
RRULE:FREQ=MONTHLY;UNTIL=20271231T225959;BYSETPOS=4;BYDAY=SU
END:VEVENT
BEGIN:VEVENT
UID:120334-1173@miserend.hu
DTSTAMP:20260420T204037Z
DTSTART;TZID=Europe/Budapest:20270117T110000
DTEND;TZID=Europe/Budapest:20270117T120000
SUMMARY:Szentmise
COLOR:#CCCCCC
RRULE:FREQ=MONTHLY;UNTIL=20271231T225959;BYSETPOS=3;BYDAY=SU
END:VEVENT
BEGIN:VEVENT
UID:120335-1173@miserend.hu
DTSTAMP:20260420T204037Z
DTSTART;TZID=Europe/Budapest:20270110T110000
DTEND;TZID=Europe/Budapest:20270110T120000
SUMMARY:Szentmise
COLOR:#CCCCCC
RRULE:FREQ=MONTHLY;UNTIL=20271231T225959;BYSETPOS=2;BYDAY=SU
END:VEVENT
END:VCALENDAR