BEGIN:VCALENDAR
VERSION:2.0
PRODID:-//miserend.hu//2084//HU
CALSCALE:GREGORIAN
METHOD:PUBLISH
X-WR-CALNAME:Szent István-kápolna (Iskolakápolna) - Jágónak
X-WR-CALDESC:Frissített miserend automatikusan
X-WR-TIMEZONE:Europe/Budapest
BEGIN:VTIMEZONE
TZID:Europe/Budapest
X-LIC-LOCATION:Europe/Budapest
BEGIN:DAYLIGHT
TZOFFSETFROM:+0100
TZOFFSETTO:+0200
TZNAME:CEST
DTSTART:19700329T020000
RRULE:FREQ=YEARLY;BYMONTH=3;BYDAY=-1SU
END:DAYLIGHT
BEGIN:STANDARD
TZOFFSETFROM:+0200
TZOFFSETTO:+0100
TZNAME:CET
DTSTART:19701025T030000
RRULE:FREQ=YEARLY;BYMONTH=10;BYDAY=-1SU
END:STANDARD
END:VTIMEZONE
BEGIN:VEVENT
UID:103788-1134@miserend.hu
DTSTAMP:20260425T164036Z
DTSTART;TZID=Europe/Budapest:20260411T150000
DTEND;TZID=Europe/Budapest:20260411T160000
SUMMARY:Szentmise
COLOR:#FFD480
RRULE:FREQ=WEEKLY;UNTIL=20261025T225959;BYWEEKNO=1,3,5,7,9,11,13,15,17,19,21,23,25,27,29,31,33,35,37,39,41,43,45,47,49,51;BYDAY=SA
END:VEVENT
BEGIN:VEVENT
UID:103789-1094@miserend.hu
DTSTAMP:20260425T164036Z
DTSTART;TZID=Europe/Budapest:20260103T140000
DTEND;TZID=Europe/Budapest:20260103T150000
SUMMARY:Szentmise
COLOR:#6EC6FF
RRULE:FREQ=WEEKLY;UNTIL=20260329T215959;BYWEEKNO=1,3,5,7,9,11,13,15,17,19,21,23,25,27,29,31,33,35,37,39,41,43,45,47,49,51;BYDAY=SA
EXDATE;TZID=Europe/Budapest:20260328T230000
END:VEVENT
BEGIN:VEVENT
UID:103789-1133@miserend.hu
DTSTAMP:20260425T164036Z
DTSTART;TZID=Europe/Budapest:20261107T140000
DTEND;TZID=Europe/Budapest:20261107T150000
SUMMARY:Szentmise
COLOR:#6EC6FF
RRULE:FREQ=WEEKLY;UNTIL=20261231T225959;BYWEEKNO=1,3,5,7,9,11,13,15,17,19,21,23,25,27,29,31,33,35,37,39,41,43,45,47,49,51;BYDAY=SA
END:VEVENT
BEGIN:VEVENT
UID:103788-1172@miserend.hu
DTSTAMP:20260425T164036Z
DTSTART;TZID=Europe/Budapest:20270403T150000
DTEND;TZID=Europe/Budapest:20270403T160000
SUMMARY:Szentmise
COLOR:#FFD480
RRULE:FREQ=WEEKLY;UNTIL=20271031T225959;BYWEEKNO=1,3,5,7,9,11,13,15,17,19,21,23,25,27,29,31,33,35,37,39,41,43,45,47,49,51;BYDAY=SA
END:VEVENT
BEGIN:VEVENT
UID:103789-1133@miserend.hu
DTSTAMP:20260425T164036Z
DTSTART;TZID=Europe/Budapest:20270109T140000
DTEND;TZID=Europe/Budapest:20270109T150000
SUMMARY:Szentmise
COLOR:#6EC6FF
RRULE:FREQ=WEEKLY;UNTIL=20270328T215959;BYWEEKNO=1,3,5,7,9,11,13,15,17,19,21,23,25,27,29,31,33,35,37,39,41,43,45,47,49,51;BYDAY=SA
EXDATE;TZID=Europe/Budapest:20270327T230000
END:VEVENT
END:VCALENDAR