BEGIN:VCALENDAR
VERSION:2.0
PRODID:-//miserend.hu//238//HU
CALSCALE:GREGORIAN
METHOD:PUBLISH
X-WR-CALNAME:Jézus Szíve-kápolna - Kulcs
X-WR-CALDESC:Frissített miserend automatikusan
X-WR-TIMEZONE:Europe/Budapest
BEGIN:VTIMEZONE
TZID:Europe/Budapest
X-LIC-LOCATION:Europe/Budapest
BEGIN:DAYLIGHT
TZOFFSETFROM:+0100
TZOFFSETTO:+0200
TZNAME:CEST
DTSTART:19700329T020000
RRULE:FREQ=YEARLY;BYMONTH=3;BYDAY=-1SU
END:DAYLIGHT
BEGIN:STANDARD
TZOFFSETFROM:+0200
TZOFFSETTO:+0100
TZNAME:CET
DTSTART:19701025T030000
RRULE:FREQ=YEARLY;BYMONTH=10;BYDAY=-1SU
END:STANDARD
END:VTIMEZONE
BEGIN:VEVENT
UID:98934-1134@miserend.hu
DTSTAMP:20260424T231543Z
DTSTART;TZID=Europe/Budapest:20260404T190000
DTEND;TZID=Europe/Budapest:20260404T200000
SUMMARY:Szentmise
COLOR:#FFD480
RRULE:FREQ=MONTHLY;UNTIL=20261025T225959;BYSETPOS=1;BYDAY=SA
END:VEVENT
BEGIN:VEVENT
UID:98935-1134@miserend.hu
DTSTAMP:20260424T231543Z
DTSTART;TZID=Europe/Budapest:20260418T190000
DTEND;TZID=Europe/Budapest:20260418T200000
SUMMARY:Szentmise
COLOR:#FFD480
RRULE:FREQ=MONTHLY;UNTIL=20261025T225959;BYSETPOS=3;BYDAY=SA
END:VEVENT
BEGIN:VEVENT
UID:98936-1134@miserend.hu
DTSTAMP:20260424T231543Z
DTSTART;TZID=Europe/Budapest:20260425T190000
DTEND;TZID=Europe/Budapest:20260425T200000
SUMMARY:Szentmise
COLOR:#FFD480
RRULE:FREQ=MONTHLY;UNTIL=20261025T225959;BYSETPOS=4;BYDAY=SA
END:VEVENT
BEGIN:VEVENT
UID:98937-1134@miserend.hu
DTSTAMP:20260424T231543Z
DTSTART;TZID=Europe/Budapest:20260530T190000
DTEND;TZID=Europe/Budapest:20260530T200000
SUMMARY:Szentmise
COLOR:#FFD480
RRULE:FREQ=MONTHLY;UNTIL=20261025T225959;BYSETPOS=5;BYDAY=SA
END:VEVENT
BEGIN:VEVENT
UID:98938-1094@miserend.hu
DTSTAMP:20260424T231543Z
DTSTART;TZID=Europe/Budapest:20260103T153000
DTEND;TZID=Europe/Budapest:20260103T163000
SUMMARY:Szentmise
COLOR:#6EC6FF
RRULE:FREQ=MONTHLY;UNTIL=20260329T215959;BYSETPOS=1;BYDAY=SA
EXDATE;TZID=Europe/Budapest:20260328T230000
END:VEVENT
BEGIN:VEVENT
UID:98938-1133@miserend.hu
DTSTAMP:20260424T231543Z
DTSTART;TZID=Europe/Budapest:20261107T153000
DTEND;TZID=Europe/Budapest:20261107T163000
SUMMARY:Szentmise
COLOR:#6EC6FF
RRULE:FREQ=MONTHLY;UNTIL=20261231T225959;BYSETPOS=1;BYDAY=SA
END:VEVENT
BEGIN:VEVENT
UID:98939-1094@miserend.hu
DTSTAMP:20260424T231543Z
DTSTART;TZID=Europe/Budapest:20260117T153000
DTEND;TZID=Europe/Budapest:20260117T163000
SUMMARY:Szentmise
COLOR:#6EC6FF
RRULE:FREQ=MONTHLY;UNTIL=20260329T215959;BYSETPOS=3;BYDAY=SA
EXDATE;TZID=Europe/Budapest:20260328T230000
END:VEVENT
BEGIN:VEVENT
UID:98939-1133@miserend.hu
DTSTAMP:20260424T231543Z
DTSTART;TZID=Europe/Budapest:20261121T153000
DTEND;TZID=Europe/Budapest:20261121T163000
SUMMARY:Szentmise
COLOR:#6EC6FF
RRULE:FREQ=MONTHLY;UNTIL=20261231T225959;BYSETPOS=3;BYDAY=SA
END:VEVENT
BEGIN:VEVENT
UID:98940-1094@miserend.hu
DTSTAMP:20260424T231543Z
DTSTART;TZID=Europe/Budapest:20260124T153000
DTEND;TZID=Europe/Budapest:20260124T163000
SUMMARY:Szentmise
COLOR:#6EC6FF
RRULE:FREQ=MONTHLY;UNTIL=20260329T215959;BYSETPOS=4;BYDAY=SA
EXDATE;TZID=Europe/Budapest:20260328T230000
END:VEVENT
BEGIN:VEVENT
UID:98940-1133@miserend.hu
DTSTAMP:20260424T231543Z
DTSTART;TZID=Europe/Budapest:20261128T153000
DTEND;TZID=Europe/Budapest:20261128T163000
SUMMARY:Szentmise
COLOR:#6EC6FF
RRULE:FREQ=MONTHLY;UNTIL=20261231T225959;BYSETPOS=4;BYDAY=SA
END:VEVENT
BEGIN:VEVENT
UID:98941-1094@miserend.hu
DTSTAMP:20260424T231543Z
DTSTART;TZID=Europe/Budapest:20260131T153000
DTEND;TZID=Europe/Budapest:20260131T163000
SUMMARY:Szentmise
COLOR:#6EC6FF
RRULE:FREQ=MONTHLY;UNTIL=20260329T215959;BYSETPOS=5;BYDAY=SA
EXDATE;TZID=Europe/Budapest:20260328T230000
END:VEVENT
BEGIN:VEVENT
UID:98941-1133@miserend.hu
DTSTAMP:20260424T231543Z
DTSTART;TZID=Europe/Budapest:20261031T153000
DTEND;TZID=Europe/Budapest:20261031T163000
SUMMARY:Szentmise
COLOR:#6EC6FF
RRULE:FREQ=MONTHLY;UNTIL=20261231T225959;BYSETPOS=5;BYDAY=SA
END:VEVENT
BEGIN:VEVENT
UID:98934-1172@miserend.hu
DTSTAMP:20260424T231543Z
DTSTART;TZID=Europe/Budapest:20270403T190000
DTEND;TZID=Europe/Budapest:20270403T200000
SUMMARY:Szentmise
COLOR:#FFD480
RRULE:FREQ=MONTHLY;UNTIL=20271031T225959;BYSETPOS=1;BYDAY=SA
END:VEVENT
BEGIN:VEVENT
UID:98935-1172@miserend.hu
DTSTAMP:20260424T231543Z
DTSTART;TZID=Europe/Budapest:20270417T190000
DTEND;TZID=Europe/Budapest:20270417T200000
SUMMARY:Szentmise
COLOR:#FFD480
RRULE:FREQ=MONTHLY;UNTIL=20271031T225959;BYSETPOS=3;BYDAY=SA
END:VEVENT
BEGIN:VEVENT
UID:98936-1172@miserend.hu
DTSTAMP:20260424T231543Z
DTSTART;TZID=Europe/Budapest:20270424T190000
DTEND;TZID=Europe/Budapest:20270424T200000
SUMMARY:Szentmise
COLOR:#FFD480
RRULE:FREQ=MONTHLY;UNTIL=20271031T225959;BYSETPOS=4;BYDAY=SA
END:VEVENT
BEGIN:VEVENT
UID:98937-1172@miserend.hu
DTSTAMP:20260424T231543Z
DTSTART;TZID=Europe/Budapest:20270529T190000
DTEND;TZID=Europe/Budapest:20270529T200000
SUMMARY:Szentmise
COLOR:#FFD480
RRULE:FREQ=MONTHLY;UNTIL=20271031T225959;BYSETPOS=5;BYDAY=SA
END:VEVENT
BEGIN:VEVENT
UID:98938-1133@miserend.hu
DTSTAMP:20260424T231543Z
DTSTART;TZID=Europe/Budapest:20270102T153000
DTEND;TZID=Europe/Budapest:20270102T163000
SUMMARY:Szentmise
COLOR:#6EC6FF
RRULE:FREQ=MONTHLY;UNTIL=20270328T215959;BYSETPOS=1;BYDAY=SA
EXDATE;TZID=Europe/Budapest:20270327T230000
END:VEVENT
BEGIN:VEVENT
UID:98939-1133@miserend.hu
DTSTAMP:20260424T231543Z
DTSTART;TZID=Europe/Budapest:20270116T153000
DTEND;TZID=Europe/Budapest:20270116T163000
SUMMARY:Szentmise
COLOR:#6EC6FF
RRULE:FREQ=MONTHLY;UNTIL=20270328T215959;BYSETPOS=3;BYDAY=SA
EXDATE;TZID=Europe/Budapest:20270327T230000
END:VEVENT
BEGIN:VEVENT
UID:98940-1133@miserend.hu
DTSTAMP:20260424T231543Z
DTSTART;TZID=Europe/Budapest:20270123T153000
DTEND;TZID=Europe/Budapest:20270123T163000
SUMMARY:Szentmise
COLOR:#6EC6FF
RRULE:FREQ=MONTHLY;UNTIL=20270328T215959;BYSETPOS=4;BYDAY=SA
EXDATE;TZID=Europe/Budapest:20270327T230000
END:VEVENT
BEGIN:VEVENT
UID:98941-1133@miserend.hu
DTSTAMP:20260424T231543Z
DTSTART;TZID=Europe/Budapest:20270130T153000
DTEND;TZID=Europe/Budapest:20270130T163000
SUMMARY:Szentmise
COLOR:#6EC6FF
RRULE:FREQ=MONTHLY;UNTIL=20270328T215959;BYSETPOS=5;BYDAY=SA
EXDATE;TZID=Europe/Budapest:20270327T230000
END:VEVENT
END:VCALENDAR