BEGIN:VCALENDAR
VERSION:2.0
PRODID:-//miserend.hu//2499//HU
CALSCALE:GREGORIAN
METHOD:PUBLISH
X-WR-CALNAME:Szent László-templom (Pestszentlőrinc-Havannatelep plébániatemplom) - Budapest XVIII. kerület
X-WR-CALDESC:Frissített miserend automatikusan
X-WR-TIMEZONE:Europe/Budapest
BEGIN:VTIMEZONE
TZID:Europe/Budapest
X-LIC-LOCATION:Europe/Budapest
BEGIN:DAYLIGHT
TZOFFSETFROM:+0100
TZOFFSETTO:+0200
TZNAME:CEST
DTSTART:19700329T020000
RRULE:FREQ=YEARLY;BYMONTH=3;BYDAY=-1SU
END:DAYLIGHT
BEGIN:STANDARD
TZOFFSETFROM:+0200
TZOFFSETTO:+0100
TZNAME:CET
DTSTART:19701025T030000
RRULE:FREQ=YEARLY;BYMONTH=10;BYDAY=-1SU
END:STANDARD
END:VTIMEZONE
BEGIN:VEVENT
UID:104841-1137@miserend.hu
DTSTAMP:20260425T113046Z
DTSTART;TZID=Europe/Budapest:20261130T180000
DTEND;TZID=Europe/Budapest:20261130T190000
SUMMARY:Szentmise
COLOR:#6A0DAD
RRULE:FREQ=WEEKLY;UNTIL=20261224T225959;BYDAY=MO,TH
END:VEVENT
BEGIN:VEVENT
UID:104842-1137@miserend.hu
DTSTAMP:20260425T113046Z
DTSTART;TZID=Europe/Budapest:20261201T060000
DTEND;TZID=Europe/Budapest:20261201T070000
SUMMARY:Szentmise
COLOR:#6A0DAD
RRULE:FREQ=WEEKLY;UNTIL=20261224T225959;BYDAY=TU,FR,SA
END:VEVENT
BEGIN:VEVENT
UID:104843-1137@miserend.hu
DTSTAMP:20260425T113046Z
DTSTART;TZID=Europe/Budapest:20261202T060000
DTEND;TZID=Europe/Budapest:20261202T070000
SUMMARY:Szentmise
COLOR:#6A0DAD
RRULE:FREQ=WEEKLY;UNTIL=20261224T225959;BYDAY=WE,MO,TH
END:VEVENT
BEGIN:VEVENT
UID:104844-1137@miserend.hu
DTSTAMP:20260425T113046Z
DTSTART;TZID=Europe/Budapest:20261129T070000
DTEND;TZID=Europe/Budapest:20261129T080000
SUMMARY:Szentmise
COLOR:#6A0DAD
RRULE:FREQ=WEEKLY;UNTIL=20261224T225959;BYDAY=SU
END:VEVENT
BEGIN:VEVENT
UID:104845-1137@miserend.hu
DTSTAMP:20260425T113046Z
DTSTART;TZID=Europe/Budapest:20261206T080000
DTEND;TZID=Europe/Budapest:20261206T090000
SUMMARY:Szentségimádás
COLOR:#6A0DAD
RRULE:FREQ=MONTHLY;UNTIL=20261224T225959;BYSETPOS=1;BYDAY=SU
END:VEVENT
BEGIN:VEVENT
UID:104846-1137@miserend.hu
DTSTAMP:20260425T113046Z
DTSTART;TZID=Europe/Budapest:20261129T093000
DTEND;TZID=Europe/Budapest:20261129T103000
SUMMARY:Szentmise
COLOR:#6A0DAD
RRULE:FREQ=WEEKLY;UNTIL=20261224T225959;BYDAY=SU
END:VEVENT
BEGIN:VEVENT
UID:104847-1137@miserend.hu
DTSTAMP:20260425T113046Z
DTSTART;TZID=Europe/Budapest:20261203T183000
DTEND;TZID=Europe/Budapest:20261203T193000
SUMMARY:Szentségimádás
COLOR:#6A0DAD
RRULE:FREQ=WEEKLY;UNTIL=20261224T225959;BYDAY=TH
END:VEVENT
BEGIN:VEVENT
UID:104848-1137@miserend.hu
DTSTAMP:20260425T113046Z
DTSTART;TZID=Europe/Budapest:20261204T063000
DTEND;TZID=Europe/Budapest:20261204T073000
SUMMARY:Szentségimádás
COLOR:#6A0DAD
RRULE:FREQ=WEEKLY;UNTIL=20261224T225959;BYDAY=FR
END:VEVENT
BEGIN:VEVENT
UID:104849-1135@miserend.hu
DTSTAMP:20260425T113046Z
DTSTART;TZID=Europe/Budapest:20260101T180000
DTEND;TZID=Europe/Budapest:20260101T190000
SUMMARY:Szentmise
COLOR:#CCCCCC
RRULE:FREQ=WEEKLY;UNTIL=20261231T225959;BYDAY=MO,TH
EXDATE;TZID=Europe/Budapest:20261128T230000,20261129T230000,20261130T230000,20261201T230000,20261202T230000,20261203T230000,20261204T230000,20261205T230000,20261206T230000,20261207T230000,20261208T230000,20261209T230000,20261210T230000,20261211T230000,20261212T230000,20261213T230000,20261214T230000,20261215T230000,20261216T230000,20261217T230000,20261218T230000,20261219T230000,20261220T230000,20261221T230000,20261222T230000
END:VEVENT
BEGIN:VEVENT
UID:104850-1135@miserend.hu
DTSTAMP:20260425T113046Z
DTSTART;TZID=Europe/Budapest:20260102T070000
DTEND;TZID=Europe/Budapest:20260102T080000
SUMMARY:Szentmise
COLOR:#CCCCCC
RRULE:FREQ=WEEKLY;UNTIL=20261231T225959;BYDAY=TU,FR,SA,SU
EXDATE;TZID=Europe/Budapest:20261128T230000,20261129T230000,20261130T230000,20261201T230000,20261202T230000,20261203T230000,20261204T230000,20261205T230000,20261206T230000,20261207T230000,20261208T230000,20261209T230000,20261210T230000,20261211T230000,20261212T230000,20261213T230000,20261214T230000,20261215T230000,20261216T230000,20261217T230000,20261218T230000,20261219T230000,20261220T230000,20261221T230000,20261222T230000
END:VEVENT
BEGIN:VEVENT
UID:104851-1135@miserend.hu
DTSTAMP:20260425T113046Z
DTSTART;TZID=Europe/Budapest:20260107T070000
DTEND;TZID=Europe/Budapest:20260107T080000
SUMMARY:Szentmise
COLOR:#CCCCCC
RRULE:FREQ=WEEKLY;UNTIL=20261231T225959;BYDAY=WE
EXDATE;TZID=Europe/Budapest:20261128T230000,20261129T230000,20261130T230000,20261201T230000,20261202T230000,20261203T230000,20261204T230000,20261205T230000,20261206T230000,20261207T230000,20261208T230000,20261209T230000,20261210T230000,20261211T230000,20261212T230000,20261213T230000,20261214T230000,20261215T230000,20261216T230000,20261217T230000,20261218T230000,20261219T230000,20261220T230000,20261221T230000,20261222T230000
END:VEVENT
BEGIN:VEVENT
UID:104852-1135@miserend.hu
DTSTAMP:20260425T113046Z
DTSTART;TZID=Europe/Budapest:20260104T093000
DTEND;TZID=Europe/Budapest:20260104T103000
SUMMARY:Szentmise
COLOR:#CCCCCC
RRULE:FREQ=WEEKLY;UNTIL=20261231T225959;BYDAY=SU
EXDATE;TZID=Europe/Budapest:20261128T230000,20261129T230000,20261130T230000,20261201T230000,20261202T230000,20261203T230000,20261204T230000,20261205T230000,20261206T230000,20261207T230000,20261208T230000,20261209T230000,20261210T230000,20261211T230000,20261212T230000,20261213T230000,20261214T230000,20261215T230000,20261216T230000,20261217T230000,20261218T230000,20261219T230000,20261220T230000,20261221T230000,20261222T230000
END:VEVENT
BEGIN:VEVENT
UID:104853-1135@miserend.hu
DTSTAMP:20260425T113046Z
DTSTART;TZID=Europe/Budapest:20260104T080000
DTEND;TZID=Europe/Budapest:20260104T090000
SUMMARY:Szentségimádás
COLOR:#CCCCCC
RRULE:FREQ=MONTHLY;UNTIL=20261231T225959;BYSETPOS=1;BYDAY=SU
EXDATE;TZID=Europe/Budapest:20261128T230000,20261129T230000,20261130T230000,20261201T230000,20261202T230000,20261203T230000,20261204T230000,20261205T230000,20261206T230000,20261207T230000,20261208T230000,20261209T230000,20261210T230000,20261211T230000,20261212T230000,20261213T230000,20261214T230000,20261215T230000,20261216T230000,20261217T230000,20261218T230000,20261219T230000,20261220T230000,20261221T230000,20261222T230000
END:VEVENT
BEGIN:VEVENT
UID:104854-1135@miserend.hu
DTSTAMP:20260425T113046Z
DTSTART;TZID=Europe/Budapest:20260101T183000
DTEND;TZID=Europe/Budapest:20260101T193000
SUMMARY:Szentségimádás
COLOR:#CCCCCC
RRULE:FREQ=WEEKLY;UNTIL=20261231T225959;BYDAY=MO,TH
EXDATE;TZID=Europe/Budapest:20261128T230000,20261129T230000,20261130T230000,20261201T230000,20261202T230000,20261203T230000,20261204T230000,20261205T230000,20261206T230000,20261207T230000,20261208T230000,20261209T230000,20261210T230000,20261211T230000,20261212T230000,20261213T230000,20261214T230000,20261215T230000,20261216T230000,20261217T230000,20261218T230000,20261219T230000,20261220T230000,20261221T230000,20261222T230000
END:VEVENT
BEGIN:VEVENT
UID:104855-1135@miserend.hu
DTSTAMP:20260425T113046Z
DTSTART;TZID=Europe/Budapest:20260102T073000
DTEND;TZID=Europe/Budapest:20260102T083000
SUMMARY:Szentségimádás
COLOR:#CCCCCC
RRULE:FREQ=WEEKLY;UNTIL=20261231T225959;BYDAY=FR
EXDATE;TZID=Europe/Budapest:20261128T230000,20261129T230000,20261130T230000,20261201T230000,20261202T230000,20261203T230000,20261204T230000,20261205T230000,20261206T230000,20261207T230000,20261208T230000,20261209T230000,20261210T230000,20261211T230000,20261212T230000,20261213T230000,20261214T230000,20261215T230000,20261216T230000,20261217T230000,20261218T230000,20261219T230000,20261220T230000,20261221T230000,20261222T230000
END:VEVENT
BEGIN:VEVENT
UID:104841-1175@miserend.hu
DTSTAMP:20260425T113046Z
DTSTART;TZID=Europe/Budapest:20271129T180000
DTEND;TZID=Europe/Budapest:20271129T190000
SUMMARY:Szentmise
COLOR:#6A0DAD
RRULE:FREQ=WEEKLY;UNTIL=20271224T225959;BYDAY=MO,TH
END:VEVENT
BEGIN:VEVENT
UID:104842-1175@miserend.hu
DTSTAMP:20260425T113046Z
DTSTART;TZID=Europe/Budapest:20271130T060000
DTEND;TZID=Europe/Budapest:20271130T070000
SUMMARY:Szentmise
COLOR:#6A0DAD
RRULE:FREQ=WEEKLY;UNTIL=20271224T225959;BYDAY=TU,FR,SA
END:VEVENT
BEGIN:VEVENT
UID:104843-1175@miserend.hu
DTSTAMP:20260425T113046Z
DTSTART;TZID=Europe/Budapest:20271201T060000
DTEND;TZID=Europe/Budapest:20271201T070000
SUMMARY:Szentmise
COLOR:#6A0DAD
RRULE:FREQ=WEEKLY;UNTIL=20271224T225959;BYDAY=WE,MO,TH
END:VEVENT
BEGIN:VEVENT
UID:104844-1175@miserend.hu
DTSTAMP:20260425T113046Z
DTSTART;TZID=Europe/Budapest:20271128T070000
DTEND;TZID=Europe/Budapest:20271128T080000
SUMMARY:Szentmise
COLOR:#6A0DAD
RRULE:FREQ=WEEKLY;UNTIL=20271224T225959;BYDAY=SU
END:VEVENT
BEGIN:VEVENT
UID:104845-1175@miserend.hu
DTSTAMP:20260425T113046Z
DTSTART;TZID=Europe/Budapest:20271205T080000
DTEND;TZID=Europe/Budapest:20271205T090000
SUMMARY:Szentségimádás
COLOR:#6A0DAD
RRULE:FREQ=MONTHLY;UNTIL=20271224T225959;BYSETPOS=1;BYDAY=SU
END:VEVENT
BEGIN:VEVENT
UID:104846-1175@miserend.hu
DTSTAMP:20260425T113046Z
DTSTART;TZID=Europe/Budapest:20271128T093000
DTEND;TZID=Europe/Budapest:20271128T103000
SUMMARY:Szentmise
COLOR:#6A0DAD
RRULE:FREQ=WEEKLY;UNTIL=20271224T225959;BYDAY=SU
END:VEVENT
BEGIN:VEVENT
UID:104847-1175@miserend.hu
DTSTAMP:20260425T113046Z
DTSTART;TZID=Europe/Budapest:20271202T183000
DTEND;TZID=Europe/Budapest:20271202T193000
SUMMARY:Szentségimádás
COLOR:#6A0DAD
RRULE:FREQ=WEEKLY;UNTIL=20271224T225959;BYDAY=TH
END:VEVENT
BEGIN:VEVENT
UID:104848-1175@miserend.hu
DTSTAMP:20260425T113046Z
DTSTART;TZID=Europe/Budapest:20271203T063000
DTEND;TZID=Europe/Budapest:20271203T073000
SUMMARY:Szentségimádás
COLOR:#6A0DAD
RRULE:FREQ=WEEKLY;UNTIL=20271224T225959;BYDAY=FR
END:VEVENT
BEGIN:VEVENT
UID:104849-1173@miserend.hu
DTSTAMP:20260425T113046Z
DTSTART;TZID=Europe/Budapest:20270104T180000
DTEND;TZID=Europe/Budapest:20270104T190000
SUMMARY:Szentmise
COLOR:#CCCCCC
RRULE:FREQ=WEEKLY;UNTIL=20271231T225959;BYDAY=MO,TH
EXDATE;TZID=Europe/Budapest:20271127T230000,20271128T230000,20271129T230000,20271130T230000,20271201T230000,20271202T230000,20271203T230000,20271204T230000,20271205T230000,20271206T230000,20271207T230000,20271208T230000,20271209T230000,20271210T230000,20271211T230000,20271212T230000,20271213T230000,20271214T230000,20271215T230000,20271216T230000,20271217T230000,20271218T230000,20271219T230000,20271220T230000,20271221T230000,20271222T230000
END:VEVENT
BEGIN:VEVENT
UID:104850-1173@miserend.hu
DTSTAMP:20260425T113046Z
DTSTART;TZID=Europe/Budapest:20270101T070000
DTEND;TZID=Europe/Budapest:20270101T080000
SUMMARY:Szentmise
COLOR:#CCCCCC
RRULE:FREQ=WEEKLY;UNTIL=20271231T225959;BYDAY=TU,FR,SA,SU
EXDATE;TZID=Europe/Budapest:20271127T230000,20271128T230000,20271129T230000,20271130T230000,20271201T230000,20271202T230000,20271203T230000,20271204T230000,20271205T230000,20271206T230000,20271207T230000,20271208T230000,20271209T230000,20271210T230000,20271211T230000,20271212T230000,20271213T230000,20271214T230000,20271215T230000,20271216T230000,20271217T230000,20271218T230000,20271219T230000,20271220T230000,20271221T230000,20271222T230000
END:VEVENT
BEGIN:VEVENT
UID:104851-1173@miserend.hu
DTSTAMP:20260425T113046Z
DTSTART;TZID=Europe/Budapest:20270106T070000
DTEND;TZID=Europe/Budapest:20270106T080000
SUMMARY:Szentmise
COLOR:#CCCCCC
RRULE:FREQ=WEEKLY;UNTIL=20271231T225959;BYDAY=WE
EXDATE;TZID=Europe/Budapest:20271127T230000,20271128T230000,20271129T230000,20271130T230000,20271201T230000,20271202T230000,20271203T230000,20271204T230000,20271205T230000,20271206T230000,20271207T230000,20271208T230000,20271209T230000,20271210T230000,20271211T230000,20271212T230000,20271213T230000,20271214T230000,20271215T230000,20271216T230000,20271217T230000,20271218T230000,20271219T230000,20271220T230000,20271221T230000,20271222T230000
END:VEVENT
BEGIN:VEVENT
UID:104852-1173@miserend.hu
DTSTAMP:20260425T113046Z
DTSTART;TZID=Europe/Budapest:20270103T093000
DTEND;TZID=Europe/Budapest:20270103T103000
SUMMARY:Szentmise
COLOR:#CCCCCC
RRULE:FREQ=WEEKLY;UNTIL=20271231T225959;BYDAY=SU
EXDATE;TZID=Europe/Budapest:20271127T230000,20271128T230000,20271129T230000,20271130T230000,20271201T230000,20271202T230000,20271203T230000,20271204T230000,20271205T230000,20271206T230000,20271207T230000,20271208T230000,20271209T230000,20271210T230000,20271211T230000,20271212T230000,20271213T230000,20271214T230000,20271215T230000,20271216T230000,20271217T230000,20271218T230000,20271219T230000,20271220T230000,20271221T230000,20271222T230000
END:VEVENT
BEGIN:VEVENT
UID:104853-1173@miserend.hu
DTSTAMP:20260425T113046Z
DTSTART;TZID=Europe/Budapest:20270103T080000
DTEND;TZID=Europe/Budapest:20270103T090000
SUMMARY:Szentségimádás
COLOR:#CCCCCC
RRULE:FREQ=MONTHLY;UNTIL=20271231T225959;BYSETPOS=1;BYDAY=SU
EXDATE;TZID=Europe/Budapest:20271127T230000,20271128T230000,20271129T230000,20271130T230000,20271201T230000,20271202T230000,20271203T230000,20271204T230000,20271205T230000,20271206T230000,20271207T230000,20271208T230000,20271209T230000,20271210T230000,20271211T230000,20271212T230000,20271213T230000,20271214T230000,20271215T230000,20271216T230000,20271217T230000,20271218T230000,20271219T230000,20271220T230000,20271221T230000,20271222T230000
END:VEVENT
BEGIN:VEVENT
UID:104854-1173@miserend.hu
DTSTAMP:20260425T113046Z
DTSTART;TZID=Europe/Budapest:20270104T183000
DTEND;TZID=Europe/Budapest:20270104T193000
SUMMARY:Szentségimádás
COLOR:#CCCCCC
RRULE:FREQ=WEEKLY;UNTIL=20271231T225959;BYDAY=MO,TH
EXDATE;TZID=Europe/Budapest:20271127T230000,20271128T230000,20271129T230000,20271130T230000,20271201T230000,20271202T230000,20271203T230000,20271204T230000,20271205T230000,20271206T230000,20271207T230000,20271208T230000,20271209T230000,20271210T230000,20271211T230000,20271212T230000,20271213T230000,20271214T230000,20271215T230000,20271216T230000,20271217T230000,20271218T230000,20271219T230000,20271220T230000,20271221T230000,20271222T230000
END:VEVENT
BEGIN:VEVENT
UID:104855-1173@miserend.hu
DTSTAMP:20260425T113046Z
DTSTART;TZID=Europe/Budapest:20270101T073000
DTEND;TZID=Europe/Budapest:20270101T083000
SUMMARY:Szentségimádás
COLOR:#CCCCCC
RRULE:FREQ=WEEKLY;UNTIL=20271231T225959;BYDAY=FR
EXDATE;TZID=Europe/Budapest:20271127T230000,20271128T230000,20271129T230000,20271130T230000,20271201T230000,20271202T230000,20271203T230000,20271204T230000,20271205T230000,20271206T230000,20271207T230000,20271208T230000,20271209T230000,20271210T230000,20271211T230000,20271212T230000,20271213T230000,20271214T230000,20271215T230000,20271216T230000,20271217T230000,20271218T230000,20271219T230000,20271220T230000,20271221T230000,20271222T230000
END:VEVENT
END:VCALENDAR