BEGIN:VCALENDAR
VERSION:2.0
PRODID:-//miserend.hu//2725//HU
CALSCALE:GREGORIAN
METHOD:PUBLISH
X-WR-CALNAME:Szent István első vértanú-templom (Országúti Ferences Szent István első vértanú plébániatemplom) - Budapest II. kerület
X-WR-CALDESC:Frissített miserend automatikusan
X-WR-TIMEZONE:Europe/Budapest
BEGIN:VTIMEZONE
TZID:Europe/Budapest
X-LIC-LOCATION:Europe/Budapest
BEGIN:DAYLIGHT
TZOFFSETFROM:+0100
TZOFFSETTO:+0200
TZNAME:CEST
DTSTART:19700329T020000
RRULE:FREQ=YEARLY;BYMONTH=3;BYDAY=-1SU
END:DAYLIGHT
BEGIN:STANDARD
TZOFFSETFROM:+0200
TZOFFSETTO:+0100
TZNAME:CET
DTSTART:19701025T030000
RRULE:FREQ=YEARLY;BYMONTH=10;BYDAY=-1SU
END:STANDARD
END:VTIMEZONE
BEGIN:VEVENT
UID:105152-1137@miserend.hu
DTSTAMP:20260422T140319Z
DTSTART;TZID=Europe/Budapest:20261130T063000
DTEND;TZID=Europe/Budapest:20261130T073000
SUMMARY:Szentmise
COLOR:#6A0DAD
RRULE:FREQ=WEEKLY;UNTIL=20261224T225959;BYDAY=MO,TU,WE,TH,FR,SA
END:VEVENT
BEGIN:VEVENT
UID:105153-1137@miserend.hu
DTSTAMP:20260422T140319Z
DTSTART;TZID=Europe/Budapest:20261129T180000
DTEND;TZID=Europe/Budapest:20261129T190000
SUMMARY:Szentmise
COLOR:#6A0DAD
RRULE:FREQ=WEEKLY;UNTIL=20261224T225959;BYDAY=MO,TU,WE,TH,FR,SA,SU
END:VEVENT
BEGIN:VEVENT
UID:105154-1137@miserend.hu
DTSTAMP:20260422T140319Z
DTSTART;TZID=Europe/Budapest:20261204T100000
DTEND;TZID=Europe/Budapest:20261204T110000
SUMMARY:Szentmise
COLOR:#6A0DAD
RRULE:FREQ=MONTHLY;UNTIL=20261224T225959;BYSETPOS=1;BYDAY=FR
END:VEVENT
BEGIN:VEVENT
UID:105155-1137@miserend.hu
DTSTAMP:20260422T140319Z
DTSTART;TZID=Europe/Budapest:20261129T070000
DTEND;TZID=Europe/Budapest:20261129T080000
SUMMARY:Szentmise
CATEGORIES:SILENT
COLOR:#6A0DAD
RRULE:FREQ=WEEKLY;UNTIL=20261224T225959;BYDAY=SU
END:VEVENT
BEGIN:VEVENT
UID:105156-1137@miserend.hu
DTSTAMP:20260422T140319Z
DTSTART;TZID=Europe/Budapest:20261129T083000
DTEND;TZID=Europe/Budapest:20261129T093000
SUMMARY:Szentmise
COLOR:#6A0DAD
RRULE:FREQ=WEEKLY;UNTIL=20261224T225959;BYDAY=SU
END:VEVENT
BEGIN:VEVENT
UID:105157-1137@miserend.hu
DTSTAMP:20260422T140319Z
DTSTART;TZID=Europe/Budapest:20261129T100000
DTEND;TZID=Europe/Budapest:20261129T110000
SUMMARY:Szentmise
CATEGORIES:FAMILY
COLOR:#6A0DAD
RRULE:FREQ=WEEKLY;UNTIL=20261224T225959;BYDAY=SU
END:VEVENT
BEGIN:VEVENT
UID:105158-1137@miserend.hu
DTSTAMP:20260422T140319Z
DTSTART;TZID=Europe/Budapest:20261129T113000
DTEND;TZID=Europe/Budapest:20261129T123000
SUMMARY:Szentmise
COLOR:#6A0DAD
RRULE:FREQ=WEEKLY;UNTIL=20261224T225959;BYDAY=SU
END:VEVENT
BEGIN:VEVENT
UID:105159-1137@miserend.hu
DTSTAMP:20260422T140319Z
DTSTART;TZID=Europe/Budapest:20261129T193000
DTEND;TZID=Europe/Budapest:20261129T203000
SUMMARY:Szentmise
CATEGORIES:SILENT
COLOR:#6A0DAD
RRULE:FREQ=WEEKLY;UNTIL=20261224T225959;BYDAY=SU
END:VEVENT
BEGIN:VEVENT
UID:105160-1135@miserend.hu
DTSTAMP:20260422T140319Z
DTSTART;TZID=Europe/Budapest:20260101T073000
DTEND;TZID=Europe/Budapest:20260101T083000
SUMMARY:Szentmise
COLOR:#CCCCCC
RRULE:FREQ=WEEKLY;UNTIL=20261231T225959;BYDAY=MO,TU,WE,TH,FR,SA
EXDATE;TZID=Europe/Budapest:20261128T230000,20261129T230000,20261130T230000,20261201T230000,20261202T230000,20261203T230000,20261204T230000,20261205T230000,20261206T230000,20261207T230000,20261208T230000,20261209T230000,20261210T230000,20261211T230000,20261212T230000,20261213T230000,20261214T230000,20261215T230000,20261216T230000,20261217T230000,20261218T230000,20261219T230000,20261220T230000,20261221T230000,20261222T230000
END:VEVENT
BEGIN:VEVENT
UID:105161-1135@miserend.hu
DTSTAMP:20260422T140319Z
DTSTART;TZID=Europe/Budapest:20260101T180000
DTEND;TZID=Europe/Budapest:20260101T190000
SUMMARY:Szentmise
COLOR:#CCCCCC
RRULE:FREQ=WEEKLY;UNTIL=20261231T225959;BYDAY=MO,TU,WE,TH,FR,SA,SU
EXDATE;TZID=Europe/Budapest:20261128T230000,20261129T230000,20261130T230000,20261201T230000,20261202T230000,20261203T230000,20261204T230000,20261205T230000,20261206T230000,20261207T230000,20261208T230000,20261209T230000,20261210T230000,20261211T230000,20261212T230000,20261213T230000,20261214T230000,20261215T230000,20261216T230000,20261217T230000,20261218T230000,20261219T230000,20261220T230000,20261221T230000,20261222T230000
END:VEVENT
BEGIN:VEVENT
UID:105162-1135@miserend.hu
DTSTAMP:20260422T140319Z
DTSTART;TZID=Europe/Budapest:20260102T100000
DTEND;TZID=Europe/Budapest:20260102T110000
SUMMARY:Szentmise
COLOR:#CCCCCC
RRULE:FREQ=MONTHLY;UNTIL=20261231T225959;BYSETPOS=1;BYDAY=FR
EXDATE;TZID=Europe/Budapest:20261128T230000,20261129T230000,20261130T230000,20261201T230000,20261202T230000,20261203T230000,20261204T230000,20261205T230000,20261206T230000,20261207T230000,20261208T230000,20261209T230000,20261210T230000,20261211T230000,20261212T230000,20261213T230000,20261214T230000,20261215T230000,20261216T230000,20261217T230000,20261218T230000,20261219T230000,20261220T230000,20261221T230000,20261222T230000
END:VEVENT
BEGIN:VEVENT
UID:105163-1135@miserend.hu
DTSTAMP:20260422T140319Z
DTSTART;TZID=Europe/Budapest:20260104T070000
DTEND;TZID=Europe/Budapest:20260104T080000
SUMMARY:Szentmise
CATEGORIES:SILENT
COLOR:#CCCCCC
RRULE:FREQ=WEEKLY;UNTIL=20261231T225959;BYDAY=SU
EXDATE;TZID=Europe/Budapest:20261128T230000,20261129T230000,20261130T230000,20261201T230000,20261202T230000,20261203T230000,20261204T230000,20261205T230000,20261206T230000,20261207T230000,20261208T230000,20261209T230000,20261210T230000,20261211T230000,20261212T230000,20261213T230000,20261214T230000,20261215T230000,20261216T230000,20261217T230000,20261218T230000,20261219T230000,20261220T230000,20261221T230000,20261222T230000
END:VEVENT
BEGIN:VEVENT
UID:105164-1135@miserend.hu
DTSTAMP:20260422T140319Z
DTSTART;TZID=Europe/Budapest:20260104T083000
DTEND;TZID=Europe/Budapest:20260104T093000
SUMMARY:Szentmise
COLOR:#CCCCCC
RRULE:FREQ=WEEKLY;UNTIL=20261231T225959;BYDAY=SU
EXDATE;TZID=Europe/Budapest:20261128T230000,20261129T230000,20261130T230000,20261201T230000,20261202T230000,20261203T230000,20261204T230000,20261205T230000,20261206T230000,20261207T230000,20261208T230000,20261209T230000,20261210T230000,20261211T230000,20261212T230000,20261213T230000,20261214T230000,20261215T230000,20261216T230000,20261217T230000,20261218T230000,20261219T230000,20261220T230000,20261221T230000,20261222T230000
END:VEVENT
BEGIN:VEVENT
UID:105165-1135@miserend.hu
DTSTAMP:20260422T140319Z
DTSTART;TZID=Europe/Budapest:20260104T100000
DTEND;TZID=Europe/Budapest:20260104T110000
SUMMARY:Szentmise
CATEGORIES:FAMILY
COLOR:#CCCCCC
RRULE:FREQ=WEEKLY;UNTIL=20261231T225959;BYDAY=SU
EXDATE;TZID=Europe/Budapest:20261128T230000,20261129T230000,20261130T230000,20261201T230000,20261202T230000,20261203T230000,20261204T230000,20261205T230000,20261206T230000,20261207T230000,20261208T230000,20261209T230000,20261210T230000,20261211T230000,20261212T230000,20261213T230000,20261214T230000,20261215T230000,20261216T230000,20261217T230000,20261218T230000,20261219T230000,20261220T230000,20261221T230000,20261222T230000
END:VEVENT
BEGIN:VEVENT
UID:105166-1135@miserend.hu
DTSTAMP:20260422T140319Z
DTSTART;TZID=Europe/Budapest:20260104T113000
DTEND;TZID=Europe/Budapest:20260104T123000
SUMMARY:Szentmise
COLOR:#CCCCCC
RRULE:FREQ=WEEKLY;UNTIL=20261231T225959;BYDAY=SU
EXDATE;TZID=Europe/Budapest:20261128T230000,20261129T230000,20261130T230000,20261201T230000,20261202T230000,20261203T230000,20261204T230000,20261205T230000,20261206T230000,20261207T230000,20261208T230000,20261209T230000,20261210T230000,20261211T230000,20261212T230000,20261213T230000,20261214T230000,20261215T230000,20261216T230000,20261217T230000,20261218T230000,20261219T230000,20261220T230000,20261221T230000,20261222T230000
END:VEVENT
BEGIN:VEVENT
UID:105167-1135@miserend.hu
DTSTAMP:20260422T140319Z
DTSTART;TZID=Europe/Budapest:20260104T193000
DTEND;TZID=Europe/Budapest:20260104T203000
SUMMARY:Szentmise
CATEGORIES:GUITAR
COLOR:#CCCCCC
RRULE:FREQ=WEEKLY;UNTIL=20261231T225959;BYDAY=SU
EXDATE;TZID=Europe/Budapest:20261128T230000,20261129T230000,20261130T230000,20261201T230000,20261202T230000,20261203T230000,20261204T230000,20261205T230000,20261206T230000,20261207T230000,20261208T230000,20261209T230000,20261210T230000,20261211T230000,20261212T230000,20261213T230000,20261214T230000,20261215T230000,20261216T230000,20261217T230000,20261218T230000,20261219T230000,20261220T230000,20261221T230000,20261222T230000
END:VEVENT
BEGIN:VEVENT
UID:105152-1175@miserend.hu
DTSTAMP:20260422T140319Z
DTSTART;TZID=Europe/Budapest:20271129T063000
DTEND;TZID=Europe/Budapest:20271129T073000
SUMMARY:Szentmise
COLOR:#6A0DAD
RRULE:FREQ=WEEKLY;UNTIL=20271224T225959;BYDAY=MO,TU,WE,TH,FR,SA
END:VEVENT
BEGIN:VEVENT
UID:105153-1175@miserend.hu
DTSTAMP:20260422T140319Z
DTSTART;TZID=Europe/Budapest:20271128T180000
DTEND;TZID=Europe/Budapest:20271128T190000
SUMMARY:Szentmise
COLOR:#6A0DAD
RRULE:FREQ=WEEKLY;UNTIL=20271224T225959;BYDAY=MO,TU,WE,TH,FR,SA,SU
END:VEVENT
BEGIN:VEVENT
UID:105154-1175@miserend.hu
DTSTAMP:20260422T140319Z
DTSTART;TZID=Europe/Budapest:20271203T100000
DTEND;TZID=Europe/Budapest:20271203T110000
SUMMARY:Szentmise
COLOR:#6A0DAD
RRULE:FREQ=MONTHLY;UNTIL=20271224T225959;BYSETPOS=1;BYDAY=FR
END:VEVENT
BEGIN:VEVENT
UID:105155-1175@miserend.hu
DTSTAMP:20260422T140319Z
DTSTART;TZID=Europe/Budapest:20271128T070000
DTEND;TZID=Europe/Budapest:20271128T080000
SUMMARY:Szentmise
CATEGORIES:SILENT
COLOR:#6A0DAD
RRULE:FREQ=WEEKLY;UNTIL=20271224T225959;BYDAY=SU
END:VEVENT
BEGIN:VEVENT
UID:105156-1175@miserend.hu
DTSTAMP:20260422T140319Z
DTSTART;TZID=Europe/Budapest:20271128T083000
DTEND;TZID=Europe/Budapest:20271128T093000
SUMMARY:Szentmise
COLOR:#6A0DAD
RRULE:FREQ=WEEKLY;UNTIL=20271224T225959;BYDAY=SU
END:VEVENT
BEGIN:VEVENT
UID:105157-1175@miserend.hu
DTSTAMP:20260422T140319Z
DTSTART;TZID=Europe/Budapest:20271128T100000
DTEND;TZID=Europe/Budapest:20271128T110000
SUMMARY:Szentmise
CATEGORIES:FAMILY
COLOR:#6A0DAD
RRULE:FREQ=WEEKLY;UNTIL=20271224T225959;BYDAY=SU
END:VEVENT
BEGIN:VEVENT
UID:105158-1175@miserend.hu
DTSTAMP:20260422T140319Z
DTSTART;TZID=Europe/Budapest:20271128T113000
DTEND;TZID=Europe/Budapest:20271128T123000
SUMMARY:Szentmise
COLOR:#6A0DAD
RRULE:FREQ=WEEKLY;UNTIL=20271224T225959;BYDAY=SU
END:VEVENT
BEGIN:VEVENT
UID:105159-1175@miserend.hu
DTSTAMP:20260422T140319Z
DTSTART;TZID=Europe/Budapest:20271128T193000
DTEND;TZID=Europe/Budapest:20271128T203000
SUMMARY:Szentmise
CATEGORIES:SILENT
COLOR:#6A0DAD
RRULE:FREQ=WEEKLY;UNTIL=20271224T225959;BYDAY=SU
END:VEVENT
BEGIN:VEVENT
UID:105160-1173@miserend.hu
DTSTAMP:20260422T140319Z
DTSTART;TZID=Europe/Budapest:20270101T073000
DTEND;TZID=Europe/Budapest:20270101T083000
SUMMARY:Szentmise
COLOR:#CCCCCC
RRULE:FREQ=WEEKLY;UNTIL=20271231T225959;BYDAY=MO,TU,WE,TH,FR,SA
EXDATE;TZID=Europe/Budapest:20271127T230000,20271128T230000,20271129T230000,20271130T230000,20271201T230000,20271202T230000,20271203T230000,20271204T230000,20271205T230000,20271206T230000,20271207T230000,20271208T230000,20271209T230000,20271210T230000,20271211T230000,20271212T230000,20271213T230000,20271214T230000,20271215T230000,20271216T230000,20271217T230000,20271218T230000,20271219T230000,20271220T230000,20271221T230000,20271222T230000
END:VEVENT
BEGIN:VEVENT
UID:105161-1173@miserend.hu
DTSTAMP:20260422T140319Z
DTSTART;TZID=Europe/Budapest:20270101T180000
DTEND;TZID=Europe/Budapest:20270101T190000
SUMMARY:Szentmise
COLOR:#CCCCCC
RRULE:FREQ=WEEKLY;UNTIL=20271231T225959;BYDAY=MO,TU,WE,TH,FR,SA,SU
EXDATE;TZID=Europe/Budapest:20271127T230000,20271128T230000,20271129T230000,20271130T230000,20271201T230000,20271202T230000,20271203T230000,20271204T230000,20271205T230000,20271206T230000,20271207T230000,20271208T230000,20271209T230000,20271210T230000,20271211T230000,20271212T230000,20271213T230000,20271214T230000,20271215T230000,20271216T230000,20271217T230000,20271218T230000,20271219T230000,20271220T230000,20271221T230000,20271222T230000
END:VEVENT
BEGIN:VEVENT
UID:105162-1173@miserend.hu
DTSTAMP:20260422T140319Z
DTSTART;TZID=Europe/Budapest:20270101T100000
DTEND;TZID=Europe/Budapest:20270101T110000
SUMMARY:Szentmise
COLOR:#CCCCCC
RRULE:FREQ=MONTHLY;UNTIL=20271231T225959;BYSETPOS=1;BYDAY=FR
EXDATE;TZID=Europe/Budapest:20271127T230000,20271128T230000,20271129T230000,20271130T230000,20271201T230000,20271202T230000,20271203T230000,20271204T230000,20271205T230000,20271206T230000,20271207T230000,20271208T230000,20271209T230000,20271210T230000,20271211T230000,20271212T230000,20271213T230000,20271214T230000,20271215T230000,20271216T230000,20271217T230000,20271218T230000,20271219T230000,20271220T230000,20271221T230000,20271222T230000
END:VEVENT
BEGIN:VEVENT
UID:105163-1173@miserend.hu
DTSTAMP:20260422T140319Z
DTSTART;TZID=Europe/Budapest:20270103T070000
DTEND;TZID=Europe/Budapest:20270103T080000
SUMMARY:Szentmise
CATEGORIES:SILENT
COLOR:#CCCCCC
RRULE:FREQ=WEEKLY;UNTIL=20271231T225959;BYDAY=SU
EXDATE;TZID=Europe/Budapest:20271127T230000,20271128T230000,20271129T230000,20271130T230000,20271201T230000,20271202T230000,20271203T230000,20271204T230000,20271205T230000,20271206T230000,20271207T230000,20271208T230000,20271209T230000,20271210T230000,20271211T230000,20271212T230000,20271213T230000,20271214T230000,20271215T230000,20271216T230000,20271217T230000,20271218T230000,20271219T230000,20271220T230000,20271221T230000,20271222T230000
END:VEVENT
BEGIN:VEVENT
UID:105164-1173@miserend.hu
DTSTAMP:20260422T140319Z
DTSTART;TZID=Europe/Budapest:20270103T083000
DTEND;TZID=Europe/Budapest:20270103T093000
SUMMARY:Szentmise
COLOR:#CCCCCC
RRULE:FREQ=WEEKLY;UNTIL=20271231T225959;BYDAY=SU
EXDATE;TZID=Europe/Budapest:20271127T230000,20271128T230000,20271129T230000,20271130T230000,20271201T230000,20271202T230000,20271203T230000,20271204T230000,20271205T230000,20271206T230000,20271207T230000,20271208T230000,20271209T230000,20271210T230000,20271211T230000,20271212T230000,20271213T230000,20271214T230000,20271215T230000,20271216T230000,20271217T230000,20271218T230000,20271219T230000,20271220T230000,20271221T230000,20271222T230000
END:VEVENT
BEGIN:VEVENT
UID:105165-1173@miserend.hu
DTSTAMP:20260422T140319Z
DTSTART;TZID=Europe/Budapest:20270103T100000
DTEND;TZID=Europe/Budapest:20270103T110000
SUMMARY:Szentmise
CATEGORIES:FAMILY
COLOR:#CCCCCC
RRULE:FREQ=WEEKLY;UNTIL=20271231T225959;BYDAY=SU
EXDATE;TZID=Europe/Budapest:20271127T230000,20271128T230000,20271129T230000,20271130T230000,20271201T230000,20271202T230000,20271203T230000,20271204T230000,20271205T230000,20271206T230000,20271207T230000,20271208T230000,20271209T230000,20271210T230000,20271211T230000,20271212T230000,20271213T230000,20271214T230000,20271215T230000,20271216T230000,20271217T230000,20271218T230000,20271219T230000,20271220T230000,20271221T230000,20271222T230000
END:VEVENT
BEGIN:VEVENT
UID:105166-1173@miserend.hu
DTSTAMP:20260422T140319Z
DTSTART;TZID=Europe/Budapest:20270103T113000
DTEND;TZID=Europe/Budapest:20270103T123000
SUMMARY:Szentmise
COLOR:#CCCCCC
RRULE:FREQ=WEEKLY;UNTIL=20271231T225959;BYDAY=SU
EXDATE;TZID=Europe/Budapest:20271127T230000,20271128T230000,20271129T230000,20271130T230000,20271201T230000,20271202T230000,20271203T230000,20271204T230000,20271205T230000,20271206T230000,20271207T230000,20271208T230000,20271209T230000,20271210T230000,20271211T230000,20271212T230000,20271213T230000,20271214T230000,20271215T230000,20271216T230000,20271217T230000,20271218T230000,20271219T230000,20271220T230000,20271221T230000,20271222T230000
END:VEVENT
BEGIN:VEVENT
UID:105167-1173@miserend.hu
DTSTAMP:20260422T140319Z
DTSTART;TZID=Europe/Budapest:20270103T193000
DTEND;TZID=Europe/Budapest:20270103T203000
SUMMARY:Szentmise
CATEGORIES:GUITAR
COLOR:#CCCCCC
RRULE:FREQ=WEEKLY;UNTIL=20271231T225959;BYDAY=SU
EXDATE;TZID=Europe/Budapest:20271127T230000,20271128T230000,20271129T230000,20271130T230000,20271201T230000,20271202T230000,20271203T230000,20271204T230000,20271205T230000,20271206T230000,20271207T230000,20271208T230000,20271209T230000,20271210T230000,20271211T230000,20271212T230000,20271213T230000,20271214T230000,20271215T230000,20271216T230000,20271217T230000,20271218T230000,20271219T230000,20271220T230000,20271221T230000,20271222T230000
END:VEVENT
END:VCALENDAR