BEGIN:VCALENDAR
VERSION:2.0
PRODID:-//miserend.hu//2930//HU
CALSCALE:GREGORIAN
METHOD:PUBLISH
X-WR-CALNAME:Szentháromság-templom - Törökszentmiklós
X-WR-CALDESC:Frissített miserend automatikusan
X-WR-TIMEZONE:Europe/Budapest
BEGIN:VTIMEZONE
TZID:Europe/Budapest
X-LIC-LOCATION:Europe/Budapest
BEGIN:DAYLIGHT
TZOFFSETFROM:+0100
TZOFFSETTO:+0200
TZNAME:CEST
DTSTART:19700329T020000
RRULE:FREQ=YEARLY;BYMONTH=3;BYDAY=-1SU
END:DAYLIGHT
BEGIN:STANDARD
TZOFFSETFROM:+0200
TZOFFSETTO:+0100
TZNAME:CET
DTSTART:19701025T030000
RRULE:FREQ=YEARLY;BYMONTH=10;BYDAY=-1SU
END:STANDARD
END:VTIMEZONE
BEGIN:VEVENT
UID:105419-1134@miserend.hu
DTSTAMP:20260420T145414Z
DTSTART;TZID=Europe/Budapest:20260329T180000
DTEND;TZID=Europe/Budapest:20260329T190000
SUMMARY:Szentmise
COLOR:#FFD480
RRULE:FREQ=WEEKLY;UNTIL=20261025T225959;BYDAY=MO,FR,SA,SU
END:VEVENT
BEGIN:VEVENT
UID:105420-1134@miserend.hu
DTSTAMP:20260420T145414Z
DTSTART;TZID=Europe/Budapest:20260331T070000
DTEND;TZID=Europe/Budapest:20260331T080000
SUMMARY:Szentmise
COLOR:#FFD480
RRULE:FREQ=WEEKLY;UNTIL=20261025T225959;BYDAY=TU,WE,TH
END:VEVENT
BEGIN:VEVENT
UID:105421-1134@miserend.hu
DTSTAMP:20260420T145414Z
DTSTART;TZID=Europe/Budapest:20260329T100000
DTEND;TZID=Europe/Budapest:20260329T110000
SUMMARY:Szentmise
COLOR:#FFD480
RRULE:FREQ=WEEKLY;UNTIL=20261025T225959;BYDAY=SU
END:VEVENT
BEGIN:VEVENT
UID:105422-1094@miserend.hu
DTSTAMP:20260420T145414Z
DTSTART;TZID=Europe/Budapest:20260105T170000
DTEND;TZID=Europe/Budapest:20260105T180000
SUMMARY:Szentmise
DESCRIPTION:áprilisban és szeptemberben 18\,00-kor kezdődik
COLOR:#6EC6FF
RRULE:FREQ=WEEKLY;UNTIL=20260329T215959;BYDAY=MO
EXDATE;TZID=Europe/Budapest:20260328T230000
END:VEVENT
BEGIN:VEVENT
UID:105422-1133@miserend.hu
DTSTAMP:20260420T145414Z
DTSTART;TZID=Europe/Budapest:20261026T170000
DTEND;TZID=Europe/Budapest:20261026T180000
SUMMARY:Szentmise
DESCRIPTION:áprilisban és szeptemberben 18\,00-kor kezdődik
COLOR:#6EC6FF
RRULE:FREQ=WEEKLY;UNTIL=20261231T225959;BYDAY=MO
END:VEVENT
BEGIN:VEVENT
UID:105423-1094@miserend.hu
DTSTAMP:20260420T145414Z
DTSTART;TZID=Europe/Budapest:20260101T070000
DTEND;TZID=Europe/Budapest:20260101T080000
SUMMARY:Szentmise
COLOR:#6EC6FF
RRULE:FREQ=WEEKLY;UNTIL=20260329T215959;BYDAY=TU,WE,TH
EXDATE;TZID=Europe/Budapest:20260328T230000
END:VEVENT
BEGIN:VEVENT
UID:105423-1133@miserend.hu
DTSTAMP:20260420T145414Z
DTSTART;TZID=Europe/Budapest:20261027T070000
DTEND;TZID=Europe/Budapest:20261027T080000
SUMMARY:Szentmise
COLOR:#6EC6FF
RRULE:FREQ=WEEKLY;UNTIL=20261231T225959;BYDAY=TU,WE,TH
END:VEVENT
BEGIN:VEVENT
UID:105424-1094@miserend.hu
DTSTAMP:20260420T145414Z
DTSTART;TZID=Europe/Budapest:20260102T170000
DTEND;TZID=Europe/Budapest:20260102T180000
SUMMARY:Szentmise
COLOR:#6EC6FF
RRULE:FREQ=WEEKLY;UNTIL=20260329T215959;BYDAY=FR,SA,SU
EXDATE;TZID=Europe/Budapest:20260328T230000
END:VEVENT
BEGIN:VEVENT
UID:105424-1133@miserend.hu
DTSTAMP:20260420T145414Z
DTSTART;TZID=Europe/Budapest:20261025T170000
DTEND;TZID=Europe/Budapest:20261025T180000
SUMMARY:Szentmise
COLOR:#6EC6FF
RRULE:FREQ=WEEKLY;UNTIL=20261231T225959;BYDAY=FR,SA,SU
END:VEVENT
BEGIN:VEVENT
UID:105425-1094@miserend.hu
DTSTAMP:20260420T145414Z
DTSTART;TZID=Europe/Budapest:20260104T100000
DTEND;TZID=Europe/Budapest:20260104T110000
SUMMARY:Szentmise
COLOR:#6EC6FF
RRULE:FREQ=WEEKLY;UNTIL=20260329T215959;BYDAY=SU
EXDATE;TZID=Europe/Budapest:20260328T230000
END:VEVENT
BEGIN:VEVENT
UID:105425-1133@miserend.hu
DTSTAMP:20260420T145414Z
DTSTART;TZID=Europe/Budapest:20261025T100000
DTEND;TZID=Europe/Budapest:20261025T110000
SUMMARY:Szentmise
COLOR:#6EC6FF
RRULE:FREQ=WEEKLY;UNTIL=20261231T225959;BYDAY=SU
END:VEVENT
BEGIN:VEVENT
UID:105419-1172@miserend.hu
DTSTAMP:20260420T145414Z
DTSTART;TZID=Europe/Budapest:20270328T180000
DTEND;TZID=Europe/Budapest:20270328T190000
SUMMARY:Szentmise
COLOR:#FFD480
RRULE:FREQ=WEEKLY;UNTIL=20271031T225959;BYDAY=MO,FR,SA,SU
END:VEVENT
BEGIN:VEVENT
UID:105420-1172@miserend.hu
DTSTAMP:20260420T145414Z
DTSTART;TZID=Europe/Budapest:20270330T070000
DTEND;TZID=Europe/Budapest:20270330T080000
SUMMARY:Szentmise
COLOR:#FFD480
RRULE:FREQ=WEEKLY;UNTIL=20271031T225959;BYDAY=TU,WE,TH
END:VEVENT
BEGIN:VEVENT
UID:105421-1172@miserend.hu
DTSTAMP:20260420T145414Z
DTSTART;TZID=Europe/Budapest:20270328T100000
DTEND;TZID=Europe/Budapest:20270328T110000
SUMMARY:Szentmise
COLOR:#FFD480
RRULE:FREQ=WEEKLY;UNTIL=20271031T225959;BYDAY=SU
END:VEVENT
BEGIN:VEVENT
UID:105422-1133@miserend.hu
DTSTAMP:20260420T145414Z
DTSTART;TZID=Europe/Budapest:20270104T170000
DTEND;TZID=Europe/Budapest:20270104T180000
SUMMARY:Szentmise
DESCRIPTION:áprilisban és szeptemberben 18\,00-kor kezdődik
COLOR:#6EC6FF
RRULE:FREQ=WEEKLY;UNTIL=20270328T215959;BYDAY=MO
EXDATE;TZID=Europe/Budapest:20270327T230000
END:VEVENT
BEGIN:VEVENT
UID:105423-1133@miserend.hu
DTSTAMP:20260420T145414Z
DTSTART;TZID=Europe/Budapest:20270105T070000
DTEND;TZID=Europe/Budapest:20270105T080000
SUMMARY:Szentmise
COLOR:#6EC6FF
RRULE:FREQ=WEEKLY;UNTIL=20270328T215959;BYDAY=TU,WE,TH
EXDATE;TZID=Europe/Budapest:20270327T230000
END:VEVENT
BEGIN:VEVENT
UID:105424-1133@miserend.hu
DTSTAMP:20260420T145414Z
DTSTART;TZID=Europe/Budapest:20270101T170000
DTEND;TZID=Europe/Budapest:20270101T180000
SUMMARY:Szentmise
COLOR:#6EC6FF
RRULE:FREQ=WEEKLY;UNTIL=20270328T215959;BYDAY=FR,SA,SU
EXDATE;TZID=Europe/Budapest:20270327T230000
END:VEVENT
BEGIN:VEVENT
UID:105425-1133@miserend.hu
DTSTAMP:20260420T145414Z
DTSTART;TZID=Europe/Budapest:20270103T100000
DTEND;TZID=Europe/Budapest:20270103T110000
SUMMARY:Szentmise
COLOR:#6EC6FF
RRULE:FREQ=WEEKLY;UNTIL=20270328T215959;BYDAY=SU
EXDATE;TZID=Europe/Budapest:20270327T230000
END:VEVENT
END:VCALENDAR