BEGIN:VCALENDAR
VERSION:2.0
PRODID:-//miserend.hu//2992//HU
CALSCALE:GREGORIAN
METHOD:PUBLISH
X-WR-CALNAME:Keresztelő Szent János születése-templom (belvárosi templom) - Heves
X-WR-CALDESC:Frissített miserend automatikusan
X-WR-TIMEZONE:Europe/Budapest
BEGIN:VTIMEZONE
TZID:Europe/Budapest
X-LIC-LOCATION:Europe/Budapest
BEGIN:DAYLIGHT
TZOFFSETFROM:+0100
TZOFFSETTO:+0200
TZNAME:CEST
DTSTART:19700329T020000
RRULE:FREQ=YEARLY;BYMONTH=3;BYDAY=-1SU
END:DAYLIGHT
BEGIN:STANDARD
TZOFFSETFROM:+0200
TZOFFSETTO:+0100
TZNAME:CET
DTSTART:19701025T030000
RRULE:FREQ=YEARLY;BYMONTH=10;BYDAY=-1SU
END:STANDARD
END:VTIMEZONE
BEGIN:VEVENT
UID:105516-1134@miserend.hu
DTSTAMP:20260420T233308Z
DTSTART;TZID=Europe/Budapest:20260330T070000
DTEND;TZID=Europe/Budapest:20260330T080000
SUMMARY:Szentmise
COLOR:#FFD480
RRULE:FREQ=WEEKLY;UNTIL=20261025T225959;BYDAY=MO,TU,WE,FR
END:VEVENT
BEGIN:VEVENT
UID:105517-1134@miserend.hu
DTSTAMP:20260420T233308Z
DTSTART;TZID=Europe/Budapest:20260329T183000
DTEND;TZID=Europe/Budapest:20260329T193000
SUMMARY:Szentmise
COLOR:#FFD480
RRULE:FREQ=WEEKLY;UNTIL=20261025T225959;BYDAY=TH,SA,SU
END:VEVENT
BEGIN:VEVENT
UID:105518-1134@miserend.hu
DTSTAMP:20260420T233308Z
DTSTART;TZID=Europe/Budapest:20260329T080000
DTEND;TZID=Europe/Budapest:20260329T090000
SUMMARY:Szentmise
COLOR:#FFD480
RRULE:FREQ=WEEKLY;UNTIL=20261025T225959;BYDAY=SU
END:VEVENT
BEGIN:VEVENT
UID:105519-1094@miserend.hu
DTSTAMP:20260420T233308Z
DTSTART;TZID=Europe/Budapest:20260102T070000
DTEND;TZID=Europe/Budapest:20260102T080000
SUMMARY:Szentmise
COLOR:#6EC6FF
RRULE:FREQ=WEEKLY;UNTIL=20260329T215959;BYDAY=MO,TU,WE,FR
EXDATE;TZID=Europe/Budapest:20260328T230000
END:VEVENT
BEGIN:VEVENT
UID:105519-1133@miserend.hu
DTSTAMP:20260420T233308Z
DTSTART;TZID=Europe/Budapest:20261026T070000
DTEND;TZID=Europe/Budapest:20261026T080000
SUMMARY:Szentmise
COLOR:#6EC6FF
RRULE:FREQ=WEEKLY;UNTIL=20261231T225959;BYDAY=MO,TU,WE,FR
END:VEVENT
BEGIN:VEVENT
UID:105520-1094@miserend.hu
DTSTAMP:20260420T233308Z
DTSTART;TZID=Europe/Budapest:20260101T170000
DTEND;TZID=Europe/Budapest:20260101T180000
SUMMARY:Szentmise
COLOR:#6EC6FF
RRULE:FREQ=WEEKLY;UNTIL=20260329T215959;BYDAY=TH,SA,SU
EXDATE;TZID=Europe/Budapest:20260328T230000
END:VEVENT
BEGIN:VEVENT
UID:105520-1133@miserend.hu
DTSTAMP:20260420T233308Z
DTSTART;TZID=Europe/Budapest:20261025T170000
DTEND;TZID=Europe/Budapest:20261025T180000
SUMMARY:Szentmise
COLOR:#6EC6FF
RRULE:FREQ=WEEKLY;UNTIL=20261231T225959;BYDAY=TH,SA,SU
END:VEVENT
BEGIN:VEVENT
UID:105521-1094@miserend.hu
DTSTAMP:20260420T233308Z
DTSTART;TZID=Europe/Budapest:20260104T080000
DTEND;TZID=Europe/Budapest:20260104T090000
SUMMARY:Szentmise
COLOR:#6EC6FF
RRULE:FREQ=WEEKLY;UNTIL=20260329T215959;BYDAY=SU
EXDATE;TZID=Europe/Budapest:20260328T230000
END:VEVENT
BEGIN:VEVENT
UID:105521-1133@miserend.hu
DTSTAMP:20260420T233308Z
DTSTART;TZID=Europe/Budapest:20261025T080000
DTEND;TZID=Europe/Budapest:20261025T090000
SUMMARY:Szentmise
COLOR:#6EC6FF
RRULE:FREQ=WEEKLY;UNTIL=20261231T225959;BYDAY=SU
END:VEVENT
BEGIN:VEVENT
UID:105516-1172@miserend.hu
DTSTAMP:20260420T233308Z
DTSTART;TZID=Europe/Budapest:20270329T070000
DTEND;TZID=Europe/Budapest:20270329T080000
SUMMARY:Szentmise
COLOR:#FFD480
RRULE:FREQ=WEEKLY;UNTIL=20271031T225959;BYDAY=MO,TU,WE,FR
END:VEVENT
BEGIN:VEVENT
UID:105517-1172@miserend.hu
DTSTAMP:20260420T233308Z
DTSTART;TZID=Europe/Budapest:20270328T183000
DTEND;TZID=Europe/Budapest:20270328T193000
SUMMARY:Szentmise
COLOR:#FFD480
RRULE:FREQ=WEEKLY;UNTIL=20271031T225959;BYDAY=TH,SA,SU
END:VEVENT
BEGIN:VEVENT
UID:105518-1172@miserend.hu
DTSTAMP:20260420T233308Z
DTSTART;TZID=Europe/Budapest:20270328T080000
DTEND;TZID=Europe/Budapest:20270328T090000
SUMMARY:Szentmise
COLOR:#FFD480
RRULE:FREQ=WEEKLY;UNTIL=20271031T225959;BYDAY=SU
END:VEVENT
BEGIN:VEVENT
UID:105519-1133@miserend.hu
DTSTAMP:20260420T233308Z
DTSTART;TZID=Europe/Budapest:20270101T070000
DTEND;TZID=Europe/Budapest:20270101T080000
SUMMARY:Szentmise
COLOR:#6EC6FF
RRULE:FREQ=WEEKLY;UNTIL=20270328T215959;BYDAY=MO,TU,WE,FR
EXDATE;TZID=Europe/Budapest:20270327T230000
END:VEVENT
BEGIN:VEVENT
UID:105520-1133@miserend.hu
DTSTAMP:20260420T233308Z
DTSTART;TZID=Europe/Budapest:20270102T170000
DTEND;TZID=Europe/Budapest:20270102T180000
SUMMARY:Szentmise
COLOR:#6EC6FF
RRULE:FREQ=WEEKLY;UNTIL=20270328T215959;BYDAY=TH,SA,SU
EXDATE;TZID=Europe/Budapest:20270327T230000
END:VEVENT
BEGIN:VEVENT
UID:105521-1133@miserend.hu
DTSTAMP:20260420T233308Z
DTSTART;TZID=Europe/Budapest:20270103T080000
DTEND;TZID=Europe/Budapest:20270103T090000
SUMMARY:Szentmise
COLOR:#6EC6FF
RRULE:FREQ=WEEKLY;UNTIL=20270328T215959;BYDAY=SU
EXDATE;TZID=Europe/Budapest:20270327T230000
END:VEVENT
END:VCALENDAR