BEGIN:VCALENDAR
VERSION:2.0
PRODID:-//miserend.hu//3087//HU
CALSCALE:GREGORIAN
METHOD:PUBLISH
X-WR-CALNAME:Szűz Mária Május királynője-templom - Nyírkércs
X-WR-CALDESC:Frissített miserend automatikusan
X-WR-TIMEZONE:Europe/Budapest
BEGIN:VTIMEZONE
TZID:Europe/Budapest
X-LIC-LOCATION:Europe/Budapest
BEGIN:DAYLIGHT
TZOFFSETFROM:+0100
TZOFFSETTO:+0200
TZNAME:CEST
DTSTART:19700329T020000
RRULE:FREQ=YEARLY;BYMONTH=3;BYDAY=-1SU
END:DAYLIGHT
BEGIN:STANDARD
TZOFFSETFROM:+0200
TZOFFSETTO:+0100
TZNAME:CET
DTSTART:19701025T030000
RRULE:FREQ=YEARLY;BYMONTH=10;BYDAY=-1SU
END:STANDARD
END:VTIMEZONE
BEGIN:VEVENT
UID:105680-1134@miserend.hu
DTSTAMP:20260423T153956Z
DTSTART;TZID=Europe/Budapest:20260331T170000
DTEND;TZID=Europe/Budapest:20260331T180000
SUMMARY:Szentmise
COLOR:#FFD480
RRULE:FREQ=WEEKLY;UNTIL=20261025T225959;BYDAY=TU
END:VEVENT
BEGIN:VEVENT
UID:105681-1134@miserend.hu
DTSTAMP:20260423T153956Z
DTSTART;TZID=Europe/Budapest:20260401T080000
DTEND;TZID=Europe/Budapest:20260401T090000
SUMMARY:Szent Liturgia
COLOR:#FFD480
RRULE:FREQ=WEEKLY;UNTIL=20261025T225959;BYDAY=WE
END:VEVENT
BEGIN:VEVENT
UID:105682-1134@miserend.hu
DTSTAMP:20260423T153956Z
DTSTART;TZID=Europe/Budapest:20260405T080000
DTEND;TZID=Europe/Budapest:20260405T090000
SUMMARY:Szentmise
COLOR:#FFD480
RRULE:FREQ=WEEKLY;UNTIL=20261025T225959;BYWEEKNO=2,4,6,8,10,12,14,16,18,20,22,24,26,28,30,32,34,36,38,40,42,44,46,48,50,52;BYDAY=SU
END:VEVENT
BEGIN:VEVENT
UID:105683-1134@miserend.hu
DTSTAMP:20260423T153956Z
DTSTART;TZID=Europe/Budapest:20260329T080000
DTEND;TZID=Europe/Budapest:20260329T090000
SUMMARY:Szent Liturgia
COLOR:#FFD480
RRULE:FREQ=WEEKLY;UNTIL=20261025T225959;BYWEEKNO=1,3,5,7,9,11,13,15,17,19,21,23,25,27,29,31,33,35,37,39,41,43,45,47,49,51;BYDAY=SU
END:VEVENT
BEGIN:VEVENT
UID:105684-1094@miserend.hu
DTSTAMP:20260423T153956Z
DTSTART;TZID=Europe/Budapest:20260106T160000
DTEND;TZID=Europe/Budapest:20260106T170000
SUMMARY:Szentmise
COLOR:#6EC6FF
RRULE:FREQ=WEEKLY;UNTIL=20260329T215959;BYDAY=TU
EXDATE;TZID=Europe/Budapest:20260328T230000
END:VEVENT
BEGIN:VEVENT
UID:105684-1133@miserend.hu
DTSTAMP:20260423T153956Z
DTSTART;TZID=Europe/Budapest:20261027T160000
DTEND;TZID=Europe/Budapest:20261027T170000
SUMMARY:Szentmise
COLOR:#6EC6FF
RRULE:FREQ=WEEKLY;UNTIL=20261231T225959;BYDAY=TU
END:VEVENT
BEGIN:VEVENT
UID:105685-1094@miserend.hu
DTSTAMP:20260423T153956Z
DTSTART;TZID=Europe/Budapest:20260107T080000
DTEND;TZID=Europe/Budapest:20260107T090000
SUMMARY:Szent Liturgia
COLOR:#6EC6FF
RRULE:FREQ=WEEKLY;UNTIL=20260329T215959;BYDAY=WE
EXDATE;TZID=Europe/Budapest:20260328T230000
END:VEVENT
BEGIN:VEVENT
UID:105685-1133@miserend.hu
DTSTAMP:20260423T153956Z
DTSTART;TZID=Europe/Budapest:20261028T080000
DTEND;TZID=Europe/Budapest:20261028T090000
SUMMARY:Szent Liturgia
COLOR:#6EC6FF
RRULE:FREQ=WEEKLY;UNTIL=20261231T225959;BYDAY=WE
END:VEVENT
BEGIN:VEVENT
UID:105686-1094@miserend.hu
DTSTAMP:20260423T153956Z
DTSTART;TZID=Europe/Budapest:20260111T080000
DTEND;TZID=Europe/Budapest:20260111T090000
SUMMARY:Szentmise
COLOR:#6EC6FF
RRULE:FREQ=WEEKLY;UNTIL=20260329T215959;BYWEEKNO=2,4,6,8,10,12,14,16,18,20,22,24,26,28,30,32,34,36,38,40,42,44,46,48,50,52;BYDAY=SU
EXDATE;TZID=Europe/Budapest:20260328T230000
END:VEVENT
BEGIN:VEVENT
UID:105686-1133@miserend.hu
DTSTAMP:20260423T153956Z
DTSTART;TZID=Europe/Budapest:20261101T080000
DTEND;TZID=Europe/Budapest:20261101T090000
SUMMARY:Szentmise
COLOR:#6EC6FF
RRULE:FREQ=WEEKLY;UNTIL=20261231T225959;BYWEEKNO=2,4,6,8,10,12,14,16,18,20,22,24,26,28,30,32,34,36,38,40,42,44,46,48,50,52;BYDAY=SU
END:VEVENT
BEGIN:VEVENT
UID:105687-1094@miserend.hu
DTSTAMP:20260423T153956Z
DTSTART;TZID=Europe/Budapest:20260104T080000
DTEND;TZID=Europe/Budapest:20260104T090000
SUMMARY:Szent Liturgia
COLOR:#6EC6FF
RRULE:FREQ=WEEKLY;UNTIL=20260329T215959;BYWEEKNO=1,3,5,7,9,11,13,15,17,19,21,23,25,27,29,31,33,35,37,39,41,43,45,47,49,51;BYDAY=SU
EXDATE;TZID=Europe/Budapest:20260328T230000
END:VEVENT
BEGIN:VEVENT
UID:105687-1133@miserend.hu
DTSTAMP:20260423T153956Z
DTSTART;TZID=Europe/Budapest:20261025T080000
DTEND;TZID=Europe/Budapest:20261025T090000
SUMMARY:Szent Liturgia
COLOR:#6EC6FF
RRULE:FREQ=WEEKLY;UNTIL=20261231T225959;BYWEEKNO=1,3,5,7,9,11,13,15,17,19,21,23,25,27,29,31,33,35,37,39,41,43,45,47,49,51;BYDAY=SU
END:VEVENT
BEGIN:VEVENT
UID:105680-1172@miserend.hu
DTSTAMP:20260423T153956Z
DTSTART;TZID=Europe/Budapest:20270330T170000
DTEND;TZID=Europe/Budapest:20270330T180000
SUMMARY:Szentmise
COLOR:#FFD480
RRULE:FREQ=WEEKLY;UNTIL=20271031T225959;BYDAY=TU
END:VEVENT
BEGIN:VEVENT
UID:105681-1172@miserend.hu
DTSTAMP:20260423T153956Z
DTSTART;TZID=Europe/Budapest:20270331T080000
DTEND;TZID=Europe/Budapest:20270331T090000
SUMMARY:Szent Liturgia
COLOR:#FFD480
RRULE:FREQ=WEEKLY;UNTIL=20271031T225959;BYDAY=WE
END:VEVENT
BEGIN:VEVENT
UID:105682-1172@miserend.hu
DTSTAMP:20260423T153956Z
DTSTART;TZID=Europe/Budapest:20270328T080000
DTEND;TZID=Europe/Budapest:20270328T090000
SUMMARY:Szentmise
COLOR:#FFD480
RRULE:FREQ=WEEKLY;UNTIL=20271031T225959;BYWEEKNO=2,4,6,8,10,12,14,16,18,20,22,24,26,28,30,32,34,36,38,40,42,44,46,48,50,52;BYDAY=SU
END:VEVENT
BEGIN:VEVENT
UID:105683-1172@miserend.hu
DTSTAMP:20260423T153956Z
DTSTART;TZID=Europe/Budapest:20270404T080000
DTEND;TZID=Europe/Budapest:20270404T090000
SUMMARY:Szent Liturgia
COLOR:#FFD480
RRULE:FREQ=WEEKLY;UNTIL=20271031T225959;BYWEEKNO=1,3,5,7,9,11,13,15,17,19,21,23,25,27,29,31,33,35,37,39,41,43,45,47,49,51;BYDAY=SU
END:VEVENT
BEGIN:VEVENT
UID:105684-1133@miserend.hu
DTSTAMP:20260423T153956Z
DTSTART;TZID=Europe/Budapest:20270105T160000
DTEND;TZID=Europe/Budapest:20270105T170000
SUMMARY:Szentmise
COLOR:#6EC6FF
RRULE:FREQ=WEEKLY;UNTIL=20270328T215959;BYDAY=TU
EXDATE;TZID=Europe/Budapest:20270327T230000
END:VEVENT
BEGIN:VEVENT
UID:105685-1133@miserend.hu
DTSTAMP:20260423T153956Z
DTSTART;TZID=Europe/Budapest:20270106T080000
DTEND;TZID=Europe/Budapest:20270106T090000
SUMMARY:Szent Liturgia
COLOR:#6EC6FF
RRULE:FREQ=WEEKLY;UNTIL=20270328T215959;BYDAY=WE
EXDATE;TZID=Europe/Budapest:20270327T230000
END:VEVENT
BEGIN:VEVENT
UID:105686-1133@miserend.hu
DTSTAMP:20260423T153956Z
DTSTART;TZID=Europe/Budapest:20270117T080000
DTEND;TZID=Europe/Budapest:20270117T090000
SUMMARY:Szentmise
COLOR:#6EC6FF
RRULE:FREQ=WEEKLY;UNTIL=20270328T215959;BYWEEKNO=2,4,6,8,10,12,14,16,18,20,22,24,26,28,30,32,34,36,38,40,42,44,46,48,50,52;BYDAY=SU
EXDATE;TZID=Europe/Budapest:20270327T230000
END:VEVENT
BEGIN:VEVENT
UID:105687-1133@miserend.hu
DTSTAMP:20260423T153956Z
DTSTART;TZID=Europe/Budapest:20270110T080000
DTEND;TZID=Europe/Budapest:20270110T090000
SUMMARY:Szent Liturgia
COLOR:#6EC6FF
RRULE:FREQ=WEEKLY;UNTIL=20270328T215959;BYWEEKNO=1,3,5,7,9,11,13,15,17,19,21,23,25,27,29,31,33,35,37,39,41,43,45,47,49,51;BYDAY=SU
EXDATE;TZID=Europe/Budapest:20270327T230000
END:VEVENT
END:VCALENDAR