BEGIN:VCALENDAR
VERSION:2.0
PRODID:-//miserend.hu//3233//HU
CALSCALE:GREGORIAN
METHOD:PUBLISH
X-WR-CALNAME:Szent Kereszt felmagasztalása-kápolna - Érsekvadkert
X-WR-CALDESC:Frissített miserend automatikusan
X-WR-TIMEZONE:Europe/Budapest
BEGIN:VTIMEZONE
TZID:Europe/Budapest
X-LIC-LOCATION:Europe/Budapest
BEGIN:DAYLIGHT
TZOFFSETFROM:+0100
TZOFFSETTO:+0200
TZNAME:CEST
DTSTART:19700329T020000
RRULE:FREQ=YEARLY;BYMONTH=3;BYDAY=-1SU
END:DAYLIGHT
BEGIN:STANDARD
TZOFFSETFROM:+0200
TZOFFSETTO:+0100
TZNAME:CET
DTSTART:19701025T030000
RRULE:FREQ=YEARLY;BYMONTH=10;BYDAY=-1SU
END:STANDARD
END:VTIMEZONE
BEGIN:VEVENT
UID:105941-1107@miserend.hu
DTSTAMP:20260423T001834Z
DTSTART;TZID=Europe/Budapest:20260506T190000
DTEND;TZID=Europe/Budapest:20260506T200000
SUMMARY:Szentmise
COLOR:#B5FF85
RRULE:FREQ=WEEKLY;UNTIL=20260601T215959;BYDAY=WE
END:VEVENT
BEGIN:VEVENT
UID:105942-1108@miserend.hu
DTSTAMP:20260423T001834Z
DTSTART;TZID=Europe/Budapest:20261007T180000
DTEND;TZID=Europe/Budapest:20261007T190000
SUMMARY:Szentmise
COLOR:#FF944D
RRULE:FREQ=WEEKLY;UNTIL=20261101T225959;BYDAY=WE
END:VEVENT
BEGIN:VEVENT
UID:105941-1146@miserend.hu
DTSTAMP:20260423T001834Z
DTSTART;TZID=Europe/Budapest:20270505T190000
DTEND;TZID=Europe/Budapest:20270505T200000
SUMMARY:Szentmise
COLOR:#B5FF85
RRULE:FREQ=WEEKLY;UNTIL=20270601T215959;BYDAY=WE
END:VEVENT
BEGIN:VEVENT
UID:105942-1147@miserend.hu
DTSTAMP:20260423T001834Z
DTSTART;TZID=Europe/Budapest:20271006T180000
DTEND;TZID=Europe/Budapest:20271006T190000
SUMMARY:Szentmise
COLOR:#FF944D
RRULE:FREQ=WEEKLY;UNTIL=20271101T225959;BYDAY=WE
END:VEVENT
END:VCALENDAR