BEGIN:VCALENDAR
VERSION:2.0
PRODID:-//miserend.hu//3402//HU
CALSCALE:GREGORIAN
METHOD:PUBLISH
X-WR-CALNAME:Szentháromság-templom (piarista templom) - Kolozsvár (Cluj-Napoca)
X-WR-CALDESC:Frissített miserend automatikusan
X-WR-TIMEZONE:Europe/Budapest
BEGIN:VTIMEZONE
TZID:Europe/Budapest
X-LIC-LOCATION:Europe/Budapest
BEGIN:DAYLIGHT
TZOFFSETFROM:+0100
TZOFFSETTO:+0200
TZNAME:CEST
DTSTART:19700329T020000
RRULE:FREQ=YEARLY;BYMONTH=3;BYDAY=-1SU
END:DAYLIGHT
BEGIN:STANDARD
TZOFFSETFROM:+0200
TZOFFSETTO:+0100
TZNAME:CET
DTSTART:19701025T030000
RRULE:FREQ=YEARLY;BYMONTH=10;BYDAY=-1SU
END:STANDARD
END:VTIMEZONE
BEGIN:VEVENT
UID:106204-1135@miserend.hu
DTSTAMP:20260423T095725Z
DTSTART;TZID=Europe/Budapest:20260102T073000
DTEND;TZID=Europe/Budapest:20260102T083000
SUMMARY:Szentmise
COLOR:#CCCCCC
RRULE:FREQ=WEEKLY;UNTIL=20261231T225959;BYDAY=MO,WE,FR,SA
END:VEVENT
BEGIN:VEVENT
UID:106205-1135@miserend.hu
DTSTAMP:20260423T095725Z
DTSTART;TZID=Europe/Budapest:20260101T083000
DTEND;TZID=Europe/Budapest:20260101T093000
SUMMARY:Szentmise
COLOR:#CCCCCC
RRULE:FREQ=WEEKLY;UNTIL=20261231T225959;BYDAY=MO,TU,WE,TH,FR
END:VEVENT
BEGIN:VEVENT
UID:106206-1135@miserend.hu
DTSTAMP:20260423T095725Z
DTSTART;TZID=Europe/Budapest:20260101T180000
DTEND;TZID=Europe/Budapest:20260101T190000
SUMMARY:Szentmise
COLOR:#CCCCCC
RRULE:FREQ=WEEKLY;UNTIL=20261231T225959;BYDAY=TU,TH
END:VEVENT
BEGIN:VEVENT
UID:106207-1135@miserend.hu
DTSTAMP:20260423T095725Z
DTSTART;TZID=Europe/Budapest:20260104T080000
DTEND;TZID=Europe/Budapest:20260104T090000
SUMMARY:Szentmise
COLOR:#CCCCCC
RRULE:FREQ=WEEKLY;UNTIL=20261231T225959;BYDAY=SU
END:VEVENT
BEGIN:VEVENT
UID:106208-1135@miserend.hu
DTSTAMP:20260423T095725Z
DTSTART;TZID=Europe/Budapest:20260104T190000
DTEND;TZID=Europe/Budapest:20260104T200000
SUMMARY:Szentmise
COLOR:#CCCCCC
RRULE:FREQ=WEEKLY;UNTIL=20261231T225959;BYDAY=SU
END:VEVENT
BEGIN:VEVENT
UID:106209-1135@miserend.hu
DTSTAMP:20260423T095725Z
DTSTART;TZID=Europe/Budapest:20260104T093000
DTEND;TZID=Europe/Budapest:20260104T103000
SUMMARY:Szentmise
COLOR:#CCCCCC
RRULE:FREQ=WEEKLY;UNTIL=20261231T225959;BYDAY=SU
END:VEVENT
BEGIN:VEVENT
UID:106210-1135@miserend.hu
DTSTAMP:20260423T095725Z
DTSTART;TZID=Europe/Budapest:20260104T104500
DTEND;TZID=Europe/Budapest:20260104T114500
SUMMARY:Szentmise
COLOR:#CCCCCC
RRULE:FREQ=WEEKLY;UNTIL=20261231T225959;BYDAY=SU
END:VEVENT
BEGIN:VEVENT
UID:106211-1135@miserend.hu
DTSTAMP:20260423T095725Z
DTSTART;TZID=Europe/Budapest:20260104T170000
DTEND;TZID=Europe/Budapest:20260104T180000
SUMMARY:Szentmise
COLOR:#CCCCCC
RRULE:FREQ=WEEKLY;UNTIL=20261231T225959;BYDAY=SU
END:VEVENT
BEGIN:VEVENT
UID:106204-1173@miserend.hu
DTSTAMP:20260423T095725Z
DTSTART;TZID=Europe/Budapest:20270101T073000
DTEND;TZID=Europe/Budapest:20270101T083000
SUMMARY:Szentmise
COLOR:#CCCCCC
RRULE:FREQ=WEEKLY;UNTIL=20271231T225959;BYDAY=MO,WE,FR,SA
END:VEVENT
BEGIN:VEVENT
UID:106205-1173@miserend.hu
DTSTAMP:20260423T095725Z
DTSTART;TZID=Europe/Budapest:20270101T083000
DTEND;TZID=Europe/Budapest:20270101T093000
SUMMARY:Szentmise
COLOR:#CCCCCC
RRULE:FREQ=WEEKLY;UNTIL=20271231T225959;BYDAY=MO,TU,WE,TH,FR
END:VEVENT
BEGIN:VEVENT
UID:106206-1173@miserend.hu
DTSTAMP:20260423T095725Z
DTSTART;TZID=Europe/Budapest:20270105T180000
DTEND;TZID=Europe/Budapest:20270105T190000
SUMMARY:Szentmise
COLOR:#CCCCCC
RRULE:FREQ=WEEKLY;UNTIL=20271231T225959;BYDAY=TU,TH
END:VEVENT
BEGIN:VEVENT
UID:106207-1173@miserend.hu
DTSTAMP:20260423T095725Z
DTSTART;TZID=Europe/Budapest:20270103T080000
DTEND;TZID=Europe/Budapest:20270103T090000
SUMMARY:Szentmise
COLOR:#CCCCCC
RRULE:FREQ=WEEKLY;UNTIL=20271231T225959;BYDAY=SU
END:VEVENT
BEGIN:VEVENT
UID:106208-1173@miserend.hu
DTSTAMP:20260423T095725Z
DTSTART;TZID=Europe/Budapest:20270103T190000
DTEND;TZID=Europe/Budapest:20270103T200000
SUMMARY:Szentmise
COLOR:#CCCCCC
RRULE:FREQ=WEEKLY;UNTIL=20271231T225959;BYDAY=SU
END:VEVENT
BEGIN:VEVENT
UID:106209-1173@miserend.hu
DTSTAMP:20260423T095725Z
DTSTART;TZID=Europe/Budapest:20270103T093000
DTEND;TZID=Europe/Budapest:20270103T103000
SUMMARY:Szentmise
COLOR:#CCCCCC
RRULE:FREQ=WEEKLY;UNTIL=20271231T225959;BYDAY=SU
END:VEVENT
BEGIN:VEVENT
UID:106210-1173@miserend.hu
DTSTAMP:20260423T095725Z
DTSTART;TZID=Europe/Budapest:20270103T104500
DTEND;TZID=Europe/Budapest:20270103T114500
SUMMARY:Szentmise
COLOR:#CCCCCC
RRULE:FREQ=WEEKLY;UNTIL=20271231T225959;BYDAY=SU
END:VEVENT
BEGIN:VEVENT
UID:106211-1173@miserend.hu
DTSTAMP:20260423T095725Z
DTSTART;TZID=Europe/Budapest:20270103T170000
DTEND;TZID=Europe/Budapest:20270103T180000
SUMMARY:Szentmise
COLOR:#CCCCCC
RRULE:FREQ=WEEKLY;UNTIL=20271231T225959;BYDAY=SU
END:VEVENT
END:VCALENDAR