BEGIN:VCALENDAR
VERSION:2.0
PRODID:-//miserend.hu//3705//HU
CALSCALE:GREGORIAN
METHOD:PUBLISH
X-WR-CALNAME:Szent György-templom - Borsodszentgyörgy
X-WR-CALDESC:Frissített miserend automatikusan
X-WR-TIMEZONE:Europe/Budapest
BEGIN:VTIMEZONE
TZID:Europe/Budapest
X-LIC-LOCATION:Europe/Budapest
BEGIN:DAYLIGHT
TZOFFSETFROM:+0100
TZOFFSETTO:+0200
TZNAME:CEST
DTSTART:19700329T020000
RRULE:FREQ=YEARLY;BYMONTH=3;BYDAY=-1SU
END:DAYLIGHT
BEGIN:STANDARD
TZOFFSETFROM:+0200
TZOFFSETTO:+0100
TZNAME:CET
DTSTART:19701025T030000
RRULE:FREQ=YEARLY;BYMONTH=10;BYDAY=-1SU
END:STANDARD
END:VTIMEZONE
BEGIN:VEVENT
UID:106834-1103@miserend.hu
DTSTAMP:20260420T095941Z
DTSTART;TZID=Europe/Budapest:20260105T080000
DTEND;TZID=Europe/Budapest:20260105T090000
SUMMARY:Szentmise
DESCRIPTION:iskolamise
CATEGORIES:STUDENT
COLOR:#6699FF
RRULE:FREQ=MONTHLY;UNTIL=20260619T215959;BYSETPOS=1;BYDAY=MO
EXDATE;TZID=Europe/Budapest:20260618T220000
END:VEVENT
BEGIN:VEVENT
UID:106834-1142@miserend.hu
DTSTAMP:20260420T095941Z
DTSTART;TZID=Europe/Budapest:20261005T080000
DTEND;TZID=Europe/Budapest:20261005T090000
SUMMARY:Szentmise
DESCRIPTION:iskolamise
CATEGORIES:STUDENT
COLOR:#6699FF
RRULE:FREQ=MONTHLY;UNTIL=20261231T225959;BYSETPOS=1;BYDAY=MO
END:VEVENT
BEGIN:VEVENT
UID:106835-1103@miserend.hu
DTSTAMP:20260420T095941Z
DTSTART;TZID=Europe/Budapest:20260105T070000
DTEND;TZID=Europe/Budapest:20260105T080000
SUMMARY:Szentmise
COLOR:#6699FF
RRULE:FREQ=WEEKLY;UNTIL=20260619T215959;BYWEEKNO=2,4,6,8,10,12,14,16,18,20,22,24,26,28,30,32,34,36,38,40,42,44,46,48,50,52;BYDAY=MO
EXDATE;TZID=Europe/Budapest:20260618T220000
END:VEVENT
BEGIN:VEVENT
UID:106835-1142@miserend.hu
DTSTAMP:20260420T095941Z
DTSTART;TZID=Europe/Budapest:20260831T070000
DTEND;TZID=Europe/Budapest:20260831T080000
SUMMARY:Szentmise
COLOR:#6699FF
RRULE:FREQ=WEEKLY;UNTIL=20261231T225959;BYWEEKNO=2,4,6,8,10,12,14,16,18,20,22,24,26,28,30,32,34,36,38,40,42,44,46,48,50,52;BYDAY=MO
END:VEVENT
BEGIN:VEVENT
UID:106836-1103@miserend.hu
DTSTAMP:20260420T095941Z
DTSTART;TZID=Europe/Budapest:20260119T070000
DTEND;TZID=Europe/Budapest:20260119T080000
SUMMARY:Szentmise
COLOR:#6699FF
RRULE:FREQ=MONTHLY;UNTIL=20260619T215959;BYSETPOS=3;BYDAY=MO
EXDATE;TZID=Europe/Budapest:20260618T220000
END:VEVENT
BEGIN:VEVENT
UID:106836-1142@miserend.hu
DTSTAMP:20260420T095941Z
DTSTART;TZID=Europe/Budapest:20261019T070000
DTEND;TZID=Europe/Budapest:20261019T080000
SUMMARY:Szentmise
COLOR:#6699FF
RRULE:FREQ=MONTHLY;UNTIL=20261231T225959;BYSETPOS=3;BYDAY=MO
END:VEVENT
BEGIN:VEVENT
UID:106837-1103@miserend.hu
DTSTAMP:20260420T095941Z
DTSTART;TZID=Europe/Budapest:20260104T080000
DTEND;TZID=Europe/Budapest:20260104T090000
SUMMARY:Szentmise
COLOR:#6699FF
RRULE:FREQ=WEEKLY;UNTIL=20260619T215959;BYDAY=SU
EXDATE;TZID=Europe/Budapest:20260618T220000
END:VEVENT
BEGIN:VEVENT
UID:106837-1142@miserend.hu
DTSTAMP:20260420T095941Z
DTSTART;TZID=Europe/Budapest:20260906T080000
DTEND;TZID=Europe/Budapest:20260906T090000
SUMMARY:Szentmise
COLOR:#6699FF
RRULE:FREQ=WEEKLY;UNTIL=20261231T225959;BYDAY=SU
END:VEVENT
BEGIN:VEVENT
UID:106838-1103@miserend.hu
DTSTAMP:20260420T095941Z
DTSTART;TZID=Europe/Budapest:20260330T070000
DTEND;TZID=Europe/Budapest:20260330T080000
SUMMARY:Szentmise
COLOR:#6699FF
RRULE:FREQ=MONTHLY;UNTIL=20260619T215959;BYSETPOS=5;BYDAY=MO
EXDATE;TZID=Europe/Budapest:20260618T220000
END:VEVENT
BEGIN:VEVENT
UID:106838-1142@miserend.hu
DTSTAMP:20260420T095941Z
DTSTART;TZID=Europe/Budapest:20260831T070000
DTEND;TZID=Europe/Budapest:20260831T080000
SUMMARY:Szentmise
COLOR:#6699FF
RRULE:FREQ=MONTHLY;UNTIL=20261231T225959;BYSETPOS=5;BYDAY=MO
END:VEVENT
BEGIN:VEVENT
UID:106839-1103@miserend.hu
DTSTAMP:20260420T095941Z
DTSTART;TZID=Europe/Budapest:20260102T083000
DTEND;TZID=Europe/Budapest:20260102T093000
SUMMARY:Szentmise
COLOR:#6699FF
RRULE:FREQ=MONTHLY;UNTIL=20260619T215959;BYSETPOS=1;BYDAY=FR
EXDATE;TZID=Europe/Budapest:20260618T220000
END:VEVENT
BEGIN:VEVENT
UID:106839-1142@miserend.hu
DTSTAMP:20260420T095941Z
DTSTART;TZID=Europe/Budapest:20261002T083000
DTEND;TZID=Europe/Budapest:20261002T093000
SUMMARY:Szentmise
COLOR:#6699FF
RRULE:FREQ=MONTHLY;UNTIL=20261231T225959;BYSETPOS=1;BYDAY=FR
END:VEVENT
BEGIN:VEVENT
UID:106840-1136@miserend.hu
DTSTAMP:20260420T095941Z
DTSTART;TZID=Europe/Budapest:20260622T070000
DTEND;TZID=Europe/Budapest:20260622T080000
SUMMARY:Szentmise
COLOR:#FFCC66
RRULE:FREQ=WEEKLY;UNTIL=20260831T215959;BYDAY=MO
END:VEVENT
BEGIN:VEVENT
UID:106841-1136@miserend.hu
DTSTAMP:20260420T095941Z
DTSTART;TZID=Europe/Budapest:20260621T080000
DTEND;TZID=Europe/Budapest:20260621T090000
SUMMARY:Szentmise
COLOR:#FFCC66
RRULE:FREQ=WEEKLY;UNTIL=20260831T215959;BYDAY=SU
END:VEVENT
BEGIN:VEVENT
UID:106842-1136@miserend.hu
DTSTAMP:20260420T095941Z
DTSTART;TZID=Europe/Budapest:20260703T083000
DTEND;TZID=Europe/Budapest:20260703T093000
SUMMARY:Szentmise
COLOR:#FFCC66
RRULE:FREQ=MONTHLY;UNTIL=20260831T215959;BYSETPOS=1;BYDAY=FR
END:VEVENT
BEGIN:VEVENT
UID:106834-1142@miserend.hu
DTSTAMP:20260420T095941Z
DTSTART;TZID=Europe/Budapest:20270104T080000
DTEND;TZID=Europe/Budapest:20270104T090000
SUMMARY:Szentmise
DESCRIPTION:iskolamise
CATEGORIES:STUDENT
COLOR:#6699FF
RRULE:FREQ=MONTHLY;UNTIL=20270630T215959;BYSETPOS=1;BYDAY=MO
EXDATE;TZID=Europe/Budapest:20270629T220000
END:VEVENT
BEGIN:VEVENT
UID:106835-1142@miserend.hu
DTSTAMP:20260420T095941Z
DTSTART;TZID=Europe/Budapest:20270111T070000
DTEND;TZID=Europe/Budapest:20270111T080000
SUMMARY:Szentmise
COLOR:#6699FF
RRULE:FREQ=WEEKLY;UNTIL=20270630T215959;BYWEEKNO=2,4,6,8,10,12,14,16,18,20,22,24,26,28,30,32,34,36,38,40,42,44,46,48,50,52;BYDAY=MO
EXDATE;TZID=Europe/Budapest:20270629T220000
END:VEVENT
BEGIN:VEVENT
UID:106836-1142@miserend.hu
DTSTAMP:20260420T095941Z
DTSTART;TZID=Europe/Budapest:20270118T070000
DTEND;TZID=Europe/Budapest:20270118T080000
SUMMARY:Szentmise
COLOR:#6699FF
RRULE:FREQ=MONTHLY;UNTIL=20270630T215959;BYSETPOS=3;BYDAY=MO
EXDATE;TZID=Europe/Budapest:20270629T220000
END:VEVENT
BEGIN:VEVENT
UID:106837-1142@miserend.hu
DTSTAMP:20260420T095941Z
DTSTART;TZID=Europe/Budapest:20270103T080000
DTEND;TZID=Europe/Budapest:20270103T090000
SUMMARY:Szentmise
COLOR:#6699FF
RRULE:FREQ=WEEKLY;UNTIL=20270630T215959;BYDAY=SU
EXDATE;TZID=Europe/Budapest:20270629T220000
END:VEVENT
BEGIN:VEVENT
UID:106838-1142@miserend.hu
DTSTAMP:20260420T095941Z
DTSTART;TZID=Europe/Budapest:20270329T070000
DTEND;TZID=Europe/Budapest:20270329T080000
SUMMARY:Szentmise
COLOR:#6699FF
RRULE:FREQ=MONTHLY;UNTIL=20270630T215959;BYSETPOS=5;BYDAY=MO
EXDATE;TZID=Europe/Budapest:20270629T220000
END:VEVENT
BEGIN:VEVENT
UID:106839-1142@miserend.hu
DTSTAMP:20260420T095941Z
DTSTART;TZID=Europe/Budapest:20270101T083000
DTEND;TZID=Europe/Budapest:20270101T093000
SUMMARY:Szentmise
COLOR:#6699FF
RRULE:FREQ=MONTHLY;UNTIL=20270630T215959;BYSETPOS=1;BYDAY=FR
EXDATE;TZID=Europe/Budapest:20270629T220000
END:VEVENT
BEGIN:VEVENT
UID:106840-1174@miserend.hu
DTSTAMP:20260420T095941Z
DTSTART;TZID=Europe/Budapest:20270705T070000
DTEND;TZID=Europe/Budapest:20270705T080000
SUMMARY:Szentmise
COLOR:#FFCC66
RRULE:FREQ=WEEKLY;UNTIL=20270901T215959;BYDAY=MO
END:VEVENT
BEGIN:VEVENT
UID:106841-1174@miserend.hu
DTSTAMP:20260420T095941Z
DTSTART;TZID=Europe/Budapest:20270704T080000
DTEND;TZID=Europe/Budapest:20270704T090000
SUMMARY:Szentmise
COLOR:#FFCC66
RRULE:FREQ=WEEKLY;UNTIL=20270901T215959;BYDAY=SU
END:VEVENT
BEGIN:VEVENT
UID:106842-1174@miserend.hu
DTSTAMP:20260420T095941Z
DTSTART;TZID=Europe/Budapest:20270702T083000
DTEND;TZID=Europe/Budapest:20270702T093000
SUMMARY:Szentmise
COLOR:#FFCC66
RRULE:FREQ=MONTHLY;UNTIL=20270901T215959;BYSETPOS=1;BYDAY=FR
END:VEVENT
END:VCALENDAR