BEGIN:VCALENDAR
VERSION:2.0
PRODID:-//miserend.hu//3747//HU
CALSCALE:GREGORIAN
METHOD:PUBLISH
X-WR-CALNAME:Szent Péter főapostol-templom (görögkatolikus templom) - Sajószentpéter
X-WR-CALDESC:Frissített miserend automatikusan
X-WR-TIMEZONE:Europe/Budapest
BEGIN:VTIMEZONE
TZID:Europe/Budapest
X-LIC-LOCATION:Europe/Budapest
BEGIN:DAYLIGHT
TZOFFSETFROM:+0100
TZOFFSETTO:+0200
TZNAME:CEST
DTSTART:19700329T020000
RRULE:FREQ=YEARLY;BYMONTH=3;BYDAY=-1SU
END:DAYLIGHT
BEGIN:STANDARD
TZOFFSETFROM:+0200
TZOFFSETTO:+0100
TZNAME:CET
DTSTART:19701025T030000
RRULE:FREQ=YEARLY;BYMONTH=10;BYDAY=-1SU
END:STANDARD
END:VTIMEZONE
BEGIN:VEVENT
UID:106983-1135@miserend.hu
DTSTAMP:20260423T082809Z
DTSTART;TZID=Europe/Budapest:20260101T070000
DTEND;TZID=Europe/Budapest:20260101T080000
SUMMARY:Szent Liturgia
COLOR:#CCCCCC
RRULE:FREQ=WEEKLY;UNTIL=20261231T225959;BYDAY=MO,TU,WE,TH,FR
END:VEVENT
BEGIN:VEVENT
UID:106984-1135@miserend.hu
DTSTAMP:20260423T082809Z
DTSTART;TZID=Europe/Budapest:20260103T170000
DTEND;TZID=Europe/Budapest:20260103T180000
SUMMARY:Szent Liturgia
COLOR:#CCCCCC
RRULE:FREQ=WEEKLY;UNTIL=20261231T225959;BYDAY=SA
END:VEVENT
BEGIN:VEVENT
UID:106985-1135@miserend.hu
DTSTAMP:20260423T082809Z
DTSTART;TZID=Europe/Budapest:20260103T181500
DTEND;TZID=Europe/Budapest:20260103T191500
SUMMARY:Vecsernye
COLOR:#CCCCCC
RRULE:FREQ=WEEKLY;UNTIL=20261231T225959;BYDAY=SA
END:VEVENT
BEGIN:VEVENT
UID:106986-1135@miserend.hu
DTSTAMP:20260423T082809Z
DTSTART;TZID=Europe/Budapest:20260104T084500
DTEND;TZID=Europe/Budapest:20260104T094500
SUMMARY:Utrenye
COLOR:#CCCCCC
RRULE:FREQ=WEEKLY;UNTIL=20261231T225959;BYDAY=SU
END:VEVENT
BEGIN:VEVENT
UID:106987-1135@miserend.hu
DTSTAMP:20260423T082809Z
DTSTART;TZID=Europe/Budapest:20260104T093000
DTEND;TZID=Europe/Budapest:20260104T103000
SUMMARY:Szent Liturgia
COLOR:#CCCCCC
RRULE:FREQ=WEEKLY;UNTIL=20261231T225959;BYDAY=SU
END:VEVENT
BEGIN:VEVENT
UID:106988-1135@miserend.hu
DTSTAMP:20260423T082809Z
DTSTART;TZID=Europe/Budapest:20260104T170000
DTEND;TZID=Europe/Budapest:20260104T180000
SUMMARY:Vecsernye
COLOR:#CCCCCC
RRULE:FREQ=WEEKLY;UNTIL=20261231T225959;BYDAY=SU
END:VEVENT
BEGIN:VEVENT
UID:106983-1173@miserend.hu
DTSTAMP:20260423T082809Z
DTSTART;TZID=Europe/Budapest:20270101T070000
DTEND;TZID=Europe/Budapest:20270101T080000
SUMMARY:Szent Liturgia
COLOR:#CCCCCC
RRULE:FREQ=WEEKLY;UNTIL=20271231T225959;BYDAY=MO,TU,WE,TH,FR
END:VEVENT
BEGIN:VEVENT
UID:106984-1173@miserend.hu
DTSTAMP:20260423T082809Z
DTSTART;TZID=Europe/Budapest:20270102T170000
DTEND;TZID=Europe/Budapest:20270102T180000
SUMMARY:Szent Liturgia
COLOR:#CCCCCC
RRULE:FREQ=WEEKLY;UNTIL=20271231T225959;BYDAY=SA
END:VEVENT
BEGIN:VEVENT
UID:106985-1173@miserend.hu
DTSTAMP:20260423T082809Z
DTSTART;TZID=Europe/Budapest:20270102T181500
DTEND;TZID=Europe/Budapest:20270102T191500
SUMMARY:Vecsernye
COLOR:#CCCCCC
RRULE:FREQ=WEEKLY;UNTIL=20271231T225959;BYDAY=SA
END:VEVENT
BEGIN:VEVENT
UID:106986-1173@miserend.hu
DTSTAMP:20260423T082809Z
DTSTART;TZID=Europe/Budapest:20270103T084500
DTEND;TZID=Europe/Budapest:20270103T094500
SUMMARY:Utrenye
COLOR:#CCCCCC
RRULE:FREQ=WEEKLY;UNTIL=20271231T225959;BYDAY=SU
END:VEVENT
BEGIN:VEVENT
UID:106987-1173@miserend.hu
DTSTAMP:20260423T082809Z
DTSTART;TZID=Europe/Budapest:20270103T093000
DTEND;TZID=Europe/Budapest:20270103T103000
SUMMARY:Szent Liturgia
COLOR:#CCCCCC
RRULE:FREQ=WEEKLY;UNTIL=20271231T225959;BYDAY=SU
END:VEVENT
BEGIN:VEVENT
UID:106988-1173@miserend.hu
DTSTAMP:20260423T082809Z
DTSTART;TZID=Europe/Budapest:20270103T170000
DTEND;TZID=Europe/Budapest:20270103T180000
SUMMARY:Vecsernye
COLOR:#CCCCCC
RRULE:FREQ=WEEKLY;UNTIL=20271231T225959;BYDAY=SU
END:VEVENT
END:VCALENDAR