BEGIN:VCALENDAR
VERSION:2.0
PRODID:-//miserend.hu//3868//HU
CALSCALE:GREGORIAN
METHOD:PUBLISH
X-WR-CALNAME:Szent Miklós püspök-templom (görögkatolikus templom) - Tiszavasvári
X-WR-CALDESC:Frissített miserend automatikusan
X-WR-TIMEZONE:Europe/Budapest
BEGIN:VTIMEZONE
TZID:Europe/Budapest
X-LIC-LOCATION:Europe/Budapest
BEGIN:DAYLIGHT
TZOFFSETFROM:+0100
TZOFFSETTO:+0200
TZNAME:CEST
DTSTART:19700329T020000
RRULE:FREQ=YEARLY;BYMONTH=3;BYDAY=-1SU
END:DAYLIGHT
BEGIN:STANDARD
TZOFFSETFROM:+0200
TZOFFSETTO:+0100
TZNAME:CET
DTSTART:19701025T030000
RRULE:FREQ=YEARLY;BYMONTH=10;BYDAY=-1SU
END:STANDARD
END:VTIMEZONE
BEGIN:VEVENT
UID:107228-1135@miserend.hu
DTSTAMP:20260425T103608Z
DTSTART;TZID=Europe/Budapest:20260102T070000
DTEND;TZID=Europe/Budapest:20260102T080000
SUMMARY:Szent Liturgia
COLOR:#CCCCCC
RRULE:FREQ=WEEKLY;UNTIL=20261231T225959;BYDAY=WE,FR
END:VEVENT
BEGIN:VEVENT
UID:107229-1135@miserend.hu
DTSTAMP:20260425T103608Z
DTSTART;TZID=Europe/Budapest:20260103T170000
DTEND;TZID=Europe/Budapest:20260103T180000
SUMMARY:Vecsernye
COLOR:#CCCCCC
RRULE:FREQ=WEEKLY;UNTIL=20261231T225959;BYDAY=SA
END:VEVENT
BEGIN:VEVENT
UID:107230-1135@miserend.hu
DTSTAMP:20260425T103608Z
DTSTART;TZID=Europe/Budapest:20260104T100000
DTEND;TZID=Europe/Budapest:20260104T110000
SUMMARY:Szent Liturgia
COLOR:#CCCCCC
RRULE:FREQ=WEEKLY;UNTIL=20261231T225959;BYDAY=SU
END:VEVENT
BEGIN:VEVENT
UID:107228-1173@miserend.hu
DTSTAMP:20260425T103608Z
DTSTART;TZID=Europe/Budapest:20270101T070000
DTEND;TZID=Europe/Budapest:20270101T080000
SUMMARY:Szent Liturgia
COLOR:#CCCCCC
RRULE:FREQ=WEEKLY;UNTIL=20271231T225959;BYDAY=WE,FR
END:VEVENT
BEGIN:VEVENT
UID:107229-1173@miserend.hu
DTSTAMP:20260425T103608Z
DTSTART;TZID=Europe/Budapest:20270102T170000
DTEND;TZID=Europe/Budapest:20270102T180000
SUMMARY:Vecsernye
COLOR:#CCCCCC
RRULE:FREQ=WEEKLY;UNTIL=20271231T225959;BYDAY=SA
END:VEVENT
BEGIN:VEVENT
UID:107230-1173@miserend.hu
DTSTAMP:20260425T103608Z
DTSTART;TZID=Europe/Budapest:20270103T100000
DTEND;TZID=Europe/Budapest:20270103T110000
SUMMARY:Szent Liturgia
COLOR:#CCCCCC
RRULE:FREQ=WEEKLY;UNTIL=20271231T225959;BYDAY=SU
END:VEVENT
END:VCALENDAR