BEGIN:VCALENDAR
VERSION:2.0
PRODID:-//miserend.hu//3944//HU
CALSCALE:GREGORIAN
METHOD:PUBLISH
X-WR-CALNAME:Szentháromság-templom (görögkatolikus templom) - Fehérgyarmat
X-WR-CALDESC:Frissített miserend automatikusan
X-WR-TIMEZONE:Europe/Budapest
BEGIN:VTIMEZONE
TZID:Europe/Budapest
X-LIC-LOCATION:Europe/Budapest
BEGIN:DAYLIGHT
TZOFFSETFROM:+0100
TZOFFSETTO:+0200
TZNAME:CEST
DTSTART:19700329T020000
RRULE:FREQ=YEARLY;BYMONTH=3;BYDAY=-1SU
END:DAYLIGHT
BEGIN:STANDARD
TZOFFSETFROM:+0200
TZOFFSETTO:+0100
TZNAME:CET
DTSTART:19701025T030000
RRULE:FREQ=YEARLY;BYMONTH=10;BYDAY=-1SU
END:STANDARD
END:VTIMEZONE
BEGIN:VEVENT
UID:133521-1094@miserend.hu
DTSTAMP:20260425T230957Z
DTSTART;TZID=Europe/Budapest:20260104T090000
DTEND;TZID=Europe/Budapest:20260104T100000
SUMMARY:Szent Liturgia
COLOR:#6EC6FF
RRULE:FREQ=WEEKLY;UNTIL=20260329T215959;BYDAY=SU
EXDATE;TZID=Europe/Budapest:20260328T230000
END:VEVENT
BEGIN:VEVENT
UID:133521-1133@miserend.hu
DTSTAMP:20260425T230957Z
DTSTART;TZID=Europe/Budapest:20261025T090000
DTEND;TZID=Europe/Budapest:20261025T100000
SUMMARY:Szent Liturgia
COLOR:#6EC6FF
RRULE:FREQ=WEEKLY;UNTIL=20261231T225959;BYDAY=SU
END:VEVENT
BEGIN:VEVENT
UID:133522-1094@miserend.hu
DTSTAMP:20260425T230957Z
DTSTART;TZID=Europe/Budapest:20260101T170000
DTEND;TZID=Europe/Budapest:20260101T180000
SUMMARY:Szent Liturgia
COLOR:#6EC6FF
RRULE:FREQ=WEEKLY;UNTIL=20260329T215959;BYDAY=MO,TU,TH,FR
EXDATE;TZID=Europe/Budapest:20260328T230000
END:VEVENT
BEGIN:VEVENT
UID:133522-1133@miserend.hu
DTSTAMP:20260425T230957Z
DTSTART;TZID=Europe/Budapest:20261026T170000
DTEND;TZID=Europe/Budapest:20261026T180000
SUMMARY:Szent Liturgia
COLOR:#6EC6FF
RRULE:FREQ=WEEKLY;UNTIL=20261231T225959;BYDAY=MO,TU,TH,FR
END:VEVENT
BEGIN:VEVENT
UID:133523-1094@miserend.hu
DTSTAMP:20260425T230957Z
DTSTART;TZID=Europe/Budapest:20260103T170000
DTEND;TZID=Europe/Budapest:20260103T180000
SUMMARY:Vecsernye
COLOR:#6EC6FF
RRULE:FREQ=WEEKLY;UNTIL=20260329T215959;BYDAY=SA
EXDATE;TZID=Europe/Budapest:20260328T230000
END:VEVENT
BEGIN:VEVENT
UID:133523-1133@miserend.hu
DTSTAMP:20260425T230957Z
DTSTART;TZID=Europe/Budapest:20261031T170000
DTEND;TZID=Europe/Budapest:20261031T180000
SUMMARY:Vecsernye
COLOR:#6EC6FF
RRULE:FREQ=WEEKLY;UNTIL=20261231T225959;BYDAY=SA
END:VEVENT
BEGIN:VEVENT
UID:133524-1134@miserend.hu
DTSTAMP:20260425T230957Z
DTSTART;TZID=Europe/Budapest:20260329T090000
DTEND;TZID=Europe/Budapest:20260329T100000
SUMMARY:Szent Liturgia
COLOR:#FFD480
RRULE:FREQ=WEEKLY;UNTIL=20261025T225959;BYDAY=SU
END:VEVENT
BEGIN:VEVENT
UID:133525-1134@miserend.hu
DTSTAMP:20260425T230957Z
DTSTART;TZID=Europe/Budapest:20260330T180000
DTEND;TZID=Europe/Budapest:20260330T190000
SUMMARY:Szent Liturgia
COLOR:#FFD480
RRULE:FREQ=WEEKLY;UNTIL=20261025T225959;BYDAY=MO,TU,TH,FR
END:VEVENT
BEGIN:VEVENT
UID:133526-1134@miserend.hu
DTSTAMP:20260425T230957Z
DTSTART;TZID=Europe/Budapest:20260404T180000
DTEND;TZID=Europe/Budapest:20260404T190000
SUMMARY:Vecsernye
COLOR:#FFD480
RRULE:FREQ=WEEKLY;UNTIL=20261025T225959;BYDAY=SA
END:VEVENT
BEGIN:VEVENT
UID:133521-1133@miserend.hu
DTSTAMP:20260425T230957Z
DTSTART;TZID=Europe/Budapest:20270103T090000
DTEND;TZID=Europe/Budapest:20270103T100000
SUMMARY:Szent Liturgia
COLOR:#6EC6FF
RRULE:FREQ=WEEKLY;UNTIL=20270328T215959;BYDAY=SU
EXDATE;TZID=Europe/Budapest:20270327T230000
END:VEVENT
BEGIN:VEVENT
UID:133522-1133@miserend.hu
DTSTAMP:20260425T230957Z
DTSTART;TZID=Europe/Budapest:20270101T170000
DTEND;TZID=Europe/Budapest:20270101T180000
SUMMARY:Szent Liturgia
COLOR:#6EC6FF
RRULE:FREQ=WEEKLY;UNTIL=20270328T215959;BYDAY=MO,TU,TH,FR
EXDATE;TZID=Europe/Budapest:20270327T230000
END:VEVENT
BEGIN:VEVENT
UID:133523-1133@miserend.hu
DTSTAMP:20260425T230957Z
DTSTART;TZID=Europe/Budapest:20270102T170000
DTEND;TZID=Europe/Budapest:20270102T180000
SUMMARY:Vecsernye
COLOR:#6EC6FF
RRULE:FREQ=WEEKLY;UNTIL=20270328T215959;BYDAY=SA
EXDATE;TZID=Europe/Budapest:20270327T230000
END:VEVENT
BEGIN:VEVENT
UID:133524-1172@miserend.hu
DTSTAMP:20260425T230957Z
DTSTART;TZID=Europe/Budapest:20270328T090000
DTEND;TZID=Europe/Budapest:20270328T100000
SUMMARY:Szent Liturgia
COLOR:#FFD480
RRULE:FREQ=WEEKLY;UNTIL=20271031T225959;BYDAY=SU
END:VEVENT
BEGIN:VEVENT
UID:133525-1172@miserend.hu
DTSTAMP:20260425T230957Z
DTSTART;TZID=Europe/Budapest:20270329T180000
DTEND;TZID=Europe/Budapest:20270329T190000
SUMMARY:Szent Liturgia
COLOR:#FFD480
RRULE:FREQ=WEEKLY;UNTIL=20271031T225959;BYDAY=MO,TU,TH,FR
END:VEVENT
BEGIN:VEVENT
UID:133526-1172@miserend.hu
DTSTAMP:20260425T230957Z
DTSTART;TZID=Europe/Budapest:20270403T180000
DTEND;TZID=Europe/Budapest:20270403T190000
SUMMARY:Vecsernye
COLOR:#FFD480
RRULE:FREQ=WEEKLY;UNTIL=20271031T225959;BYDAY=SA
END:VEVENT
END:VCALENDAR