BEGIN:VCALENDAR
VERSION:2.0
PRODID:-//miserend.hu//3997//HU
CALSCALE:GREGORIAN
METHOD:PUBLISH
X-WR-CALNAME:Szent Péter és Pál apostolok-templom (görögkatolikus templom) - Sárospatak
X-WR-CALDESC:Frissített miserend automatikusan
X-WR-TIMEZONE:Europe/Budapest
BEGIN:VTIMEZONE
TZID:Europe/Budapest
X-LIC-LOCATION:Europe/Budapest
BEGIN:DAYLIGHT
TZOFFSETFROM:+0100
TZOFFSETTO:+0200
TZNAME:CEST
DTSTART:19700329T020000
RRULE:FREQ=YEARLY;BYMONTH=3;BYDAY=-1SU
END:DAYLIGHT
BEGIN:STANDARD
TZOFFSETFROM:+0200
TZOFFSETTO:+0100
TZNAME:CET
DTSTART:19701025T030000
RRULE:FREQ=YEARLY;BYMONTH=10;BYDAY=-1SU
END:STANDARD
END:VTIMEZONE
BEGIN:VEVENT
UID:107423-1134@miserend.hu
DTSTAMP:20260422T035908Z
DTSTART;TZID=Europe/Budapest:20260329T100000
DTEND;TZID=Europe/Budapest:20260329T110000
SUMMARY:Szent Liturgia
COLOR:#FFD480
RRULE:FREQ=WEEKLY;UNTIL=20261025T225959;BYDAY=SU
END:VEVENT
BEGIN:VEVENT
UID:107424-1134@miserend.hu
DTSTAMP:20260422T035908Z
DTSTART;TZID=Europe/Budapest:20260329T180000
DTEND;TZID=Europe/Budapest:20260329T190000
SUMMARY:Vecsernye
COLOR:#FFD480
RRULE:FREQ=WEEKLY;UNTIL=20261025T225959;BYDAY=SU,SA
END:VEVENT
BEGIN:VEVENT
UID:107425-1134@miserend.hu
DTSTAMP:20260422T035908Z
DTSTART;TZID=Europe/Budapest:20260329T090000
DTEND;TZID=Europe/Budapest:20260329T100000
SUMMARY:Utrenye
COLOR:#FFD480
RRULE:FREQ=WEEKLY;UNTIL=20261025T225959;BYDAY=SU
END:VEVENT
BEGIN:VEVENT
UID:107426-1134@miserend.hu
DTSTAMP:20260422T035908Z
DTSTART;TZID=Europe/Budapest:20260330T180000
DTEND;TZID=Europe/Budapest:20260330T190000
SUMMARY:Szent Liturgia
COLOR:#FFD480
RRULE:FREQ=WEEKLY;UNTIL=20261025T225959;BYDAY=MO,TU,WE,TH,FR
END:VEVENT
BEGIN:VEVENT
UID:107427-1094@miserend.hu
DTSTAMP:20260422T035908Z
DTSTART;TZID=Europe/Budapest:20260101T170000
DTEND;TZID=Europe/Budapest:20260101T180000
SUMMARY:Szent Liturgia
COLOR:#6EC6FF
RRULE:FREQ=WEEKLY;UNTIL=20260329T215959;BYDAY=MO,TU,WE,TH,FR
EXDATE;TZID=Europe/Budapest:20260328T230000
END:VEVENT
BEGIN:VEVENT
UID:107427-1133@miserend.hu
DTSTAMP:20260422T035908Z
DTSTART;TZID=Europe/Budapest:20261026T170000
DTEND;TZID=Europe/Budapest:20261026T180000
SUMMARY:Szent Liturgia
COLOR:#6EC6FF
RRULE:FREQ=WEEKLY;UNTIL=20261231T225959;BYDAY=MO,TU,WE,TH,FR
END:VEVENT
BEGIN:VEVENT
UID:107428-1094@miserend.hu
DTSTAMP:20260422T035908Z
DTSTART;TZID=Europe/Budapest:20260103T170000
DTEND;TZID=Europe/Budapest:20260103T180000
SUMMARY:Vecsernye
COLOR:#6EC6FF
RRULE:FREQ=WEEKLY;UNTIL=20260329T215959;BYDAY=SA,SU
EXDATE;TZID=Europe/Budapest:20260328T230000
END:VEVENT
BEGIN:VEVENT
UID:107428-1133@miserend.hu
DTSTAMP:20260422T035908Z
DTSTART;TZID=Europe/Budapest:20261025T170000
DTEND;TZID=Europe/Budapest:20261025T180000
SUMMARY:Vecsernye
COLOR:#6EC6FF
RRULE:FREQ=WEEKLY;UNTIL=20261231T225959;BYDAY=SA,SU
END:VEVENT
BEGIN:VEVENT
UID:107429-1094@miserend.hu
DTSTAMP:20260422T035908Z
DTSTART;TZID=Europe/Budapest:20260104T090000
DTEND;TZID=Europe/Budapest:20260104T100000
SUMMARY:Utrenye
COLOR:#6EC6FF
RRULE:FREQ=WEEKLY;UNTIL=20260329T215959;BYDAY=SU
EXDATE;TZID=Europe/Budapest:20260328T230000
END:VEVENT
BEGIN:VEVENT
UID:107429-1133@miserend.hu
DTSTAMP:20260422T035908Z
DTSTART;TZID=Europe/Budapest:20261025T090000
DTEND;TZID=Europe/Budapest:20261025T100000
SUMMARY:Utrenye
COLOR:#6EC6FF
RRULE:FREQ=WEEKLY;UNTIL=20261231T225959;BYDAY=SU
END:VEVENT
BEGIN:VEVENT
UID:107430-1094@miserend.hu
DTSTAMP:20260422T035908Z
DTSTART;TZID=Europe/Budapest:20260104T100000
DTEND;TZID=Europe/Budapest:20260104T110000
SUMMARY:Szent Liturgia
COLOR:#6EC6FF
RRULE:FREQ=WEEKLY;UNTIL=20260329T215959;BYDAY=SU
EXDATE;TZID=Europe/Budapest:20260328T230000
END:VEVENT
BEGIN:VEVENT
UID:107430-1133@miserend.hu
DTSTAMP:20260422T035908Z
DTSTART;TZID=Europe/Budapest:20261025T100000
DTEND;TZID=Europe/Budapest:20261025T110000
SUMMARY:Szent Liturgia
COLOR:#6EC6FF
RRULE:FREQ=WEEKLY;UNTIL=20261231T225959;BYDAY=SU
END:VEVENT
BEGIN:VEVENT
UID:107423-1172@miserend.hu
DTSTAMP:20260422T035908Z
DTSTART;TZID=Europe/Budapest:20270328T100000
DTEND;TZID=Europe/Budapest:20270328T110000
SUMMARY:Szent Liturgia
COLOR:#FFD480
RRULE:FREQ=WEEKLY;UNTIL=20271031T225959;BYDAY=SU
END:VEVENT
BEGIN:VEVENT
UID:107424-1172@miserend.hu
DTSTAMP:20260422T035908Z
DTSTART;TZID=Europe/Budapest:20270328T180000
DTEND;TZID=Europe/Budapest:20270328T190000
SUMMARY:Vecsernye
COLOR:#FFD480
RRULE:FREQ=WEEKLY;UNTIL=20271031T225959;BYDAY=SU,SA
END:VEVENT
BEGIN:VEVENT
UID:107425-1172@miserend.hu
DTSTAMP:20260422T035908Z
DTSTART;TZID=Europe/Budapest:20270328T090000
DTEND;TZID=Europe/Budapest:20270328T100000
SUMMARY:Utrenye
COLOR:#FFD480
RRULE:FREQ=WEEKLY;UNTIL=20271031T225959;BYDAY=SU
END:VEVENT
BEGIN:VEVENT
UID:107426-1172@miserend.hu
DTSTAMP:20260422T035908Z
DTSTART;TZID=Europe/Budapest:20270329T180000
DTEND;TZID=Europe/Budapest:20270329T190000
SUMMARY:Szent Liturgia
COLOR:#FFD480
RRULE:FREQ=WEEKLY;UNTIL=20271031T225959;BYDAY=MO,TU,WE,TH,FR
END:VEVENT
BEGIN:VEVENT
UID:107427-1133@miserend.hu
DTSTAMP:20260422T035908Z
DTSTART;TZID=Europe/Budapest:20270101T170000
DTEND;TZID=Europe/Budapest:20270101T180000
SUMMARY:Szent Liturgia
COLOR:#6EC6FF
RRULE:FREQ=WEEKLY;UNTIL=20270328T215959;BYDAY=MO,TU,WE,TH,FR
EXDATE;TZID=Europe/Budapest:20270327T230000
END:VEVENT
BEGIN:VEVENT
UID:107428-1133@miserend.hu
DTSTAMP:20260422T035908Z
DTSTART;TZID=Europe/Budapest:20270102T170000
DTEND;TZID=Europe/Budapest:20270102T180000
SUMMARY:Vecsernye
COLOR:#6EC6FF
RRULE:FREQ=WEEKLY;UNTIL=20270328T215959;BYDAY=SA,SU
EXDATE;TZID=Europe/Budapest:20270327T230000
END:VEVENT
BEGIN:VEVENT
UID:107429-1133@miserend.hu
DTSTAMP:20260422T035908Z
DTSTART;TZID=Europe/Budapest:20270103T090000
DTEND;TZID=Europe/Budapest:20270103T100000
SUMMARY:Utrenye
COLOR:#6EC6FF
RRULE:FREQ=WEEKLY;UNTIL=20270328T215959;BYDAY=SU
EXDATE;TZID=Europe/Budapest:20270327T230000
END:VEVENT
BEGIN:VEVENT
UID:107430-1133@miserend.hu
DTSTAMP:20260422T035908Z
DTSTART;TZID=Europe/Budapest:20270103T100000
DTEND;TZID=Europe/Budapest:20270103T110000
SUMMARY:Szent Liturgia
COLOR:#6EC6FF
RRULE:FREQ=WEEKLY;UNTIL=20270328T215959;BYDAY=SU
EXDATE;TZID=Europe/Budapest:20270327T230000
END:VEVENT
END:VCALENDAR