BEGIN:VCALENDAR
VERSION:2.0
PRODID:-//miserend.hu//4751//HU
CALSCALE:GREGORIAN
METHOD:PUBLISH
X-WR-CALNAME:Szent Zsigmond király vértanu templom - Sumony
X-WR-CALDESC:Frissített miserend automatikusan
X-WR-TIMEZONE:Europe/Budapest
BEGIN:VTIMEZONE
TZID:Europe/Budapest
X-LIC-LOCATION:Europe/Budapest
BEGIN:DAYLIGHT
TZOFFSETFROM:+0100
TZOFFSETTO:+0200
TZNAME:CEST
DTSTART:19700329T020000
RRULE:FREQ=YEARLY;BYMONTH=3;BYDAY=-1SU
END:DAYLIGHT
BEGIN:STANDARD
TZOFFSETFROM:+0200
TZOFFSETTO:+0100
TZNAME:CET
DTSTART:19701025T030000
RRULE:FREQ=YEARLY;BYMONTH=10;BYDAY=-1SU
END:STANDARD
END:VTIMEZONE
BEGIN:VEVENT
UID:108252-1135@miserend.hu
DTSTAMP:20260423T024526Z
DTSTART;TZID=Europe/Budapest:20260111T093000
DTEND;TZID=Europe/Budapest:20260111T103000
SUMMARY:Szentmise
DESCRIPTION:Az igeliturgia időpontja változhat. Gyakran 11:00.
COLOR:#CCCCCC
RRULE:FREQ=MONTHLY;UNTIL=20261231T225959;BYSETPOS=2;BYDAY=SU
END:VEVENT
BEGIN:VEVENT
UID:108253-1135@miserend.hu
DTSTAMP:20260423T024526Z
DTSTART;TZID=Europe/Budapest:20260329T093000
DTEND;TZID=Europe/Budapest:20260329T103000
SUMMARY:Szentmise
DESCRIPTION:Az igeliturgia időpontja változhat. Gyakran 11:00.
COLOR:#CCCCCC
RRULE:FREQ=MONTHLY;UNTIL=20261231T225959;BYSETPOS=5;BYDAY=SU
END:VEVENT
BEGIN:VEVENT
UID:108254-1135@miserend.hu
DTSTAMP:20260423T024526Z
DTSTART;TZID=Europe/Budapest:20260125T093000
DTEND;TZID=Europe/Budapest:20260125T103000
SUMMARY:Szentmise
DESCRIPTION:Az igeliturgia időpontja változhat. Gyakran 11:00.
COLOR:#CCCCCC
RRULE:FREQ=MONTHLY;UNTIL=20261231T225959;BYSETPOS=4;BYDAY=SU
END:VEVENT
BEGIN:VEVENT
UID:108255-1135@miserend.hu
DTSTAMP:20260423T024526Z
DTSTART;TZID=Europe/Budapest:20260118T093000
DTEND;TZID=Europe/Budapest:20260118T103000
SUMMARY:Szentmise
DESCRIPTION:Az igeliturgia időpontja változhat. Gyakran 11:00.
COLOR:#CCCCCC
RRULE:FREQ=MONTHLY;UNTIL=20261231T225959;BYSETPOS=3;BYDAY=SU
END:VEVENT
BEGIN:VEVENT
UID:108256-1135@miserend.hu
DTSTAMP:20260423T024526Z
DTSTART;TZID=Europe/Budapest:20260104T093000
DTEND;TZID=Europe/Budapest:20260104T103000
SUMMARY:Szentmise
COLOR:#CCCCCC
RRULE:FREQ=MONTHLY;UNTIL=20261231T225959;BYSETPOS=1;BYDAY=SU
END:VEVENT
BEGIN:VEVENT
UID:108252-1173@miserend.hu
DTSTAMP:20260423T024526Z
DTSTART;TZID=Europe/Budapest:20270110T093000
DTEND;TZID=Europe/Budapest:20270110T103000
SUMMARY:Szentmise
DESCRIPTION:Az igeliturgia időpontja változhat. Gyakran 11:00.
COLOR:#CCCCCC
RRULE:FREQ=MONTHLY;UNTIL=20271231T225959;BYSETPOS=2;BYDAY=SU
END:VEVENT
BEGIN:VEVENT
UID:108253-1173@miserend.hu
DTSTAMP:20260423T024526Z
DTSTART;TZID=Europe/Budapest:20270131T093000
DTEND;TZID=Europe/Budapest:20270131T103000
SUMMARY:Szentmise
DESCRIPTION:Az igeliturgia időpontja változhat. Gyakran 11:00.
COLOR:#CCCCCC
RRULE:FREQ=MONTHLY;UNTIL=20271231T225959;BYSETPOS=5;BYDAY=SU
END:VEVENT
BEGIN:VEVENT
UID:108254-1173@miserend.hu
DTSTAMP:20260423T024526Z
DTSTART;TZID=Europe/Budapest:20270124T093000
DTEND;TZID=Europe/Budapest:20270124T103000
SUMMARY:Szentmise
DESCRIPTION:Az igeliturgia időpontja változhat. Gyakran 11:00.
COLOR:#CCCCCC
RRULE:FREQ=MONTHLY;UNTIL=20271231T225959;BYSETPOS=4;BYDAY=SU
END:VEVENT
BEGIN:VEVENT
UID:108255-1173@miserend.hu
DTSTAMP:20260423T024526Z
DTSTART;TZID=Europe/Budapest:20270117T093000
DTEND;TZID=Europe/Budapest:20270117T103000
SUMMARY:Szentmise
DESCRIPTION:Az igeliturgia időpontja változhat. Gyakran 11:00.
COLOR:#CCCCCC
RRULE:FREQ=MONTHLY;UNTIL=20271231T225959;BYSETPOS=3;BYDAY=SU
END:VEVENT
BEGIN:VEVENT
UID:108256-1173@miserend.hu
DTSTAMP:20260423T024526Z
DTSTART;TZID=Europe/Budapest:20270103T093000
DTEND;TZID=Europe/Budapest:20270103T103000
SUMMARY:Szentmise
COLOR:#CCCCCC
RRULE:FREQ=MONTHLY;UNTIL=20271231T225959;BYSETPOS=1;BYDAY=SU
END:VEVENT
END:VCALENDAR