BEGIN:VCALENDAR
VERSION:2.0
PRODID:-//miserend.hu//5183//HU
CALSCALE:GREGORIAN
METHOD:PUBLISH
X-WR-CALNAME:Nagyboldogasszony és Szent István-kápolna (gercsei kápolna\, pesthidegkúti középkori (rom)kápolna) - Budapest II. kerület
X-WR-CALDESC:Frissített miserend automatikusan
X-WR-TIMEZONE:Europe/Budapest
BEGIN:VTIMEZONE
TZID:Europe/Budapest
X-LIC-LOCATION:Europe/Budapest
BEGIN:DAYLIGHT
TZOFFSETFROM:+0100
TZOFFSETTO:+0200
TZNAME:CEST
DTSTART:19700329T020000
RRULE:FREQ=YEARLY;BYMONTH=3;BYDAY=-1SU
END:DAYLIGHT
BEGIN:STANDARD
TZOFFSETFROM:+0200
TZOFFSETTO:+0100
TZNAME:CET
DTSTART:19701025T030000
RRULE:FREQ=YEARLY;BYMONTH=10;BYDAY=-1SU
END:STANDARD
END:VTIMEZONE
BEGIN:VEVENT
UID:108753-1109@miserend.hu
DTSTAMP:20260425T145818Z
DTSTART;TZID=Europe/Budapest:20261224T210000
DTEND;TZID=Europe/Budapest:20261224T220000
SUMMARY:Szentmise
COLOR:#FFE650
RRULE:FREQ=MONTHLY;UNTIL=20261227T225959;BYMONTH=12;BYMONTHDAY=24
END:VEVENT
BEGIN:VEVENT
UID:108754-1134@miserend.hu
DTSTAMP:20260425T145818Z
DTSTART;TZID=Europe/Budapest:20260329T170000
DTEND;TZID=Europe/Budapest:20260329T180000
SUMMARY:Szentmise
COLOR:#FFD480
RRULE:FREQ=WEEKLY;UNTIL=20261025T225959;BYDAY=SU
END:VEVENT
BEGIN:VEVENT
UID:108753-1148@miserend.hu
DTSTAMP:20260425T145818Z
DTSTART;TZID=Europe/Budapest:20271224T210000
DTEND;TZID=Europe/Budapest:20271224T220000
SUMMARY:Szentmise
COLOR:#FFE650
RRULE:FREQ=MONTHLY;UNTIL=20271227T225959;BYMONTH=12;BYMONTHDAY=24
END:VEVENT
BEGIN:VEVENT
UID:108754-1172@miserend.hu
DTSTAMP:20260425T145818Z
DTSTART;TZID=Europe/Budapest:20270328T170000
DTEND;TZID=Europe/Budapest:20270328T180000
SUMMARY:Szentmise
COLOR:#FFD480
RRULE:FREQ=WEEKLY;UNTIL=20271031T225959;BYDAY=SU
END:VEVENT
END:VCALENDAR