BEGIN:VCALENDAR
VERSION:2.0
PRODID:-//miserend.hu//58//HU
CALSCALE:GREGORIAN
METHOD:PUBLISH
X-WR-CALNAME:Szentlélek-templom (remetekertvárosi Szentlélek-templom) - Budapest II. kerület
X-WR-CALDESC:Frissített miserend automatikusan
X-WR-TIMEZONE:Europe/Budapest
BEGIN:VTIMEZONE
TZID:Europe/Budapest
X-LIC-LOCATION:Europe/Budapest
BEGIN:DAYLIGHT
TZOFFSETFROM:+0100
TZOFFSETTO:+0200
TZNAME:CEST
DTSTART:19700329T020000
RRULE:FREQ=YEARLY;BYMONTH=3;BYDAY=-1SU
END:DAYLIGHT
BEGIN:STANDARD
TZOFFSETFROM:+0200
TZOFFSETTO:+0100
TZNAME:CET
DTSTART:19701025T030000
RRULE:FREQ=YEARLY;BYMONTH=10;BYDAY=-1SU
END:STANDARD
END:VTIMEZONE
BEGIN:VEVENT
UID:98138-1137@miserend.hu
DTSTAMP:20260423T214329Z
DTSTART;TZID=Europe/Budapest:20261130T060000
DTEND;TZID=Europe/Budapest:20261130T070000
SUMMARY:Szentmise
COLOR:#6A0DAD
RRULE:FREQ=WEEKLY;UNTIL=20261224T225959;BYDAY=MO,TU,WE,TH,FR,SA
END:VEVENT
BEGIN:VEVENT
UID:98139-1137@miserend.hu
DTSTAMP:20260423T214329Z
DTSTART;TZID=Europe/Budapest:20261129T080000
DTEND;TZID=Europe/Budapest:20261129T090000
SUMMARY:Szentmise
COLOR:#6A0DAD
RRULE:FREQ=WEEKLY;UNTIL=20261224T225959;BYDAY=SU
END:VEVENT
BEGIN:VEVENT
UID:98140-1137@miserend.hu
DTSTAMP:20260423T214329Z
DTSTART;TZID=Europe/Budapest:20261129T093000
DTEND;TZID=Europe/Budapest:20261129T103000
SUMMARY:Szentmise
CATEGORIES:STUDENT
COLOR:#6A0DAD
RRULE:FREQ=WEEKLY;UNTIL=20261224T225959;BYDAY=SU
END:VEVENT
BEGIN:VEVENT
UID:98141-1137@miserend.hu
DTSTAMP:20260423T214329Z
DTSTART;TZID=Europe/Budapest:20261129T110000
DTEND;TZID=Europe/Budapest:20261129T120000
SUMMARY:Szentmise
DESCRIPTION:Mise előtt litánia
COLOR:#6A0DAD
RRULE:FREQ=WEEKLY;UNTIL=20261224T225959;BYDAY=SU
END:VEVENT
BEGIN:VEVENT
UID:98142-1137@miserend.hu
DTSTAMP:20260423T214329Z
DTSTART;TZID=Europe/Budapest:20261129T180000
DTEND;TZID=Europe/Budapest:20261129T190000
SUMMARY:Szentmise
COLOR:#6A0DAD
RRULE:FREQ=WEEKLY;UNTIL=20261224T225959;BYDAY=SU
END:VEVENT
BEGIN:VEVENT
UID:98143-1136@miserend.hu
DTSTAMP:20260423T214329Z
DTSTART;TZID=Europe/Budapest:20260619T180000
DTEND;TZID=Europe/Budapest:20260619T190000
SUMMARY:Szentmise
COLOR:#FFCC66
RRULE:FREQ=WEEKLY;UNTIL=20260831T215959;BYDAY=MO,TU,FR
END:VEVENT
BEGIN:VEVENT
UID:98144-1136@miserend.hu
DTSTAMP:20260423T214329Z
DTSTART;TZID=Europe/Budapest:20260624T180000
DTEND;TZID=Europe/Budapest:20260624T190000
SUMMARY:Szentmise
DESCRIPTION:Mise után szentségimádás
COLOR:#FFCC66
RRULE:FREQ=WEEKLY;UNTIL=20260831T215959;BYDAY=WE
END:VEVENT
BEGIN:VEVENT
UID:98145-1136@miserend.hu
DTSTAMP:20260423T214329Z
DTSTART;TZID=Europe/Budapest:20260620T080000
DTEND;TZID=Europe/Budapest:20260620T090000
SUMMARY:Szentmise
COLOR:#FFCC66
RRULE:FREQ=WEEKLY;UNTIL=20260831T215959;BYDAY=TH,SA,SU
END:VEVENT
BEGIN:VEVENT
UID:98146-1136@miserend.hu
DTSTAMP:20260423T214329Z
DTSTART;TZID=Europe/Budapest:20260621T093000
DTEND;TZID=Europe/Budapest:20260621T103000
SUMMARY:Szentmise
CATEGORIES:STUDENT
COLOR:#FFCC66
RRULE:FREQ=WEEKLY;UNTIL=20260831T215959;BYDAY=SU
END:VEVENT
BEGIN:VEVENT
UID:98147-1136@miserend.hu
DTSTAMP:20260423T214329Z
DTSTART;TZID=Europe/Budapest:20260621T110000
DTEND;TZID=Europe/Budapest:20260621T120000
SUMMARY:Szentmise
DESCRIPTION:Mise előtt litánia
COLOR:#FFCC66
RRULE:FREQ=WEEKLY;UNTIL=20260831T215959;BYDAY=SU
END:VEVENT
BEGIN:VEVENT
UID:98148-1103@miserend.hu
DTSTAMP:20260423T214329Z
DTSTART;TZID=Europe/Budapest:20260102T180000
DTEND;TZID=Europe/Budapest:20260102T190000
SUMMARY:Szentmise
COLOR:#6699FF
RRULE:FREQ=WEEKLY;UNTIL=20260619T215959;BYDAY=MO,TU,FR,SU
EXDATE;TZID=Europe/Budapest:20260618T220000
END:VEVENT
BEGIN:VEVENT
UID:98148-1142@miserend.hu
DTSTAMP:20260423T214329Z
DTSTART;TZID=Europe/Budapest:20260831T180000
DTEND;TZID=Europe/Budapest:20260831T190000
SUMMARY:Szentmise
COLOR:#6699FF
RRULE:FREQ=WEEKLY;UNTIL=20261231T225959;BYDAY=MO,TU,FR,SU
EXDATE;TZID=Europe/Budapest:20261128T230000,20261129T230000,20261130T230000,20261201T230000,20261202T230000,20261203T230000,20261204T230000,20261205T230000,20261206T230000,20261207T230000,20261208T230000,20261209T230000,20261210T230000,20261211T230000,20261212T230000,20261213T230000,20261214T230000,20261215T230000,20261216T230000,20261217T230000,20261218T230000,20261219T230000,20261220T230000,20261221T230000,20261222T230000
END:VEVENT
BEGIN:VEVENT
UID:98149-1103@miserend.hu
DTSTAMP:20260423T214329Z
DTSTART;TZID=Europe/Budapest:20260107T180000
DTEND;TZID=Europe/Budapest:20260107T190000
SUMMARY:Szentmise
DESCRIPTION:Mise után szentségimádás
COLOR:#6699FF
RRULE:FREQ=WEEKLY;UNTIL=20260619T215959;BYDAY=WE
EXDATE;TZID=Europe/Budapest:20260618T220000
END:VEVENT
BEGIN:VEVENT
UID:98149-1142@miserend.hu
DTSTAMP:20260423T214329Z
DTSTART;TZID=Europe/Budapest:20260902T180000
DTEND;TZID=Europe/Budapest:20260902T190000
SUMMARY:Szentmise
DESCRIPTION:Mise után szentségimádás
COLOR:#6699FF
RRULE:FREQ=WEEKLY;UNTIL=20261231T225959;BYDAY=WE
EXDATE;TZID=Europe/Budapest:20261128T230000,20261129T230000,20261130T230000,20261201T230000,20261202T230000,20261203T230000,20261204T230000,20261205T230000,20261206T230000,20261207T230000,20261208T230000,20261209T230000,20261210T230000,20261211T230000,20261212T230000,20261213T230000,20261214T230000,20261215T230000,20261216T230000,20261217T230000,20261218T230000,20261219T230000,20261220T230000,20261221T230000,20261222T230000
END:VEVENT
BEGIN:VEVENT
UID:98150-1103@miserend.hu
DTSTAMP:20260423T214329Z
DTSTART;TZID=Europe/Budapest:20260101T080000
DTEND;TZID=Europe/Budapest:20260101T090000
SUMMARY:Szentmise
COLOR:#6699FF
RRULE:FREQ=WEEKLY;UNTIL=20260619T215959;BYDAY=TH,SA,SU
EXDATE;TZID=Europe/Budapest:20260618T220000
END:VEVENT
BEGIN:VEVENT
UID:98150-1142@miserend.hu
DTSTAMP:20260423T214329Z
DTSTART;TZID=Europe/Budapest:20260903T080000
DTEND;TZID=Europe/Budapest:20260903T090000
SUMMARY:Szentmise
COLOR:#6699FF
RRULE:FREQ=WEEKLY;UNTIL=20261231T225959;BYDAY=TH,SA,SU
EXDATE;TZID=Europe/Budapest:20261128T230000,20261129T230000,20261130T230000,20261201T230000,20261202T230000,20261203T230000,20261204T230000,20261205T230000,20261206T230000,20261207T230000,20261208T230000,20261209T230000,20261210T230000,20261211T230000,20261212T230000,20261213T230000,20261214T230000,20261215T230000,20261216T230000,20261217T230000,20261218T230000,20261219T230000,20261220T230000,20261221T230000,20261222T230000
END:VEVENT
BEGIN:VEVENT
UID:98151-1103@miserend.hu
DTSTAMP:20260423T214329Z
DTSTART;TZID=Europe/Budapest:20260104T093000
DTEND;TZID=Europe/Budapest:20260104T103000
SUMMARY:Szentmise
CATEGORIES:STUDENT
COLOR:#6699FF
RRULE:FREQ=WEEKLY;UNTIL=20260619T215959;BYDAY=SU
EXDATE;TZID=Europe/Budapest:20260618T220000
END:VEVENT
BEGIN:VEVENT
UID:98151-1142@miserend.hu
DTSTAMP:20260423T214329Z
DTSTART;TZID=Europe/Budapest:20260906T093000
DTEND;TZID=Europe/Budapest:20260906T103000
SUMMARY:Szentmise
CATEGORIES:STUDENT
COLOR:#6699FF
RRULE:FREQ=WEEKLY;UNTIL=20261231T225959;BYDAY=SU
EXDATE;TZID=Europe/Budapest:20261128T230000,20261129T230000,20261130T230000,20261201T230000,20261202T230000,20261203T230000,20261204T230000,20261205T230000,20261206T230000,20261207T230000,20261208T230000,20261209T230000,20261210T230000,20261211T230000,20261212T230000,20261213T230000,20261214T230000,20261215T230000,20261216T230000,20261217T230000,20261218T230000,20261219T230000,20261220T230000,20261221T230000,20261222T230000
END:VEVENT
BEGIN:VEVENT
UID:98152-1103@miserend.hu
DTSTAMP:20260423T214329Z
DTSTART;TZID=Europe/Budapest:20260104T110000
DTEND;TZID=Europe/Budapest:20260104T120000
SUMMARY:Szentmise
DESCRIPTION:Mise előtt litánia
COLOR:#6699FF
RRULE:FREQ=WEEKLY;UNTIL=20260619T215959;BYDAY=SU
EXDATE;TZID=Europe/Budapest:20260618T220000
END:VEVENT
BEGIN:VEVENT
UID:98152-1142@miserend.hu
DTSTAMP:20260423T214329Z
DTSTART;TZID=Europe/Budapest:20260906T110000
DTEND;TZID=Europe/Budapest:20260906T120000
SUMMARY:Szentmise
DESCRIPTION:Mise előtt litánia
COLOR:#6699FF
RRULE:FREQ=WEEKLY;UNTIL=20261231T225959;BYDAY=SU
EXDATE;TZID=Europe/Budapest:20261128T230000,20261129T230000,20261130T230000,20261201T230000,20261202T230000,20261203T230000,20261204T230000,20261205T230000,20261206T230000,20261207T230000,20261208T230000,20261209T230000,20261210T230000,20261211T230000,20261212T230000,20261213T230000,20261214T230000,20261215T230000,20261216T230000,20261217T230000,20261218T230000,20261219T230000,20261220T230000,20261221T230000,20261222T230000
END:VEVENT
BEGIN:VEVENT
UID:98138-1175@miserend.hu
DTSTAMP:20260423T214329Z
DTSTART;TZID=Europe/Budapest:20271129T060000
DTEND;TZID=Europe/Budapest:20271129T070000
SUMMARY:Szentmise
COLOR:#6A0DAD
RRULE:FREQ=WEEKLY;UNTIL=20271224T225959;BYDAY=MO,TU,WE,TH,FR,SA
END:VEVENT
BEGIN:VEVENT
UID:98139-1175@miserend.hu
DTSTAMP:20260423T214329Z
DTSTART;TZID=Europe/Budapest:20271128T080000
DTEND;TZID=Europe/Budapest:20271128T090000
SUMMARY:Szentmise
COLOR:#6A0DAD
RRULE:FREQ=WEEKLY;UNTIL=20271224T225959;BYDAY=SU
END:VEVENT
BEGIN:VEVENT
UID:98140-1175@miserend.hu
DTSTAMP:20260423T214329Z
DTSTART;TZID=Europe/Budapest:20271128T093000
DTEND;TZID=Europe/Budapest:20271128T103000
SUMMARY:Szentmise
CATEGORIES:STUDENT
COLOR:#6A0DAD
RRULE:FREQ=WEEKLY;UNTIL=20271224T225959;BYDAY=SU
END:VEVENT
BEGIN:VEVENT
UID:98141-1175@miserend.hu
DTSTAMP:20260423T214329Z
DTSTART;TZID=Europe/Budapest:20271128T110000
DTEND;TZID=Europe/Budapest:20271128T120000
SUMMARY:Szentmise
DESCRIPTION:Mise előtt litánia
COLOR:#6A0DAD
RRULE:FREQ=WEEKLY;UNTIL=20271224T225959;BYDAY=SU
END:VEVENT
BEGIN:VEVENT
UID:98142-1175@miserend.hu
DTSTAMP:20260423T214329Z
DTSTART;TZID=Europe/Budapest:20271128T180000
DTEND;TZID=Europe/Budapest:20271128T190000
SUMMARY:Szentmise
COLOR:#6A0DAD
RRULE:FREQ=WEEKLY;UNTIL=20271224T225959;BYDAY=SU
END:VEVENT
BEGIN:VEVENT
UID:98143-1174@miserend.hu
DTSTAMP:20260423T214329Z
DTSTART;TZID=Europe/Budapest:20270702T180000
DTEND;TZID=Europe/Budapest:20270702T190000
SUMMARY:Szentmise
COLOR:#FFCC66
RRULE:FREQ=WEEKLY;UNTIL=20270901T215959;BYDAY=MO,TU,FR
END:VEVENT
BEGIN:VEVENT
UID:98144-1174@miserend.hu
DTSTAMP:20260423T214329Z
DTSTART;TZID=Europe/Budapest:20270630T180000
DTEND;TZID=Europe/Budapest:20270630T190000
SUMMARY:Szentmise
DESCRIPTION:Mise után szentségimádás
COLOR:#FFCC66
RRULE:FREQ=WEEKLY;UNTIL=20270901T215959;BYDAY=WE
END:VEVENT
BEGIN:VEVENT
UID:98145-1174@miserend.hu
DTSTAMP:20260423T214329Z
DTSTART;TZID=Europe/Budapest:20270701T080000
DTEND;TZID=Europe/Budapest:20270701T090000
SUMMARY:Szentmise
COLOR:#FFCC66
RRULE:FREQ=WEEKLY;UNTIL=20270901T215959;BYDAY=TH,SA,SU
END:VEVENT
BEGIN:VEVENT
UID:98146-1174@miserend.hu
DTSTAMP:20260423T214329Z
DTSTART;TZID=Europe/Budapest:20270704T093000
DTEND;TZID=Europe/Budapest:20270704T103000
SUMMARY:Szentmise
CATEGORIES:STUDENT
COLOR:#FFCC66
RRULE:FREQ=WEEKLY;UNTIL=20270901T215959;BYDAY=SU
END:VEVENT
BEGIN:VEVENT
UID:98147-1174@miserend.hu
DTSTAMP:20260423T214329Z
DTSTART;TZID=Europe/Budapest:20270704T110000
DTEND;TZID=Europe/Budapest:20270704T120000
SUMMARY:Szentmise
DESCRIPTION:Mise előtt litánia
COLOR:#FFCC66
RRULE:FREQ=WEEKLY;UNTIL=20270901T215959;BYDAY=SU
END:VEVENT
BEGIN:VEVENT
UID:98148-1142@miserend.hu
DTSTAMP:20260423T214329Z
DTSTART;TZID=Europe/Budapest:20270101T180000
DTEND;TZID=Europe/Budapest:20270101T190000
SUMMARY:Szentmise
COLOR:#6699FF
RRULE:FREQ=WEEKLY;UNTIL=20270630T215959;BYDAY=MO,TU,FR,SU
EXDATE;TZID=Europe/Budapest:20270629T220000
END:VEVENT
BEGIN:VEVENT
UID:98149-1142@miserend.hu
DTSTAMP:20260423T214329Z
DTSTART;TZID=Europe/Budapest:20270106T180000
DTEND;TZID=Europe/Budapest:20270106T190000
SUMMARY:Szentmise
DESCRIPTION:Mise után szentségimádás
COLOR:#6699FF
RRULE:FREQ=WEEKLY;UNTIL=20270630T215959;BYDAY=WE
EXDATE;TZID=Europe/Budapest:20270629T220000
END:VEVENT
BEGIN:VEVENT
UID:98150-1142@miserend.hu
DTSTAMP:20260423T214329Z
DTSTART;TZID=Europe/Budapest:20270102T080000
DTEND;TZID=Europe/Budapest:20270102T090000
SUMMARY:Szentmise
COLOR:#6699FF
RRULE:FREQ=WEEKLY;UNTIL=20270630T215959;BYDAY=TH,SA,SU
EXDATE;TZID=Europe/Budapest:20270629T220000
END:VEVENT
BEGIN:VEVENT
UID:98151-1142@miserend.hu
DTSTAMP:20260423T214329Z
DTSTART;TZID=Europe/Budapest:20270103T093000
DTEND;TZID=Europe/Budapest:20270103T103000
SUMMARY:Szentmise
CATEGORIES:STUDENT
COLOR:#6699FF
RRULE:FREQ=WEEKLY;UNTIL=20270630T215959;BYDAY=SU
EXDATE;TZID=Europe/Budapest:20270629T220000
END:VEVENT
BEGIN:VEVENT
UID:98152-1142@miserend.hu
DTSTAMP:20260423T214329Z
DTSTART;TZID=Europe/Budapest:20270103T110000
DTEND;TZID=Europe/Budapest:20270103T120000
SUMMARY:Szentmise
DESCRIPTION:Mise előtt litánia
COLOR:#6699FF
RRULE:FREQ=WEEKLY;UNTIL=20270630T215959;BYDAY=SU
EXDATE;TZID=Europe/Budapest:20270629T220000
END:VEVENT
END:VCALENDAR