BEGIN:VCALENDAR
VERSION:2.0
PRODID:-//miserend.hu//600//HU
CALSCALE:GREGORIAN
METHOD:PUBLISH
X-WR-CALNAME:Szent Imre-templom (Kapucinus templom) - Tata
X-WR-CALDESC:Frissített miserend automatikusan
X-WR-TIMEZONE:Europe/Budapest
BEGIN:VTIMEZONE
TZID:Europe/Budapest
X-LIC-LOCATION:Europe/Budapest
BEGIN:DAYLIGHT
TZOFFSETFROM:+0100
TZOFFSETTO:+0200
TZNAME:CEST
DTSTART:19700329T020000
RRULE:FREQ=YEARLY;BYMONTH=3;BYDAY=-1SU
END:DAYLIGHT
BEGIN:STANDARD
TZOFFSETFROM:+0200
TZOFFSETTO:+0100
TZNAME:CET
DTSTART:19701025T030000
RRULE:FREQ=YEARLY;BYMONTH=10;BYDAY=-1SU
END:STANDARD
END:VTIMEZONE
BEGIN:VEVENT
UID:99906-1137@miserend.hu
DTSTAMP:20260420T141205Z
DTSTART;TZID=Europe/Budapest:20261130T060000
DTEND;TZID=Europe/Budapest:20261130T070000
SUMMARY:Szentmise
COLOR:#6A0DAD
RRULE:FREQ=WEEKLY;UNTIL=20261224T225959;BYDAY=MO,TU,WE,TH,FR,SA
END:VEVENT
BEGIN:VEVENT
UID:99907-1137@miserend.hu
DTSTAMP:20260420T141205Z
DTSTART;TZID=Europe/Budapest:20261205T180000
DTEND;TZID=Europe/Budapest:20261205T190000
SUMMARY:Szentmise
COLOR:#6A0DAD
RRULE:FREQ=WEEKLY;UNTIL=20261224T225959;BYDAY=SA
END:VEVENT
BEGIN:VEVENT
UID:99908-1137@miserend.hu
DTSTAMP:20260420T141205Z
DTSTART;TZID=Europe/Budapest:20261129T083000
DTEND;TZID=Europe/Budapest:20261129T093000
SUMMARY:Szentmise
COLOR:#6A0DAD
RRULE:FREQ=WEEKLY;UNTIL=20261224T225959;BYDAY=SU
END:VEVENT
BEGIN:VEVENT
UID:99909-1137@miserend.hu
DTSTAMP:20260420T141205Z
DTSTART;TZID=Europe/Budapest:20261129T180000
DTEND;TZID=Europe/Budapest:20261129T190000
SUMMARY:Szentmise
CATEGORIES:GUITAR
COLOR:#6A0DAD
RRULE:FREQ=WEEKLY;UNTIL=20261224T225959;BYDAY=SU
END:VEVENT
BEGIN:VEVENT
UID:99910-1137@miserend.hu
DTSTAMP:20260420T141205Z
DTSTART;TZID=Europe/Budapest:20261206T103000
DTEND;TZID=Europe/Budapest:20261206T113000
SUMMARY:Szent Liturgia
COLOR:#6A0DAD
RRULE:FREQ=MONTHLY;UNTIL=20261224T225959;BYSETPOS=1;BYDAY=SU
END:VEVENT
BEGIN:VEVENT
UID:99911-1135@miserend.hu
DTSTAMP:20260420T141205Z
DTSTART;TZID=Europe/Budapest:20260101T180000
DTEND;TZID=Europe/Budapest:20260101T184000
SUMMARY:Szentmise
COLOR:#CCCCCC
RRULE:FREQ=WEEKLY;UNTIL=20261231T225959;BYDAY=MO,WE,TH,FR
EXDATE;TZID=Europe/Budapest:20261128T230000,20261129T230000,20261130T230000,20261201T230000,20261202T230000,20261203T230000,20261204T230000,20261205T230000,20261206T230000,20261207T230000,20261208T230000,20261209T230000,20261210T230000,20261211T230000,20261212T230000,20261213T230000,20261214T230000,20261215T230000,20261216T230000,20261217T230000,20261218T230000,20261219T230000,20261220T230000,20261221T230000,20261222T230000
END:VEVENT
BEGIN:VEVENT
UID:99912-1135@miserend.hu
DTSTAMP:20260420T141205Z
DTSTART;TZID=Europe/Budapest:20260106T073000
DTEND;TZID=Europe/Budapest:20260106T080000
SUMMARY:Szentmise
COLOR:#CCCCCC
RRULE:FREQ=WEEKLY;UNTIL=20261231T225959;BYDAY=TU
EXDATE;TZID=Europe/Budapest:20261128T230000,20261129T230000,20261130T230000,20261201T230000,20261202T230000,20261203T230000,20261204T230000,20261205T230000,20261206T230000,20261207T230000,20261208T230000,20261209T230000,20261210T230000,20261211T230000,20261212T230000,20261213T230000,20261214T230000,20261215T230000,20261216T230000,20261217T230000,20261218T230000,20261219T230000,20261220T230000,20261221T230000,20261222T230000
END:VEVENT
BEGIN:VEVENT
UID:99913-1135@miserend.hu
DTSTAMP:20260420T141205Z
DTSTART;TZID=Europe/Budapest:20260104T083000
DTEND;TZID=Europe/Budapest:20260104T093000
SUMMARY:Szentmise
CATEGORIES:ORGAN
COLOR:#CCCCCC
RRULE:FREQ=WEEKLY;UNTIL=20261231T225959;BYDAY=SU
EXDATE;TZID=Europe/Budapest:20261128T230000,20261129T230000,20261130T230000,20261201T230000,20261202T230000,20261203T230000,20261204T230000,20261205T230000,20261206T230000,20261207T230000,20261208T230000,20261209T230000,20261210T230000,20261211T230000,20261212T230000,20261213T230000,20261214T230000,20261215T230000,20261216T230000,20261217T230000,20261218T230000,20261219T230000,20261220T230000,20261221T230000,20261222T230000
END:VEVENT
BEGIN:VEVENT
UID:99914-1135@miserend.hu
DTSTAMP:20260420T141205Z
DTSTART;TZID=Europe/Budapest:20260104T103000
DTEND;TZID=Europe/Budapest:20260104T113000
SUMMARY:Szent Liturgia
COLOR:#CCCCCC
RRULE:FREQ=MONTHLY;UNTIL=20261231T225959;BYSETPOS=1;BYDAY=SU
EXDATE;TZID=Europe/Budapest:20261128T230000,20261129T230000,20261130T230000,20261201T230000,20261202T230000,20261203T230000,20261204T230000,20261205T230000,20261206T230000,20261207T230000,20261208T230000,20261209T230000,20261210T230000,20261211T230000,20261212T230000,20261213T230000,20261214T230000,20261215T230000,20261216T230000,20261217T230000,20261218T230000,20261219T230000,20261220T230000,20261221T230000,20261222T230000
END:VEVENT
BEGIN:VEVENT
UID:99915-1135@miserend.hu
DTSTAMP:20260420T141205Z
DTSTART;TZID=Europe/Budapest:20260104T180000
DTEND;TZID=Europe/Budapest:20260104T190000
SUMMARY:Szentmise
CATEGORIES:GUITAR
COLOR:#CCCCCC
RRULE:FREQ=WEEKLY;UNTIL=20261231T225959;BYDAY=SU
EXDATE;TZID=Europe/Budapest:20261128T230000,20261129T230000,20261130T230000,20261201T230000,20261202T230000,20261203T230000,20261204T230000,20261205T230000,20261206T230000,20261207T230000,20261208T230000,20261209T230000,20261210T230000,20261211T230000,20261212T230000,20261213T230000,20261214T230000,20261215T230000,20261216T230000,20261217T230000,20261218T230000,20261219T230000,20261220T230000,20261221T230000,20261222T230000
END:VEVENT
BEGIN:VEVENT
UID:133584-1135@miserend.hu
DTSTAMP:20260420T141205Z
DTSTART;TZID=Europe/Budapest:20260103T180000
DTEND;TZID=Europe/Budapest:20260103T190000
SUMMARY:Szentmise
CATEGORIES:ORGAN
COLOR:#CCCCCC
RRULE:FREQ=WEEKLY;UNTIL=20261231T225959;BYDAY=SA
EXDATE;TZID=Europe/Budapest:20261128T230000,20261129T230000,20261130T230000,20261201T230000,20261202T230000,20261203T230000,20261204T230000,20261205T230000,20261206T230000,20261207T230000,20261208T230000,20261209T230000,20261210T230000,20261211T230000,20261212T230000,20261213T230000,20261214T230000,20261215T230000,20261216T230000,20261217T230000,20261218T230000,20261219T230000,20261220T230000,20261221T230000,20261222T230000
END:VEVENT
BEGIN:VEVENT
UID:133585-1135@miserend.hu
DTSTAMP:20260420T141205Z
DTSTART;TZID=Europe/Budapest:20260101T173000
DTEND;TZID=Europe/Budapest:20260101T180000
SUMMARY:Szentségimádás
CATEGORIES:SILENT
COLOR:#CCCCCC
RRULE:FREQ=WEEKLY;UNTIL=20261231T225959;BYDAY=MO,WE,TH,FR
EXDATE;TZID=Europe/Budapest:20261128T230000,20261129T230000,20261130T230000,20261201T230000,20261202T230000,20261203T230000,20261204T230000,20261205T230000,20261206T230000,20261207T230000,20261208T230000,20261209T230000,20261210T230000,20261211T230000,20261212T230000,20261213T230000,20261214T230000,20261215T230000,20261216T230000,20261217T230000,20261218T230000,20261219T230000,20261220T230000,20261221T230000,20261222T230000
END:VEVENT
BEGIN:VEVENT
UID:133586-1135@miserend.hu
DTSTAMP:20260420T141205Z
DTSTART;TZID=Europe/Budapest:20260106T070000
DTEND;TZID=Europe/Budapest:20260106T073000
SUMMARY:Szentségimádás
CATEGORIES:SILENT
COLOR:#CCCCCC
RRULE:FREQ=WEEKLY;UNTIL=20261231T225959;BYDAY=TU
EXDATE;TZID=Europe/Budapest:20261128T230000,20261129T230000,20261130T230000,20261201T230000,20261202T230000,20261203T230000,20261204T230000,20261205T230000,20261206T230000,20261207T230000,20261208T230000,20261209T230000,20261210T230000,20261211T230000,20261212T230000,20261213T230000,20261214T230000,20261215T230000,20261216T230000,20261217T230000,20261218T230000,20261219T230000,20261220T230000,20261221T230000,20261222T230000
END:VEVENT
BEGIN:VEVENT
UID:99906-1175@miserend.hu
DTSTAMP:20260420T141205Z
DTSTART;TZID=Europe/Budapest:20271129T060000
DTEND;TZID=Europe/Budapest:20271129T070000
SUMMARY:Szentmise
COLOR:#6A0DAD
RRULE:FREQ=WEEKLY;UNTIL=20271224T225959;BYDAY=MO,TU,WE,TH,FR,SA
END:VEVENT
BEGIN:VEVENT
UID:99907-1175@miserend.hu
DTSTAMP:20260420T141205Z
DTSTART;TZID=Europe/Budapest:20271204T180000
DTEND;TZID=Europe/Budapest:20271204T190000
SUMMARY:Szentmise
COLOR:#6A0DAD
RRULE:FREQ=WEEKLY;UNTIL=20271224T225959;BYDAY=SA
END:VEVENT
BEGIN:VEVENT
UID:99908-1175@miserend.hu
DTSTAMP:20260420T141205Z
DTSTART;TZID=Europe/Budapest:20271128T083000
DTEND;TZID=Europe/Budapest:20271128T093000
SUMMARY:Szentmise
COLOR:#6A0DAD
RRULE:FREQ=WEEKLY;UNTIL=20271224T225959;BYDAY=SU
END:VEVENT
BEGIN:VEVENT
UID:99909-1175@miserend.hu
DTSTAMP:20260420T141205Z
DTSTART;TZID=Europe/Budapest:20271128T180000
DTEND;TZID=Europe/Budapest:20271128T190000
SUMMARY:Szentmise
CATEGORIES:GUITAR
COLOR:#6A0DAD
RRULE:FREQ=WEEKLY;UNTIL=20271224T225959;BYDAY=SU
END:VEVENT
BEGIN:VEVENT
UID:99910-1175@miserend.hu
DTSTAMP:20260420T141205Z
DTSTART;TZID=Europe/Budapest:20271205T103000
DTEND;TZID=Europe/Budapest:20271205T113000
SUMMARY:Szent Liturgia
COLOR:#6A0DAD
RRULE:FREQ=MONTHLY;UNTIL=20271224T225959;BYSETPOS=1;BYDAY=SU
END:VEVENT
BEGIN:VEVENT
UID:99911-1173@miserend.hu
DTSTAMP:20260420T141205Z
DTSTART;TZID=Europe/Budapest:20270101T180000
DTEND;TZID=Europe/Budapest:20270101T184000
SUMMARY:Szentmise
COLOR:#CCCCCC
RRULE:FREQ=WEEKLY;UNTIL=20271231T225959;BYDAY=MO,WE,TH,FR
EXDATE;TZID=Europe/Budapest:20271127T230000,20271128T230000,20271129T230000,20271130T230000,20271201T230000,20271202T230000,20271203T230000,20271204T230000,20271205T230000,20271206T230000,20271207T230000,20271208T230000,20271209T230000,20271210T230000,20271211T230000,20271212T230000,20271213T230000,20271214T230000,20271215T230000,20271216T230000,20271217T230000,20271218T230000,20271219T230000,20271220T230000,20271221T230000,20271222T230000
END:VEVENT
BEGIN:VEVENT
UID:99912-1173@miserend.hu
DTSTAMP:20260420T141205Z
DTSTART;TZID=Europe/Budapest:20270105T073000
DTEND;TZID=Europe/Budapest:20270105T080000
SUMMARY:Szentmise
COLOR:#CCCCCC
RRULE:FREQ=WEEKLY;UNTIL=20271231T225959;BYDAY=TU
EXDATE;TZID=Europe/Budapest:20271127T230000,20271128T230000,20271129T230000,20271130T230000,20271201T230000,20271202T230000,20271203T230000,20271204T230000,20271205T230000,20271206T230000,20271207T230000,20271208T230000,20271209T230000,20271210T230000,20271211T230000,20271212T230000,20271213T230000,20271214T230000,20271215T230000,20271216T230000,20271217T230000,20271218T230000,20271219T230000,20271220T230000,20271221T230000,20271222T230000
END:VEVENT
BEGIN:VEVENT
UID:99913-1173@miserend.hu
DTSTAMP:20260420T141205Z
DTSTART;TZID=Europe/Budapest:20270103T083000
DTEND;TZID=Europe/Budapest:20270103T093000
SUMMARY:Szentmise
CATEGORIES:ORGAN
COLOR:#CCCCCC
RRULE:FREQ=WEEKLY;UNTIL=20271231T225959;BYDAY=SU
EXDATE;TZID=Europe/Budapest:20271127T230000,20271128T230000,20271129T230000,20271130T230000,20271201T230000,20271202T230000,20271203T230000,20271204T230000,20271205T230000,20271206T230000,20271207T230000,20271208T230000,20271209T230000,20271210T230000,20271211T230000,20271212T230000,20271213T230000,20271214T230000,20271215T230000,20271216T230000,20271217T230000,20271218T230000,20271219T230000,20271220T230000,20271221T230000,20271222T230000
END:VEVENT
BEGIN:VEVENT
UID:99914-1173@miserend.hu
DTSTAMP:20260420T141205Z
DTSTART;TZID=Europe/Budapest:20270103T103000
DTEND;TZID=Europe/Budapest:20270103T113000
SUMMARY:Szent Liturgia
COLOR:#CCCCCC
RRULE:FREQ=MONTHLY;UNTIL=20271231T225959;BYSETPOS=1;BYDAY=SU
EXDATE;TZID=Europe/Budapest:20271127T230000,20271128T230000,20271129T230000,20271130T230000,20271201T230000,20271202T230000,20271203T230000,20271204T230000,20271205T230000,20271206T230000,20271207T230000,20271208T230000,20271209T230000,20271210T230000,20271211T230000,20271212T230000,20271213T230000,20271214T230000,20271215T230000,20271216T230000,20271217T230000,20271218T230000,20271219T230000,20271220T230000,20271221T230000,20271222T230000
END:VEVENT
BEGIN:VEVENT
UID:99915-1173@miserend.hu
DTSTAMP:20260420T141205Z
DTSTART;TZID=Europe/Budapest:20270103T180000
DTEND;TZID=Europe/Budapest:20270103T190000
SUMMARY:Szentmise
CATEGORIES:GUITAR
COLOR:#CCCCCC
RRULE:FREQ=WEEKLY;UNTIL=20271231T225959;BYDAY=SU
EXDATE;TZID=Europe/Budapest:20271127T230000,20271128T230000,20271129T230000,20271130T230000,20271201T230000,20271202T230000,20271203T230000,20271204T230000,20271205T230000,20271206T230000,20271207T230000,20271208T230000,20271209T230000,20271210T230000,20271211T230000,20271212T230000,20271213T230000,20271214T230000,20271215T230000,20271216T230000,20271217T230000,20271218T230000,20271219T230000,20271220T230000,20271221T230000,20271222T230000
END:VEVENT
BEGIN:VEVENT
UID:133584-1173@miserend.hu
DTSTAMP:20260420T141205Z
DTSTART;TZID=Europe/Budapest:20270102T180000
DTEND;TZID=Europe/Budapest:20270102T190000
SUMMARY:Szentmise
CATEGORIES:ORGAN
COLOR:#CCCCCC
RRULE:FREQ=WEEKLY;UNTIL=20271231T225959;BYDAY=SA
EXDATE;TZID=Europe/Budapest:20271127T230000,20271128T230000,20271129T230000,20271130T230000,20271201T230000,20271202T230000,20271203T230000,20271204T230000,20271205T230000,20271206T230000,20271207T230000,20271208T230000,20271209T230000,20271210T230000,20271211T230000,20271212T230000,20271213T230000,20271214T230000,20271215T230000,20271216T230000,20271217T230000,20271218T230000,20271219T230000,20271220T230000,20271221T230000,20271222T230000
END:VEVENT
BEGIN:VEVENT
UID:133585-1173@miserend.hu
DTSTAMP:20260420T141205Z
DTSTART;TZID=Europe/Budapest:20270101T173000
DTEND;TZID=Europe/Budapest:20270101T180000
SUMMARY:Szentségimádás
CATEGORIES:SILENT
COLOR:#CCCCCC
RRULE:FREQ=WEEKLY;UNTIL=20271231T225959;BYDAY=MO,WE,TH,FR
EXDATE;TZID=Europe/Budapest:20271127T230000,20271128T230000,20271129T230000,20271130T230000,20271201T230000,20271202T230000,20271203T230000,20271204T230000,20271205T230000,20271206T230000,20271207T230000,20271208T230000,20271209T230000,20271210T230000,20271211T230000,20271212T230000,20271213T230000,20271214T230000,20271215T230000,20271216T230000,20271217T230000,20271218T230000,20271219T230000,20271220T230000,20271221T230000,20271222T230000
END:VEVENT
BEGIN:VEVENT
UID:133586-1173@miserend.hu
DTSTAMP:20260420T141205Z
DTSTART;TZID=Europe/Budapest:20270105T070000
DTEND;TZID=Europe/Budapest:20270105T073000
SUMMARY:Szentségimádás
CATEGORIES:SILENT
COLOR:#CCCCCC
RRULE:FREQ=WEEKLY;UNTIL=20271231T225959;BYDAY=TU
EXDATE;TZID=Europe/Budapest:20271127T230000,20271128T230000,20271129T230000,20271130T230000,20271201T230000,20271202T230000,20271203T230000,20271204T230000,20271205T230000,20271206T230000,20271207T230000,20271208T230000,20271209T230000,20271210T230000,20271211T230000,20271212T230000,20271213T230000,20271214T230000,20271215T230000,20271216T230000,20271217T230000,20271218T230000,20271219T230000,20271220T230000,20271221T230000,20271222T230000
END:VEVENT
END:VCALENDAR