BEGIN:VCALENDAR
VERSION:2.0
PRODID:-//miserend.hu//790//HU
CALSCALE:GREGORIAN
METHOD:PUBLISH
X-WR-CALNAME:Szent Imre-templom - Ebergőc
X-WR-CALDESC:Frissített miserend automatikusan
X-WR-TIMEZONE:Europe/Budapest
BEGIN:VTIMEZONE
TZID:Europe/Budapest
X-LIC-LOCATION:Europe/Budapest
BEGIN:DAYLIGHT
TZOFFSETFROM:+0100
TZOFFSETTO:+0200
TZNAME:CEST
DTSTART:19700329T020000
RRULE:FREQ=YEARLY;BYMONTH=3;BYDAY=-1SU
END:DAYLIGHT
BEGIN:STANDARD
TZOFFSETFROM:+0200
TZOFFSETTO:+0100
TZNAME:CET
DTSTART:19701025T030000
RRULE:FREQ=YEARLY;BYMONTH=10;BYDAY=-1SU
END:STANDARD
END:VTIMEZONE
BEGIN:VEVENT
UID:100450-1114@miserend.hu
DTSTAMP:20260425T144211Z
DTSTART;TZID=Europe/Budapest:20260405T093000
DTEND;TZID=Europe/Budapest:20260405T103000
SUMMARY:Szentmise
COLOR:#A8F5A8
RRULE:FREQ=WEEKLY;UNTIL=20260501T215959;BYDAY=SU
END:VEVENT
BEGIN:VEVENT
UID:100451-1110@miserend.hu
DTSTAMP:20260425T144211Z
DTSTART;TZID=Europe/Budapest:20260802T093000
DTEND;TZID=Europe/Budapest:20260802T103000
SUMMARY:Szentmise
COLOR:#FFB347
RRULE:FREQ=WEEKLY;UNTIL=20260901T215959;BYDAY=SU
END:VEVENT
BEGIN:VEVENT
UID:100452-1111@miserend.hu
DTSTAMP:20260425T144211Z
DTSTART;TZID=Europe/Budapest:20261206T093000
DTEND;TZID=Europe/Budapest:20261206T103000
SUMMARY:Szentmise
COLOR:#A7C8FF
RRULE:FREQ=WEEKLY;UNTIL=20261231T225959;BYDAY=SU
END:VEVENT
BEGIN:VEVENT
UID:100453-1116@miserend.hu
DTSTAMP:20260425T144211Z
DTSTART;TZID=Europe/Budapest:20260201T093000
DTEND;TZID=Europe/Budapest:20260201T103000
SUMMARY:Szentmise
COLOR:#8CC6FF
RRULE:FREQ=WEEKLY;UNTIL=20260301T225959;BYDAY=SU
END:VEVENT
BEGIN:VEVENT
UID:100454-1115@miserend.hu
DTSTAMP:20260425T144211Z
DTSTART;TZID=Europe/Budapest:20260103T163000
DTEND;TZID=Europe/Budapest:20260103T173000
SUMMARY:Szentmise
COLOR:#6EC6FF
RRULE:FREQ=WEEKLY;UNTIL=20260201T225959;BYDAY=SA
END:VEVENT
BEGIN:VEVENT
UID:100455-1119@miserend.hu
DTSTAMP:20260425T144211Z
DTSTART;TZID=Europe/Budapest:20260704T173000
DTEND;TZID=Europe/Budapest:20260704T183000
SUMMARY:Szentmise
COLOR:#FFD480
RRULE:FREQ=WEEKLY;UNTIL=20260801T215959;BYDAY=SA
END:VEVENT
BEGIN:VEVENT
UID:100456-1118@miserend.hu
DTSTAMP:20260425T144211Z
DTSTART;TZID=Europe/Budapest:20260607T093000
DTEND;TZID=Europe/Budapest:20260607T103000
SUMMARY:Szentmise
COLOR:#FFE680
RRULE:FREQ=WEEKLY;UNTIL=20260701T215959;BYDAY=SU
END:VEVENT
BEGIN:VEVENT
UID:100457-1107@miserend.hu
DTSTAMP:20260425T144211Z
DTSTART;TZID=Europe/Budapest:20260502T173000
DTEND;TZID=Europe/Budapest:20260502T183000
SUMMARY:Szentmise
COLOR:#B5FF85
RRULE:FREQ=WEEKLY;UNTIL=20260601T215959;BYDAY=SA
END:VEVENT
BEGIN:VEVENT
UID:100458-1117@miserend.hu
DTSTAMP:20260425T144211Z
DTSTART;TZID=Europe/Budapest:20260307T163000
DTEND;TZID=Europe/Budapest:20260307T173000
SUMMARY:Szentmise
COLOR:#98E89F
RRULE:FREQ=WEEKLY;UNTIL=20260401T215959;BYDAY=SA
END:VEVENT
BEGIN:VEVENT
UID:100459-1112@miserend.hu
DTSTAMP:20260425T144211Z
DTSTART;TZID=Europe/Budapest:20261107T163000
DTEND;TZID=Europe/Budapest:20261107T173000
SUMMARY:Szentmise
COLOR:#C6A1FF
RRULE:FREQ=WEEKLY;UNTIL=20261201T225959;BYDAY=SA
END:VEVENT
BEGIN:VEVENT
UID:100460-1108@miserend.hu
DTSTAMP:20260425T144211Z
DTSTART;TZID=Europe/Budapest:20261004T093000
DTEND;TZID=Europe/Budapest:20261004T103000
SUMMARY:Szentmise
COLOR:#FF944D
RRULE:FREQ=WEEKLY;UNTIL=20261101T225959;BYDAY=SU
END:VEVENT
BEGIN:VEVENT
UID:100461-1113@miserend.hu
DTSTAMP:20260425T144211Z
DTSTART;TZID=Europe/Budapest:20260905T173000
DTEND;TZID=Europe/Budapest:20260905T183000
SUMMARY:Szentmise
COLOR:#FFB266
RRULE:FREQ=WEEKLY;UNTIL=20261001T215959;BYDAY=SA
END:VEVENT
BEGIN:VEVENT
UID:100450-1153@miserend.hu
DTSTAMP:20260425T144211Z
DTSTART;TZID=Europe/Budapest:20270404T093000
DTEND;TZID=Europe/Budapest:20270404T103000
SUMMARY:Szentmise
COLOR:#A8F5A8
RRULE:FREQ=WEEKLY;UNTIL=20270501T215959;BYDAY=SU
END:VEVENT
BEGIN:VEVENT
UID:100451-1149@miserend.hu
DTSTAMP:20260425T144211Z
DTSTART;TZID=Europe/Budapest:20270801T093000
DTEND;TZID=Europe/Budapest:20270801T103000
SUMMARY:Szentmise
COLOR:#FFB347
RRULE:FREQ=WEEKLY;UNTIL=20270901T215959;BYDAY=SU
END:VEVENT
BEGIN:VEVENT
UID:100452-1150@miserend.hu
DTSTAMP:20260425T144211Z
DTSTART;TZID=Europe/Budapest:20271205T093000
DTEND;TZID=Europe/Budapest:20271205T103000
SUMMARY:Szentmise
COLOR:#A7C8FF
RRULE:FREQ=WEEKLY;UNTIL=20271231T225959;BYDAY=SU
END:VEVENT
BEGIN:VEVENT
UID:100453-1155@miserend.hu
DTSTAMP:20260425T144211Z
DTSTART;TZID=Europe/Budapest:20270207T093000
DTEND;TZID=Europe/Budapest:20270207T103000
SUMMARY:Szentmise
COLOR:#8CC6FF
RRULE:FREQ=WEEKLY;UNTIL=20270301T225959;BYDAY=SU
END:VEVENT
BEGIN:VEVENT
UID:100454-1154@miserend.hu
DTSTAMP:20260425T144211Z
DTSTART;TZID=Europe/Budapest:20270102T163000
DTEND;TZID=Europe/Budapest:20270102T173000
SUMMARY:Szentmise
COLOR:#6EC6FF
RRULE:FREQ=WEEKLY;UNTIL=20270201T225959;BYDAY=SA
END:VEVENT
BEGIN:VEVENT
UID:100455-1158@miserend.hu
DTSTAMP:20260425T144211Z
DTSTART;TZID=Europe/Budapest:20270703T173000
DTEND;TZID=Europe/Budapest:20270703T183000
SUMMARY:Szentmise
COLOR:#FFD480
RRULE:FREQ=WEEKLY;UNTIL=20270801T215959;BYDAY=SA
END:VEVENT
BEGIN:VEVENT
UID:100456-1157@miserend.hu
DTSTAMP:20260425T144211Z
DTSTART;TZID=Europe/Budapest:20270606T093000
DTEND;TZID=Europe/Budapest:20270606T103000
SUMMARY:Szentmise
COLOR:#FFE680
RRULE:FREQ=WEEKLY;UNTIL=20270701T215959;BYDAY=SU
END:VEVENT
BEGIN:VEVENT
UID:100457-1146@miserend.hu
DTSTAMP:20260425T144211Z
DTSTART;TZID=Europe/Budapest:20270501T173000
DTEND;TZID=Europe/Budapest:20270501T183000
SUMMARY:Szentmise
COLOR:#B5FF85
RRULE:FREQ=WEEKLY;UNTIL=20270601T215959;BYDAY=SA
END:VEVENT
BEGIN:VEVENT
UID:100458-1156@miserend.hu
DTSTAMP:20260425T144211Z
DTSTART;TZID=Europe/Budapest:20270306T163000
DTEND;TZID=Europe/Budapest:20270306T173000
SUMMARY:Szentmise
COLOR:#98E89F
RRULE:FREQ=WEEKLY;UNTIL=20270401T215959;BYDAY=SA
END:VEVENT
BEGIN:VEVENT
UID:100459-1151@miserend.hu
DTSTAMP:20260425T144211Z
DTSTART;TZID=Europe/Budapest:20271106T163000
DTEND;TZID=Europe/Budapest:20271106T173000
SUMMARY:Szentmise
COLOR:#C6A1FF
RRULE:FREQ=WEEKLY;UNTIL=20271201T225959;BYDAY=SA
END:VEVENT
BEGIN:VEVENT
UID:100460-1147@miserend.hu
DTSTAMP:20260425T144211Z
DTSTART;TZID=Europe/Budapest:20271003T093000
DTEND;TZID=Europe/Budapest:20271003T103000
SUMMARY:Szentmise
COLOR:#FF944D
RRULE:FREQ=WEEKLY;UNTIL=20271101T225959;BYDAY=SU
END:VEVENT
BEGIN:VEVENT
UID:100461-1152@miserend.hu
DTSTAMP:20260425T144211Z
DTSTART;TZID=Europe/Budapest:20270904T173000
DTEND;TZID=Europe/Budapest:20270904T183000
SUMMARY:Szentmise
COLOR:#FFB266
RRULE:FREQ=WEEKLY;UNTIL=20271001T215959;BYDAY=SA
END:VEVENT
END:VCALENDAR