BEGIN:VCALENDAR
VERSION:2.0
PRODID:-//miserend.hu//873//HU
CALSCALE:GREGORIAN
METHOD:PUBLISH
X-WR-CALNAME:Kisboldogasszony-kápolna (Vodicai (Máriakönnye) kápolna) - Baja
X-WR-CALDESC:Frissített miserend automatikusan
X-WR-TIMEZONE:Europe/Budapest
BEGIN:VTIMEZONE
TZID:Europe/Budapest
X-LIC-LOCATION:Europe/Budapest
BEGIN:DAYLIGHT
TZOFFSETFROM:+0100
TZOFFSETTO:+0200
TZNAME:CEST
DTSTART:19700329T020000
RRULE:FREQ=YEARLY;BYMONTH=3;BYDAY=-1SU
END:DAYLIGHT
BEGIN:STANDARD
TZOFFSETFROM:+0200
TZOFFSETTO:+0100
TZNAME:CET
DTSTART:19701025T030000
RRULE:FREQ=YEARLY;BYMONTH=10;BYDAY=-1SU
END:STANDARD
END:VTIMEZONE
BEGIN:VEVENT
UID:100795-1107@miserend.hu
DTSTAMP:20260425T151806Z
DTSTART;TZID=Europe/Budapest:20260502T160000
DTEND;TZID=Europe/Budapest:20260502T170000
SUMMARY:Szentmise
COLOR:#B5FF85
RRULE:FREQ=WEEKLY;UNTIL=20260601T215959;BYDAY=SA
END:VEVENT
BEGIN:VEVENT
UID:100795-1146@miserend.hu
DTSTAMP:20260425T151806Z
DTSTART;TZID=Europe/Budapest:20270501T160000
DTEND;TZID=Europe/Budapest:20270501T170000
SUMMARY:Szentmise
COLOR:#B5FF85
RRULE:FREQ=WEEKLY;UNTIL=20270601T215959;BYDAY=SA
END:VEVENT
END:VCALENDAR