BEGIN:VCALENDAR
VERSION:2.0
PRODID:-//miserend.hu//879//HU
CALSCALE:GREGORIAN
METHOD:PUBLISH
X-WR-CALNAME:Szent József-templom - Bátmonostor
X-WR-CALDESC:Frissített miserend automatikusan
X-WR-TIMEZONE:Europe/Budapest
BEGIN:VTIMEZONE
TZID:Europe/Budapest
X-LIC-LOCATION:Europe/Budapest
BEGIN:DAYLIGHT
TZOFFSETFROM:+0100
TZOFFSETTO:+0200
TZNAME:CEST
DTSTART:19700329T020000
RRULE:FREQ=YEARLY;BYMONTH=3;BYDAY=-1SU
END:DAYLIGHT
BEGIN:STANDARD
TZOFFSETFROM:+0200
TZOFFSETTO:+0100
TZNAME:CET
DTSTART:19701025T030000
RRULE:FREQ=YEARLY;BYMONTH=10;BYDAY=-1SU
END:STANDARD
END:VTIMEZONE
BEGIN:VEVENT
UID:100800-1134@miserend.hu
DTSTAMP:20260422T201046Z
DTSTART;TZID=Europe/Budapest:20260404T163000
DTEND;TZID=Europe/Budapest:20260404T173000
SUMMARY:Szentmise
DESCRIPTION:csak ha van miseszándék
COLOR:#FFD480
RRULE:FREQ=WEEKLY;UNTIL=20261025T225959;BYDAY=SA
END:VEVENT
BEGIN:VEVENT
UID:100801-1134@miserend.hu
DTSTAMP:20260422T201046Z
DTSTART;TZID=Europe/Budapest:20260329T084500
DTEND;TZID=Europe/Budapest:20260329T094500
SUMMARY:Szentmise
COLOR:#FFD480
RRULE:FREQ=WEEKLY;UNTIL=20261025T225959;BYDAY=SU
END:VEVENT
BEGIN:VEVENT
UID:100802-1134@miserend.hu
DTSTAMP:20260422T201046Z
DTSTART;TZID=Europe/Budapest:20260403T163000
DTEND;TZID=Europe/Budapest:20260403T173000
SUMMARY:Szentmise
DESCRIPTION:elsőpénteken
COLOR:#FFD480
RRULE:FREQ=MONTHLY;UNTIL=20261025T225959;BYSETPOS=1;BYDAY=FR
END:VEVENT
BEGIN:VEVENT
UID:100803-1094@miserend.hu
DTSTAMP:20260422T201046Z
DTSTART;TZID=Europe/Budapest:20260104T084500
DTEND;TZID=Europe/Budapest:20260104T094500
SUMMARY:Szentmise
COLOR:#6EC6FF
RRULE:FREQ=WEEKLY;UNTIL=20260329T215959;BYDAY=SU
EXDATE;TZID=Europe/Budapest:20260328T230000
END:VEVENT
BEGIN:VEVENT
UID:100803-1133@miserend.hu
DTSTAMP:20260422T201046Z
DTSTART;TZID=Europe/Budapest:20261025T084500
DTEND;TZID=Europe/Budapest:20261025T094500
SUMMARY:Szentmise
COLOR:#6EC6FF
RRULE:FREQ=WEEKLY;UNTIL=20261231T225959;BYDAY=SU
END:VEVENT
BEGIN:VEVENT
UID:100804-1094@miserend.hu
DTSTAMP:20260422T201046Z
DTSTART;TZID=Europe/Budapest:20260103T153000
DTEND;TZID=Europe/Budapest:20260103T163000
SUMMARY:Szentmise
DESCRIPTION:csak ha van miseszándék
COLOR:#6EC6FF
RRULE:FREQ=WEEKLY;UNTIL=20260329T215959;BYDAY=SA
EXDATE;TZID=Europe/Budapest:20260328T230000
END:VEVENT
BEGIN:VEVENT
UID:100804-1133@miserend.hu
DTSTAMP:20260422T201046Z
DTSTART;TZID=Europe/Budapest:20261031T153000
DTEND;TZID=Europe/Budapest:20261031T163000
SUMMARY:Szentmise
DESCRIPTION:csak ha van miseszándék
COLOR:#6EC6FF
RRULE:FREQ=WEEKLY;UNTIL=20261231T225959;BYDAY=SA
END:VEVENT
BEGIN:VEVENT
UID:100805-1094@miserend.hu
DTSTAMP:20260422T201046Z
DTSTART;TZID=Europe/Budapest:20260102T153000
DTEND;TZID=Europe/Budapest:20260102T163000
SUMMARY:Szentmise
DESCRIPTION:elsőpénteken
COLOR:#6EC6FF
RRULE:FREQ=WEEKLY;UNTIL=20260329T215959;BYDAY=FR
EXDATE;TZID=Europe/Budapest:20260328T230000
END:VEVENT
BEGIN:VEVENT
UID:100805-1133@miserend.hu
DTSTAMP:20260422T201046Z
DTSTART;TZID=Europe/Budapest:20261030T153000
DTEND;TZID=Europe/Budapest:20261030T163000
SUMMARY:Szentmise
DESCRIPTION:elsőpénteken
COLOR:#6EC6FF
RRULE:FREQ=WEEKLY;UNTIL=20261231T225959;BYDAY=FR
END:VEVENT
BEGIN:VEVENT
UID:100800-1172@miserend.hu
DTSTAMP:20260422T201046Z
DTSTART;TZID=Europe/Budapest:20270403T163000
DTEND;TZID=Europe/Budapest:20270403T173000
SUMMARY:Szentmise
DESCRIPTION:csak ha van miseszándék
COLOR:#FFD480
RRULE:FREQ=WEEKLY;UNTIL=20271031T225959;BYDAY=SA
END:VEVENT
BEGIN:VEVENT
UID:100801-1172@miserend.hu
DTSTAMP:20260422T201046Z
DTSTART;TZID=Europe/Budapest:20270328T084500
DTEND;TZID=Europe/Budapest:20270328T094500
SUMMARY:Szentmise
COLOR:#FFD480
RRULE:FREQ=WEEKLY;UNTIL=20271031T225959;BYDAY=SU
END:VEVENT
BEGIN:VEVENT
UID:100802-1172@miserend.hu
DTSTAMP:20260422T201046Z
DTSTART;TZID=Europe/Budapest:20270402T163000
DTEND;TZID=Europe/Budapest:20270402T173000
SUMMARY:Szentmise
DESCRIPTION:elsőpénteken
COLOR:#FFD480
RRULE:FREQ=MONTHLY;UNTIL=20271031T225959;BYSETPOS=1;BYDAY=FR
END:VEVENT
BEGIN:VEVENT
UID:100803-1133@miserend.hu
DTSTAMP:20260422T201046Z
DTSTART;TZID=Europe/Budapest:20270103T084500
DTEND;TZID=Europe/Budapest:20270103T094500
SUMMARY:Szentmise
COLOR:#6EC6FF
RRULE:FREQ=WEEKLY;UNTIL=20270328T215959;BYDAY=SU
EXDATE;TZID=Europe/Budapest:20270327T230000
END:VEVENT
BEGIN:VEVENT
UID:100804-1133@miserend.hu
DTSTAMP:20260422T201046Z
DTSTART;TZID=Europe/Budapest:20270102T153000
DTEND;TZID=Europe/Budapest:20270102T163000
SUMMARY:Szentmise
DESCRIPTION:csak ha van miseszándék
COLOR:#6EC6FF
RRULE:FREQ=WEEKLY;UNTIL=20270328T215959;BYDAY=SA
EXDATE;TZID=Europe/Budapest:20270327T230000
END:VEVENT
BEGIN:VEVENT
UID:100805-1133@miserend.hu
DTSTAMP:20260422T201046Z
DTSTART;TZID=Europe/Budapest:20270101T153000
DTEND;TZID=Europe/Budapest:20270101T163000
SUMMARY:Szentmise
DESCRIPTION:elsőpénteken
COLOR:#6EC6FF
RRULE:FREQ=WEEKLY;UNTIL=20270328T215959;BYDAY=FR
EXDATE;TZID=Europe/Budapest:20270327T230000
END:VEVENT
END:VCALENDAR