BEGIN:VCALENDAR
VERSION:2.0
PRODID:-//miserend.hu//917//HU
CALSCALE:GREGORIAN
METHOD:PUBLISH
X-WR-CALNAME:Szent Miklós-templom - Nagyoroszi
X-WR-CALDESC:Frissített miserend automatikusan
X-WR-TIMEZONE:Europe/Budapest
BEGIN:VTIMEZONE
TZID:Europe/Budapest
X-LIC-LOCATION:Europe/Budapest
BEGIN:DAYLIGHT
TZOFFSETFROM:+0100
TZOFFSETTO:+0200
TZNAME:CEST
DTSTART:19700329T020000
RRULE:FREQ=YEARLY;BYMONTH=3;BYDAY=-1SU
END:DAYLIGHT
BEGIN:STANDARD
TZOFFSETFROM:+0200
TZOFFSETTO:+0100
TZNAME:CET
DTSTART:19701025T030000
RRULE:FREQ=YEARLY;BYMONTH=10;BYDAY=-1SU
END:STANDARD
END:VTIMEZONE
BEGIN:VEVENT
UID:100908-1134@miserend.hu
DTSTAMP:20260423T002415Z
DTSTART;TZID=Europe/Budapest:20260329T100000
DTEND;TZID=Europe/Budapest:20260329T110000
SUMMARY:Szentmise
COLOR:#FFD480
RRULE:FREQ=WEEKLY;UNTIL=20261025T225959;BYDAY=SU
END:VEVENT
BEGIN:VEVENT
UID:100909-1134@miserend.hu
DTSTAMP:20260423T002415Z
DTSTART;TZID=Europe/Budapest:20260403T180000
DTEND;TZID=Europe/Budapest:20260403T190000
SUMMARY:Szentmise
COLOR:#FFD480
RRULE:FREQ=WEEKLY;UNTIL=20261025T225959;BYDAY=FR
END:VEVENT
BEGIN:VEVENT
UID:100910-1134@miserend.hu
DTSTAMP:20260423T002415Z
DTSTART;TZID=Europe/Budapest:20260402T180000
DTEND;TZID=Europe/Budapest:20260402T190000
SUMMARY:Szentségimádás
COLOR:#FFD480
RRULE:FREQ=WEEKLY;UNTIL=20261025T225959;BYDAY=TH
END:VEVENT
BEGIN:VEVENT
UID:100911-1094@miserend.hu
DTSTAMP:20260423T002415Z
DTSTART;TZID=Europe/Budapest:20260104T100000
DTEND;TZID=Europe/Budapest:20260104T110000
SUMMARY:Szentmise
COLOR:#6EC6FF
RRULE:FREQ=WEEKLY;UNTIL=20260329T215959;BYDAY=SU
EXDATE;TZID=Europe/Budapest:20260328T230000
END:VEVENT
BEGIN:VEVENT
UID:100911-1133@miserend.hu
DTSTAMP:20260423T002415Z
DTSTART;TZID=Europe/Budapest:20261025T100000
DTEND;TZID=Europe/Budapest:20261025T110000
SUMMARY:Szentmise
COLOR:#6EC6FF
RRULE:FREQ=WEEKLY;UNTIL=20261231T225959;BYDAY=SU
END:VEVENT
BEGIN:VEVENT
UID:100912-1094@miserend.hu
DTSTAMP:20260423T002415Z
DTSTART;TZID=Europe/Budapest:20260102T170000
DTEND;TZID=Europe/Budapest:20260102T173000
SUMMARY:Szentmise
COLOR:#6EC6FF
RRULE:FREQ=WEEKLY;UNTIL=20260329T215959;BYDAY=FR
EXDATE;TZID=Europe/Budapest:20260328T230000
END:VEVENT
BEGIN:VEVENT
UID:100912-1133@miserend.hu
DTSTAMP:20260423T002415Z
DTSTART;TZID=Europe/Budapest:20261030T170000
DTEND;TZID=Europe/Budapest:20261030T173000
SUMMARY:Szentmise
COLOR:#6EC6FF
RRULE:FREQ=WEEKLY;UNTIL=20261231T225959;BYDAY=FR
END:VEVENT
BEGIN:VEVENT
UID:100913-1094@miserend.hu
DTSTAMP:20260423T002415Z
DTSTART;TZID=Europe/Budapest:20260101T170000
DTEND;TZID=Europe/Budapest:20260101T180000
SUMMARY:Szentségimádás
COLOR:#6EC6FF
RRULE:FREQ=WEEKLY;UNTIL=20260329T215959;BYDAY=TH
EXDATE;TZID=Europe/Budapest:20260328T230000
END:VEVENT
BEGIN:VEVENT
UID:100913-1133@miserend.hu
DTSTAMP:20260423T002415Z
DTSTART;TZID=Europe/Budapest:20261029T170000
DTEND;TZID=Europe/Budapest:20261029T180000
SUMMARY:Szentségimádás
COLOR:#6EC6FF
RRULE:FREQ=WEEKLY;UNTIL=20261231T225959;BYDAY=TH
END:VEVENT
BEGIN:VEVENT
UID:100914-1094@miserend.hu
DTSTAMP:20260423T002415Z
DTSTART;TZID=Europe/Budapest:20260107T080000
DTEND;TZID=Europe/Budapest:20260107T083000
SUMMARY:Szentmise
COLOR:#6EC6FF
RRULE:FREQ=WEEKLY;UNTIL=20260329T215959;BYDAY=WE
EXDATE;TZID=Europe/Budapest:20260328T230000
END:VEVENT
BEGIN:VEVENT
UID:100914-1133@miserend.hu
DTSTAMP:20260423T002415Z
DTSTART;TZID=Europe/Budapest:20261028T080000
DTEND;TZID=Europe/Budapest:20261028T083000
SUMMARY:Szentmise
COLOR:#6EC6FF
RRULE:FREQ=WEEKLY;UNTIL=20261231T225959;BYDAY=WE
END:VEVENT
BEGIN:VEVENT
UID:100908-1172@miserend.hu
DTSTAMP:20260423T002415Z
DTSTART;TZID=Europe/Budapest:20270328T100000
DTEND;TZID=Europe/Budapest:20270328T110000
SUMMARY:Szentmise
COLOR:#FFD480
RRULE:FREQ=WEEKLY;UNTIL=20271031T225959;BYDAY=SU
END:VEVENT
BEGIN:VEVENT
UID:100909-1172@miserend.hu
DTSTAMP:20260423T002415Z
DTSTART;TZID=Europe/Budapest:20270402T180000
DTEND;TZID=Europe/Budapest:20270402T190000
SUMMARY:Szentmise
COLOR:#FFD480
RRULE:FREQ=WEEKLY;UNTIL=20271031T225959;BYDAY=FR
END:VEVENT
BEGIN:VEVENT
UID:100910-1172@miserend.hu
DTSTAMP:20260423T002415Z
DTSTART;TZID=Europe/Budapest:20270401T180000
DTEND;TZID=Europe/Budapest:20270401T190000
SUMMARY:Szentségimádás
COLOR:#FFD480
RRULE:FREQ=WEEKLY;UNTIL=20271031T225959;BYDAY=TH
END:VEVENT
BEGIN:VEVENT
UID:100911-1133@miserend.hu
DTSTAMP:20260423T002415Z
DTSTART;TZID=Europe/Budapest:20270103T100000
DTEND;TZID=Europe/Budapest:20270103T110000
SUMMARY:Szentmise
COLOR:#6EC6FF
RRULE:FREQ=WEEKLY;UNTIL=20270328T215959;BYDAY=SU
EXDATE;TZID=Europe/Budapest:20270327T230000
END:VEVENT
BEGIN:VEVENT
UID:100912-1133@miserend.hu
DTSTAMP:20260423T002415Z
DTSTART;TZID=Europe/Budapest:20270101T170000
DTEND;TZID=Europe/Budapest:20270101T173000
SUMMARY:Szentmise
COLOR:#6EC6FF
RRULE:FREQ=WEEKLY;UNTIL=20270328T215959;BYDAY=FR
EXDATE;TZID=Europe/Budapest:20270327T230000
END:VEVENT
BEGIN:VEVENT
UID:100913-1133@miserend.hu
DTSTAMP:20260423T002415Z
DTSTART;TZID=Europe/Budapest:20270107T170000
DTEND;TZID=Europe/Budapest:20270107T180000
SUMMARY:Szentségimádás
COLOR:#6EC6FF
RRULE:FREQ=WEEKLY;UNTIL=20270328T215959;BYDAY=TH
EXDATE;TZID=Europe/Budapest:20270327T230000
END:VEVENT
BEGIN:VEVENT
UID:100914-1133@miserend.hu
DTSTAMP:20260423T002415Z
DTSTART;TZID=Europe/Budapest:20270106T080000
DTEND;TZID=Europe/Budapest:20270106T083000
SUMMARY:Szentmise
COLOR:#6EC6FF
RRULE:FREQ=WEEKLY;UNTIL=20270328T215959;BYDAY=WE
EXDATE;TZID=Europe/Budapest:20270327T230000
END:VEVENT
END:VCALENDAR