BEGIN:VCALENDAR
VERSION:2.0
PRODID:-//miserend.hu//927//HU
CALSCALE:GREGORIAN
METHOD:PUBLISH
X-WR-CALNAME:Szentháromság-templom - Vaskút
X-WR-CALDESC:Frissített miserend automatikusan
X-WR-TIMEZONE:Europe/Budapest
BEGIN:VTIMEZONE
TZID:Europe/Budapest
X-LIC-LOCATION:Europe/Budapest
BEGIN:DAYLIGHT
TZOFFSETFROM:+0100
TZOFFSETTO:+0200
TZNAME:CEST
DTSTART:19700329T020000
RRULE:FREQ=YEARLY;BYMONTH=3;BYDAY=-1SU
END:DAYLIGHT
BEGIN:STANDARD
TZOFFSETFROM:+0200
TZOFFSETTO:+0100
TZNAME:CET
DTSTART:19701025T030000
RRULE:FREQ=YEARLY;BYMONTH=10;BYDAY=-1SU
END:STANDARD
END:VTIMEZONE
BEGIN:VEVENT
UID:100973-1134@miserend.hu
DTSTAMP:20260425T163206Z
DTSTART;TZID=Europe/Budapest:20260330T180000
DTEND;TZID=Europe/Budapest:20260330T190000
SUMMARY:Szentmise
COLOR:#FFD480
RRULE:FREQ=WEEKLY;UNTIL=20261025T225959;BYDAY=MO,TU,WE,TH,FR
END:VEVENT
BEGIN:VEVENT
UID:100974-1134@miserend.hu
DTSTAMP:20260425T163206Z
DTSTART;TZID=Europe/Budapest:20260329T090000
DTEND;TZID=Europe/Budapest:20260329T100000
SUMMARY:Szentmise
COLOR:#FFD480
RRULE:FREQ=WEEKLY;UNTIL=20261025T225959;BYDAY=SU
END:VEVENT
BEGIN:VEVENT
UID:100975-1094@miserend.hu
DTSTAMP:20260425T163206Z
DTSTART;TZID=Europe/Budapest:20260101T173000
DTEND;TZID=Europe/Budapest:20260101T183000
SUMMARY:Szentmise
COLOR:#6EC6FF
RRULE:FREQ=WEEKLY;UNTIL=20260329T215959;BYDAY=MO,TU,WE,TH
EXDATE;TZID=Europe/Budapest:20260328T230000
END:VEVENT
BEGIN:VEVENT
UID:100975-1133@miserend.hu
DTSTAMP:20260425T163206Z
DTSTART;TZID=Europe/Budapest:20261026T173000
DTEND;TZID=Europe/Budapest:20261026T183000
SUMMARY:Szentmise
COLOR:#6EC6FF
RRULE:FREQ=WEEKLY;UNTIL=20261231T225959;BYDAY=MO,TU,WE,TH
END:VEVENT
BEGIN:VEVENT
UID:100976-1094@miserend.hu
DTSTAMP:20260425T163206Z
DTSTART;TZID=Europe/Budapest:20260109T173000
DTEND;TZID=Europe/Budapest:20260109T183000
SUMMARY:Szentmise
DESCRIPTION:elsőpéntek kivételével
COLOR:#6EC6FF
RRULE:FREQ=MONTHLY;UNTIL=20260329T215959;BYSETPOS=2;BYDAY=FR
EXDATE;TZID=Europe/Budapest:20260328T230000
END:VEVENT
BEGIN:VEVENT
UID:100976-1133@miserend.hu
DTSTAMP:20260425T163206Z
DTSTART;TZID=Europe/Budapest:20261113T173000
DTEND;TZID=Europe/Budapest:20261113T183000
SUMMARY:Szentmise
DESCRIPTION:elsőpéntek kivételével
COLOR:#6EC6FF
RRULE:FREQ=MONTHLY;UNTIL=20261231T225959;BYSETPOS=2;BYDAY=FR
END:VEVENT
BEGIN:VEVENT
UID:100977-1094@miserend.hu
DTSTAMP:20260425T163206Z
DTSTART;TZID=Europe/Budapest:20260104T090000
DTEND;TZID=Europe/Budapest:20260104T100000
SUMMARY:Szentmise
COLOR:#6EC6FF
RRULE:FREQ=WEEKLY;UNTIL=20260329T215959;BYDAY=SU
EXDATE;TZID=Europe/Budapest:20260328T230000
END:VEVENT
BEGIN:VEVENT
UID:100977-1133@miserend.hu
DTSTAMP:20260425T163206Z
DTSTART;TZID=Europe/Budapest:20261025T090000
DTEND;TZID=Europe/Budapest:20261025T100000
SUMMARY:Szentmise
COLOR:#6EC6FF
RRULE:FREQ=WEEKLY;UNTIL=20261231T225959;BYDAY=SU
END:VEVENT
BEGIN:VEVENT
UID:100978-1094@miserend.hu
DTSTAMP:20260425T163206Z
DTSTART;TZID=Europe/Budapest:20260116T173000
DTEND;TZID=Europe/Budapest:20260116T183000
SUMMARY:Szentmise
DESCRIPTION:elsőpéntek kivételével
COLOR:#6EC6FF
RRULE:FREQ=MONTHLY;UNTIL=20260329T215959;BYSETPOS=3;BYDAY=FR
EXDATE;TZID=Europe/Budapest:20260328T230000
END:VEVENT
BEGIN:VEVENT
UID:100978-1133@miserend.hu
DTSTAMP:20260425T163206Z
DTSTART;TZID=Europe/Budapest:20261120T173000
DTEND;TZID=Europe/Budapest:20261120T183000
SUMMARY:Szentmise
DESCRIPTION:elsőpéntek kivételével
COLOR:#6EC6FF
RRULE:FREQ=MONTHLY;UNTIL=20261231T225959;BYSETPOS=3;BYDAY=FR
END:VEVENT
BEGIN:VEVENT
UID:100979-1094@miserend.hu
DTSTAMP:20260425T163206Z
DTSTART;TZID=Europe/Budapest:20260123T173000
DTEND;TZID=Europe/Budapest:20260123T183000
SUMMARY:Szentmise
DESCRIPTION:elsőpéntek kivételével
COLOR:#6EC6FF
RRULE:FREQ=MONTHLY;UNTIL=20260329T215959;BYSETPOS=4;BYDAY=FR
EXDATE;TZID=Europe/Budapest:20260328T230000
END:VEVENT
BEGIN:VEVENT
UID:100979-1133@miserend.hu
DTSTAMP:20260425T163206Z
DTSTART;TZID=Europe/Budapest:20261127T173000
DTEND;TZID=Europe/Budapest:20261127T183000
SUMMARY:Szentmise
DESCRIPTION:elsőpéntek kivételével
COLOR:#6EC6FF
RRULE:FREQ=MONTHLY;UNTIL=20261231T225959;BYSETPOS=4;BYDAY=FR
END:VEVENT
BEGIN:VEVENT
UID:100980-1094@miserend.hu
DTSTAMP:20260425T163206Z
DTSTART;TZID=Europe/Budapest:20260130T173000
DTEND;TZID=Europe/Budapest:20260130T183000
SUMMARY:Szentmise
DESCRIPTION:elsőpéntek kivételével
COLOR:#6EC6FF
RRULE:FREQ=MONTHLY;UNTIL=20260329T215959;BYSETPOS=5;BYDAY=FR
EXDATE;TZID=Europe/Budapest:20260328T230000
END:VEVENT
BEGIN:VEVENT
UID:100980-1133@miserend.hu
DTSTAMP:20260425T163206Z
DTSTART;TZID=Europe/Budapest:20261030T173000
DTEND;TZID=Europe/Budapest:20261030T183000
SUMMARY:Szentmise
DESCRIPTION:elsőpéntek kivételével
COLOR:#6EC6FF
RRULE:FREQ=MONTHLY;UNTIL=20261231T225959;BYSETPOS=5;BYDAY=FR
END:VEVENT
BEGIN:VEVENT
UID:100973-1172@miserend.hu
DTSTAMP:20260425T163206Z
DTSTART;TZID=Europe/Budapest:20270329T180000
DTEND;TZID=Europe/Budapest:20270329T190000
SUMMARY:Szentmise
COLOR:#FFD480
RRULE:FREQ=WEEKLY;UNTIL=20271031T225959;BYDAY=MO,TU,WE,TH,FR
END:VEVENT
BEGIN:VEVENT
UID:100974-1172@miserend.hu
DTSTAMP:20260425T163206Z
DTSTART;TZID=Europe/Budapest:20270328T090000
DTEND;TZID=Europe/Budapest:20270328T100000
SUMMARY:Szentmise
COLOR:#FFD480
RRULE:FREQ=WEEKLY;UNTIL=20271031T225959;BYDAY=SU
END:VEVENT
BEGIN:VEVENT
UID:100975-1133@miserend.hu
DTSTAMP:20260425T163206Z
DTSTART;TZID=Europe/Budapest:20270104T173000
DTEND;TZID=Europe/Budapest:20270104T183000
SUMMARY:Szentmise
COLOR:#6EC6FF
RRULE:FREQ=WEEKLY;UNTIL=20270328T215959;BYDAY=MO,TU,WE,TH
EXDATE;TZID=Europe/Budapest:20270327T230000
END:VEVENT
BEGIN:VEVENT
UID:100976-1133@miserend.hu
DTSTAMP:20260425T163206Z
DTSTART;TZID=Europe/Budapest:20270108T173000
DTEND;TZID=Europe/Budapest:20270108T183000
SUMMARY:Szentmise
DESCRIPTION:elsőpéntek kivételével
COLOR:#6EC6FF
RRULE:FREQ=MONTHLY;UNTIL=20270328T215959;BYSETPOS=2;BYDAY=FR
EXDATE;TZID=Europe/Budapest:20270327T230000
END:VEVENT
BEGIN:VEVENT
UID:100977-1133@miserend.hu
DTSTAMP:20260425T163206Z
DTSTART;TZID=Europe/Budapest:20270103T090000
DTEND;TZID=Europe/Budapest:20270103T100000
SUMMARY:Szentmise
COLOR:#6EC6FF
RRULE:FREQ=WEEKLY;UNTIL=20270328T215959;BYDAY=SU
EXDATE;TZID=Europe/Budapest:20270327T230000
END:VEVENT
BEGIN:VEVENT
UID:100978-1133@miserend.hu
DTSTAMP:20260425T163206Z
DTSTART;TZID=Europe/Budapest:20270115T173000
DTEND;TZID=Europe/Budapest:20270115T183000
SUMMARY:Szentmise
DESCRIPTION:elsőpéntek kivételével
COLOR:#6EC6FF
RRULE:FREQ=MONTHLY;UNTIL=20270328T215959;BYSETPOS=3;BYDAY=FR
EXDATE;TZID=Europe/Budapest:20270327T230000
END:VEVENT
BEGIN:VEVENT
UID:100979-1133@miserend.hu
DTSTAMP:20260425T163206Z
DTSTART;TZID=Europe/Budapest:20270122T173000
DTEND;TZID=Europe/Budapest:20270122T183000
SUMMARY:Szentmise
DESCRIPTION:elsőpéntek kivételével
COLOR:#6EC6FF
RRULE:FREQ=MONTHLY;UNTIL=20270328T215959;BYSETPOS=4;BYDAY=FR
EXDATE;TZID=Europe/Budapest:20270327T230000
END:VEVENT
BEGIN:VEVENT
UID:100980-1133@miserend.hu
DTSTAMP:20260425T163206Z
DTSTART;TZID=Europe/Budapest:20270129T173000
DTEND;TZID=Europe/Budapest:20270129T183000
SUMMARY:Szentmise
DESCRIPTION:elsőpéntek kivételével
COLOR:#6EC6FF
RRULE:FREQ=MONTHLY;UNTIL=20270328T215959;BYSETPOS=5;BYDAY=FR
EXDATE;TZID=Europe/Budapest:20270327T230000
END:VEVENT
END:VCALENDAR